BEGIN:VCALENDAR
VERSION:2.0
PRODID:-//wp-events-plugin.com//7.2.3.1//EN
TZID:Europe/Tallinn
X-WR-TIMEZONE:Europe/Tallinn
BEGIN:VEVENT
UID:476@merlemeitus.eu
DTSTART:20240710T080000Z
DTEND:20240710T180000Z
DTSTAMP:20240707T140719Z
URL:https://merlemeitus.eu/events/1339/
SUMMARY:Individuaalsed konstellatsioonid Rakveres
DESCRIPTION:Sündmus facebookis https://www.facebook.com/events/3673397530
 25127/367339756358460/\nKui oled otsinud erinevaid lahendusi või teraapia
 id oma probleemidele\, lahendamata teemadele elus või seletamatutele seis
 unditele kehas aga näed siiski\, et miski pole muutunud\, siis julgustan 
 Sind kogema konstellatsiooni meetodit\, mis võib olla elu muutev!\nINDIVI
 DUAALSED KONSTELLATSIOONID - ainult Sina ja Mina ja Energiaväli\, milles 
 on kogu Sinu suguvõsasüsteem. Sinu aeg\, Sulle loodud ruum\, usaldus…
 ….ja niiviisi vaikselt hakkavad lahti hargnema Sinu lood\, mida enda tea
 dmata kannad aga mis mingil moel häirivad sinu elu.\nKehamälus on kõik 
 see\, mis on Sind mingil elu perioodil raskelt mõjutanud ja jätnud oma j
 älje. Kui oled valmis kõike vaatama\, tunnistama ja vabastama oma kehast
 \, saad tagasi kerguse\, oma jõu ja väe ning Elu ja energia voolab jäll
 e Sinus.Individuaalne konstellatsioon on sobiv algus Sinu teekonnal\, kui 
 tunned\, et miski Sinu sees on valesti ja peab muutuma.\nKonstellatsioonis
  töötame hinge tasandiga. Hing on see\, mida me ei näe aga hing saab al
 ati kõige rohkem haiget. Konstellatsioon aitab Sul näha\, mis tegelikult
  on ja kui näed ja tunnistad\, siis tunnistamine ja aktsepteerimine toob 
 Sinu hinge rahu. Konstellatsiooni töös saab alati nähtavaks just see\, 
 mis on sellel hetkel inimese jaoks oluline ja täpselt niipalju\, kui inim
 ene sellel hetkel suudab vastu võtta.\nKui sa tunnetad korraks oma Hinge 
 – mis Sinu hinges toimub? Mis tunne Sind kannab – kas raskustunne või
  kergus?Mõnikord on nii\, et Sa isegi ei oska kirjeldada seda\, mis Sinu 
 sees parasjagu toimub\, seda seisundit.Sel juhul soovitan lihtsalt usaldad
 a seda energiavälja\, mis töö ajal hakkab suunama ja teeb nähtavaks ju
 st need pinge ja trauma kohad\, mis Sinu jaoks peab sellel hetkel nähtava
 ks saama. Neid kohti vabastades saab tulla hinge rahu ja koos hingerahuga 
 saab tulla rahu ka Sinu kehasse. Tunned\, kuidas kehasse tekib kergus ja r
 uum. Ja kui Sinu kehas on kergus ja ruum\, siis saavad tulla Sinu ellu muu
 tused\, mis on Elul Sinu jaoks ja ka Sul on Elule rohkem pakkuda.Sina ise 
 saad kõike muuta\, korda teha\, tervendada. Kui oled valmis nägema ja mu
 utma\, saad tagasi oma jõu ja väe\, sinu hing terveneb ja Elu ja energia
  voolab jälle Sinus.\n\nKonstellatsiooni töö kestab umbes 2 tundi ja hi
 nd on 150 eurot.Tasumine kohapeal sularahas.10. juuli:kell 10.00 kell 12.
 00 kell 14.30 aeg broneeritudkell 17.00 aeg broneeritudkell 19.00 aeg bro
 neeritud18. juuli:kell 10.00kell 12.00kell 15.00kell 17.00 aeg broneeritud
 kell 19.00 aeg broneeritudKui on soov teha individuaalset konstellatsiooni
 \, siis vali endale siit sobiv kuupäev ja kellaaeg ja kirjuta mulle. Mär
 gi ka millise teemaga tööd soovid ja kas oled varem konstellatsiooni tei
 nud.\nAsukoht Gustavi Maja\, Pikk 28\, Rakvere.\n\nOlen lõpetanud kaks pe
 rekonstellatsiooniõpet\, Moskva Nõustamis- ja Perepaigutuste instituudis
  ja rahvusvahelise konstellatsiooniõppe Eesti Konstellatsioonide Instituu
 dis\, teinud üle viie aasta grupi konstellatsioone ja individuaalseid tö
 id sadadele inimestele ja näinud imelisi muutusi. Enamus inimesi\, kes on
  minu juurde jõudnud on tulnud tuttava soovitusel\, kes on ise juba varem
  käinud ja muutusi kogenud.Aitäh kõigile\, kes on jaganud ja soovitanud
 !Teen konstellatsioone ka Jõgeval\, Viljandis ja Tartus.\n\nRõõmsate ko
 htumisteni ja Imelist Elu SulleMerle Meitussertifitseeritud perekonstellö
 ör\, EPKA liige\,täiendõpe rahvusvahelises konstellatsiooni õppes\,kog
 emusnõustaja\, 56 aastat elukogemust.merle.meitus@gmail.com\, tel 511 756
 3
END:VEVENT
END:VCALENDAR