BEGIN:VCALENDAR
VERSION:2.0
PRODID:-//wp-events-plugin.com//7.2.3.1//EN
TZID:Europe/Tallinn
X-WR-TIMEZONE:Europe/Tallinn
BEGIN:VEVENT
UID:257@merlemeitus.eu
DTSTART:20220925T170000Z
DTEND:20220925T193000Z
DTSTAMP:20220911T160423Z
URL:https://merlemeitus.eu/events/helidekoogi-maitserannak-kehale-ja-meelt
 ele-2/
SUMMARY:Helideköögi maitserännak kehale ja meeltele Jõgeval
DESCRIPTION:Helideköögi maitserännak kehale ja meeltele\nPühapäeval\, 
 25. septembril kell 19.00 Aasa tn 8\, Jõgeva.\nHelideköök pakub Sulle 
 õhtuse eine\, mille maitseid saad tunda läbi oma kõikide meelte. Tule n
 audi pakutavat helide maitset.\nMe tunneme füüsilise toidu maitset täie
 sti individuaalselt ja ainuomaselt.Sama on ka helide maitsetega. Üks või
 b sellest saada kiirtoiduelamuse\, teine naudib seda\, kui desserti\, kolm
 as saab samas sügava gurmee elamuse\, tunnetades erinevaid maitsenüansse
 . Mina kokkan erinevate helidega\, Sina oled oodatud "lauda".\nMenüüs on
  Tiibeti helikausist pakutav isutekitaja. Sellele järgneb šamaanitrummi 
 toitev kausitäis ning magustoiduks on koshi kellade kristallilised helina
 d.Tulles jäta ootused maha. Ootus seab piirangud. Lase meeltel tunda uusi
  maitseid.\nHelitoidu ainult mõned võimalikud mõjud\;\nKuna ajulainete 
 võnkumine muutub oluliselt aeglasemaks\, siis\na) tekib kergus ja tunned 
 ennast lõdvestunult\nb) võid jõuda une piirile ning tajuda teadvuse muu
 tuvat seisundit\nc) meeled ja tajud muutuvad\nd) emotsioonid naer\, nutt v
 õivad kerkida ülesse. Lase nad välja\, sest see ongi see koht\, kus sed
 a teha.Seega kui kuulete kellegi emotsioone jääge ikka endasse\, sest ru
 um on hoitud ja toetatud.\nSelle laua ääres pole toole ja üleüldse ei 
 pea Sa seal istuma. See on kõigile jõukohane praktika. Heliköögi ruumi
 s Sa lebad põrandal ja lihtsalt lubad endal olla ning tunnetuslikult naut
 ida. Riietu mugavalt\, võta kaasa lamamismatt\, tekk või pleed ning padi
 \, kui seda vajad.\nKohtume pühapäeval\, 25 septembril kell 19.00. Ole k
 ohal veidi varem. Arvesta 1\,5 kuni kahe tunniga. Naudime koosloomet ja ei
  sea jäika ajapiirangut.\nOsaluspanus 10 eurot.\nTasumine kohapeal sulara
 has.\nKöögis askeldab hobikokk Ivar Kriis.\nP.S Hiina logograafilises ki
 rjas on Kriis kahe hieroglüüfina. Üks tähendab ohtu\, teine võimalust
 . Sellest tulenevalt on oht ja võimalus saada helitoidu sõltuvus.\nAnna 
 märku osalemisest: e-post: kriisivar@gmail.com\, tel 5815 0230 või kirju
 ta Facebooki: Ivar Kriis.
END:VEVENT
END:VCALENDAR