BEGIN:VCALENDAR
VERSION:2.0
PRODID:-//wp-events-plugin.com//7.2.3.1//EN
TZID:Europe/Tallinn
X-WR-TIMEZONE:Europe/Tallinn
BEGIN:VEVENT
UID:425@merlemeitus.eu
DTSTART:20240204T090000Z
DTEND:20240204T190000Z
DTSTAMP:20240117T111715Z
URL:https://merlemeitus.eu/events/individuaalsed-konstellatsioonid-jogeval
 -12/
SUMMARY:Individuaalsed konstellatsioonid Jõgeval
DESCRIPTION:Sündmus facebookis https://www.facebook.com/events/7856312200
 56105/785631223389438\n\n💫INDIVIDUAALSED KONSTELLATSIOONID  - ainult S
 ina ja Mina ja Energiaväli\, milles on kogu Sinu suguvõsasüsteem. Sinu 
 aeg\, Sulle loodud ruum\, usaldus…….ja niiviisi vaikselt hakkavad laht
 i hargnema Sinu lood\, mida enda teadmata kannad aga mis mingil moel häir
 ivad sinu elu.\n\nKehamälus on kõik see\, mis on Sind mingil elu periood
 il raskelt mõjutanud ja jätnud oma jälje. Kui oled valmis kõike vaatam
 a\, tunnistama ja vabastama oma kehast\, saad tagasi kerguse\, oma jõu ja
  väe ning Elu ja energia voolab jälle Sinus.\n\nIndividuaalne konstellat
 sioon on sobiv algus Sinu teekonnal\, kui tunned\, et miski Sinu sees on v
 alesti ja peab muutuma.\n\nKonstellatsioonis töötame hinge tasandiga. Hi
 ng on see\, mida me ei näe aga hing saab alati kõige rohkem haiget. Kons
 tellatsioon aitab Sul näha\, mis tegelikult on ja kui näed ja tunnistad\
 , siis tunnistamine ja aktsepteerimine toob Sinu hinge rahu. Konstellatsio
 oni töös saab alati nähtavaks just see\, mis on sellel hetkel inimese j
 aoks oluline ja täpselt niipalju\, kui inimene sellel hetkel suudab vastu
  võtta.\n\nKui sa tunnetad korraks oma Hinge – mis Sinu hinges toimub? 
 Mis tunne Sind kannab – kas raskustunne või kergus?\n\nMõnikord on nii
 \, et Sa isegi ei oska kirjeldada seda\, mis Sinu sees parasjagu toimub\, 
 seda seisundit.\n\nSel juhul soovitan lihtsalt usaldada seda energiavälja
 \, mis töö ajal hakkab suunama ja teeb nähtavaks just need pinge ja tra
 uma kohad\, mis Sinu jaoks peab sellel hetkel nähtavaks saama.\n\nNeid ko
 hti vabastades saab tulla hinge rahu ja koos hingerahuga saab tulla rahu k
 a Sinu kehasse. Tunned\, kuidas kehasse tekib kergus ja ruum. Ja kui Sinu 
 kehas on kergus ja ruum\, siis saavad tulla Sinu ellu muutused\, mis on El
 ul Sinu jaoks ja ka Sul on Elule rohkem pakkuda.\n\nSina ise saad kõike m
 uuta\, korda teha\, tervendada. Kui oled valmis nägema ja muutma\, saad t
 agasi oma jõu ja väe\, sinu hing terveneb ja Elu ja energia voolab jäll
 e Sinus.\n\nKonstellatsiooni töö kestab umbes 2 tundi ja hind on 130 eur
 ot.\n\nKui on soov teha individuaalset konstellatsiooni\, siis vali endale
  siit sobiv kuupäev ja kellaaeg ja kirjuta mulle. Märgi ka millise teema
 ga tööd soovid ja kas oled varem konstellatsiooni teinud.\n\nPühapäeva
 d 4. ja 18. veebruar Jõgeval\, Aasa tn 8:\n\nkell 11.00\n\nkell 14.00\n\n
 kell 17.00\n\nkell 19.30\n\nRõõmsate kohtumisteni ja Imelist Elu Sulle
 💫\n\nMerle Meitus\n\nsertifitseeritud perekonstellöör\, EPKA liige\,\
 n\ntäiendõpe rahvusvahelises konstellatsiooni õppes\,\n\nkogemusnõusta
 ja\, 56 aastat elukogemust.\n\nmerle.meitus@gmail.com\, tel 511 7563\n\n&n
 bsp\;\n\n&nbsp\;\n\n&nbsp\;
END:VEVENT
END:VCALENDAR