BEGIN:VCALENDAR
VERSION:2.0
PRODID:-//wp-events-plugin.com//7.2.3.1//EN
TZID:Europe/Tallinn
X-WR-TIMEZONE:Europe/Tallinn
BEGIN:VEVENT
UID:665@merlemeitus.eu
DTSTART;TZID=Europe/Tallinn:20250804T090000
DTEND;TZID=Europe/Tallinn:20250804T180000
DTSTAMP:20250726T105857Z
URL:https://merlemeitus.eu/events/individuaalsed-konstellatsioonid-jogeval
 -16/
SUMMARY:Individuaalsed konstellatsioonid Jõgeval
DESCRIPTION:Sündmus fecabookis:https://www.facebook.com/events/18203008818
 49014/1820300891849013\n\nIndividuaalsete konstellatsioonide ajad lähiaja
 l Jõgeval:\n\n30.07\, 1.08\, 4.08\, 11.08\, 25.08\, 27.08\, 29.08\, 30.08
  ja 31.08.\n\nVali sobiv kuupäev ja lepime kokku kellaaja. Vajadusel on k
 a teised võimalused.\n\nAsukoht: Aasa 8\, Jõgeva.\n\n&nbsp\;\n\nIndividu
 aalne konstellatsioon sobib ideaalselt\, kui soovid oma teemasid lahendada
  privaatselt – Sinu aeg\, Sulle loodud ruum\, usaldus…….ja niiviisi 
 vaikselt hakkavad lahti hargnema Sinu lood\, mida enda teadmata kannad.\n\
 nVõid julgelt tulla mis iganes teemaga\, mis sind kuidagi häirib – nim
 eta see just nii nagu sina tunned.\n\n&nbsp\;\n\nVõib-olla on need sassi 
 läinud suhted lastega\, vanematega\, partneriga\, probleemid tööl\, är
 evushäired\, paanikahood\, hirmud\, vihahood\, masendus\, haigused\, depr
 essioon\, sõltuvused\, enesetapumõtted\, seletamatu raskustunne kehas\, 
 tunne\, et ma ei tea\, kes ma olen ja kuhu kuulun …. seda loetelu võib 
 pikalt jätkata.\n\nSee on kõik see\, millega puutun kokku igapäevaselt 
 konstellatsiooni töödes – teemad\, millega inimesed tulevad.\n\n&nbsp\
 ;\n\nKõik need seisundid on tagajärg millelegi\, mis on juhtunud pärito
 lu peres\, lapsepõlves ja lisaks kõik see\, mida alateadlikult kanname o
 ma esivanemate eest – korduvad mustrid\, peidetud tunded\, süütunded\,
  hirmud\, lõimumised esivanematega.\n\nLäbi alateadlike sidemete võime 
 olla seotud meile eelnenud põlvkondade raskete saatustega. See kõik taki
 stab aga elujõu voolamist ja kaotame elurõõmu. Kõik see on kehamälus.
 \n\n&nbsp\;\n\nIsegi väiksena või tähtsusetuna tunduval teemal\, mis on
  jäänud lahendamata võib-olla suur tagajärg sellele\, mis toimub hetke
 l sinu elus.\n\nKusagil sinu energiaväljas on pinge\, mis ei lase elul ja
  energial voolata.\n\n&nbsp\;\n\nVõib ka olla nii\, et oled juba teinud m
 õne konkreetse teemaga konstellatsiooni ja on toimunud mingid muutused ag
 a justkui päris õiget lahendust veel pole. Mõnikord ei ole võimalik j
 õuda kohe kõige sügavama kihini ehk juurpõhjuseni enne\, kui selle pea
 l olevad kihid on lahendatud.\n\nOlen seda palju töödes näinud\, kuidas
  liigume kihtide haaval\, anname igale lahendusele aega\, et siis jälle s
 aab avaneda järgmine teema või kiht\, mida inimene kannab.\n\n&nbsp\;\n\
 nKui sa pole veel teinud ühtegi konstellatsioonitööd\, siis julgustan s
 ind alustama kõige olulisemast – vaadata millise koha peal sa üldse om
 a peresüsteemis asud. Kui sa pole oma õige koha peal mõjutab see väga 
 oluliselt kõike seda\, mis toimub sinu elus. Ja seda esineb väga tihti i
 gas vanuses inimeste töödes\, et kantakse seniajani pilti lapsepõlvest.
  Kuigi olen täiskasvanu aga olen ikka oma vanemate vahel või olen vanema
 test ära lõigatud\, ka partneri koht võib olla kinni ja õigel kaaslase
 l pole kohta. Kui saad oma õigele kohale\, siis justkui kasvad\, tuleb ru
 um ja kergus.\n\n&nbsp\;\n\nOled oodatud oma teemadega – me kõik kannam
 e midagi. Kes vähem\, kes rohkem\, kes on avatud\, et seda kõike vaadata
 \, kes on valmis veel kandma ja kannatama.\n\nSamuti kannavad paljutki ka 
 lapsed. Ka sellele on lahendused.\n\n&nbsp\;\n\nTeemasid\, mida konstellat
 siooni meetodiga vaadata ja lahendada saab on palju\, võib isegi öelda\,
  et kõike:\n\n*Pingelised või katkenud suhted vanematega\, lastega\, lä
 hedastega\, partneriga.\n\n*Tervisega seotud teemad.\n\n*Alkoholism\, sõl
 tuvused.\n\n*Iseenda sisemiste osade tasakaalustamine (olen ennast ära ka
 otanud).\n\n*Kõik see\, mis on juhtunud minevikus\, päritoluperes ja kui
 das see mõjutab meid siiamaani.\n\n*Suguvõsa süsteem on meie energeetil
 ine selgroog. Kas ma olen sellega ühenduses? Mida ma kannan süsteemi ees
 t?\n\n*Kas ma olen ikka veel väike laps?\n\n*Külluse ja rahulolu suurend
 amine oma elus.\n\n*Tööga\, rahaga seotud teemad.\n\n*Tunne\, et miski t
 akistab edasi liikuda.\n\n*Naiselikkuse või mehelikkusega seotud teemad.\
 n\n*Ja mis iganes teema või seletamatu seisund on üles kerkinud.\n\n&nbs
 p\;\n\nKui tundsid\, et see kõnetas\, siis on see sulle vajalik ja olulin
 e. Usalda tunnet enda sees!\n\nKonstellatsiooni töö kestab umbes 2 tundi
  ja hind on 180 eurot.\n\nSee on sinu investeering iseendasse. Tasumine ko
 hapeal sularahas.\n\n&nbsp\;\n\nTasumisel töö eest eelnevalt kodulehe e-
 poe kaudu\, on võimalik kasutada Inbanki järelmaksu. Link e-poodi:\n\nht
 tps://merlemeitus.eu/tootekategooria/konstellatsioonid/\n\n&nbsp\;\n\nKui 
 on töö soov\, siis kirjuta ja märgi millise teemaga tööd soovid ja ka
 s oled varem konstellatsiooni teinud.\n\n&nbsp\;\n\nMinu töötamise viis 
 on tunnetuslik\, rahulik\, õrn ja puudutav. Hoian turvalist ruumi ja anna
 n aega protsessidele\, mis parasjagu toimuvad kliendis\, et siis õigel he
 tkel rahulikult edasi liikuda.\n\n&nbsp\;\n\nHuvitavat lugemist konstellat
 siooni töödest\, mis võivad ehk kõnetada saab lugeda minu kodulehe blo
 gist: https://merlemeitus.eu/blogi/\n\n&nbsp\;\n\nTeen individuaalseid ko
 nstellatsioone ka Tartus\, kuupäevad on näha kodulehe kalendris.\n\nJõg
 eval toimuvad kord kuus pühapäeviti ka grupi konstellatsioonide töötoa
 d. Kuupäevad ilmuvad kodulehe kalendris.\n\n&nbsp\;\n\nOlen lõpetanud ka
 ks perekonstellatsiooni õpet\, Moskva Nõustamis- ja Perepaigutuste Insti
 tuudis ja rahvusvahelise konstellatsiooni õppe Eesti Konstellatsioonide I
 nstituudis. Olen osalenud erinevatel rahvusvahelistel konstellatsiooni int
 ensiivkursustel\, et kogeda ja õppida maailmas tuntud konstellööridelt.
 \n\nNüüdseks olen teinud seitse aastat grupi konstellatsioone ja individ
 uaalseid töid vähemalt tuhandele inimesele ja näinud imelisi muutusi. E
 namus\, kes on minu juurde jõudnud on tulnud tuttava soovitusel\, kes on 
 ise juba varem käinud ja muutusi kogenud.\n\nPakun ka Sulle võimalust!\n
 \n&nbsp\;\n\nOlen enesearengu teejuht\, perekonstellöör. Minu fookus on 
 kohalolul\, hinge tervenemisel ja sisemisel vabadusel.\n\nMulle on oluline
  jagada seda\, mida olen ise kogenud\, seda\, mis päris Elus toimub\, mit
 te raamatutarkust. Minu töö ühendab meditatsioonid\, konstellatsiooni m
 eetodi\, kus hing saab terveneda ja nõustamise\, et teha nähtavaks suure
 m pilt\, mida me muidu ei näe. See avardab sisemist vaadet ja loob täies
 ti uue koha sinu sees.\n\nOma kohaloluga loon ruume\, kus saab rahuneda\, 
 tekib kontakt iseendaga ja aeg\, kus saad iseennast päriselt kuulata.\n\n
 Minu tööd kannab pehmus\, sügav kohalolu ja südame avatus. Aastate joo
 ksul olen toetanud inimesi sisemise liikumise teekonnal\, nii individuaals
 es töös\, kui ka grupi ruumides\, tehes seda julgelt\, soojalt ja siiral
 t.\n\nMul on rõõm ka Sinuga ühel hetkel kohtuda!\n\n&nbsp\;\n\nMerle Me
 itus\n\nmerle.meitus@gmail.com\, tel 511 7563\n\nsertifitseeritud perekons
 tellöör\, EPKA liige\,\n\nkogemusnõustaja (rasked lahkuminekud\, kaotus
 ed) Täpsem info: https://merlemeitus.eu/kogemusnoustamine/\n\n57 aastat e
 lukogemust
END:VEVENT
BEGIN:VTIMEZONE
TZID:Europe/Tallinn
X-LIC-LOCATION:Europe/Tallinn
BEGIN:DAYLIGHT
DTSTART:20250330T040000
TZOFFSETFROM:+0200
TZOFFSETTO:+0300
TZNAME:EEST
END:DAYLIGHT
END:VTIMEZONE
END:VCALENDAR