BEGIN:VCALENDAR
VERSION:2.0
PRODID:-//wp-events-plugin.com//7.2.3.1//EN
TZID:Europe/Tallinn
X-WR-TIMEZONE:Europe/Tallinn
BEGIN:VEVENT
UID:247@merlemeitus.eu
DTSTART:20220917T080000Z
DTEND:20220917T130000Z
DTSTAMP:20220901T090151Z
URL:https://merlemeitus.eu/events/individuaalsed-konstellatsioonid-jogeval
 -3/
SUMMARY:Individuaalsed konstellatsioonid Jõgeval
DESCRIPTION:Individuaalsed konstellatsioonid Jõgeval 17. septembril.\nVali
  endale sobiv aeg ja kirjuta mulle e-post: merle.meitus@gmail.com.\nKirjut
 a\, kas oled varem konstellatsiooni teinud ja mis teemaga tööd soovid.\n
 Kui siin ei ole Sulle sobivat aega\, saame selle leida kas Jõgeval või T
 artus.\n\nVali aeg 17. septembril:\nkell 10.00 – 12.00\nkell 13.00 – 1
 5.00\nIndividuaalne konstellatsioon on sobiv algus Sinu teekonnal\, kui tu
 nned\, et miski Sinu sees on valesti ja peab muutuma.\nMõnikord on nii\, 
 et Sa isegi ei oska kirjeldada seda\, mis Sinu sees parasjagu toimub.\nSel
  juhul soovitan lihtsalt usaldada seda energiavälja\, mis töö ajal hakk
 ab suunama ja teeb nähtavaks just need pinge ja trauma kohad\, mis Sinu j
 aoks peab sellel hetkel nähtavaks saama. Neid kohti vabastades saab tulla
  hinge rahu ja koos hingerahuga saab tulla rahu ka Sinu kehasse. Siis saav
 ad tulla ka Sinu ellu muutused\, mis on Sulle Elu poolt määratud aga pol
 e saanud tulla.\n\nKonstellatsioonis töötame hinge tasandiga. Hing on se
 e\, mida me ei näe aga hing saab alati kõige rohkem haiget. Konstellatsi
 oon aitab Sul näha\, mis tegelikult on ja kui näed ja tunnistad\, siis t
 unnistamine ja aktsepteerimine toob Sinu hinge rahu. Konstellatsiooni tö
 ös saab alati nähtavaks just see\, mis on sellel hetkel inimese jaoks ol
 uline ja täpselt niipalju\, kui inimene sellel hetkel suudab vastu võtta
 .\nOled Sa märganud\, mis Sinu hinges toimub? Kas sinu hing on rahul\, te
 rve\, õnnelik või on seal mure\, kurbus ja valu. Mis tunne sind kannab 
 – kas raskustunne või kergus?\nKui sinu hingel on raske\, valus ja kurb
 \, siis\, mis on see teema sinu sees\, mis seda tunnet hoiab? Tunned\, et 
 oled sellest juba väsinud ja hing on kurnatud\, jõud hakkab kaduma. Kas 
 soovid seda vabastada või endas edasi kanda?\nSina ise saad seda muuta\, 
 korda teha\, tervendada. Kui oled valmis nägema ja muutma\, saad tagasi j
 õu ja sinu hing terveneb.\n\nTöö kestab umbes 2 tundi ja hind on 90 eur
 ot.\nTasumine kohapeal sularahas.\nTöö toimub Aasa tn 8\, Jõgeva linn.\
 nSinuga töötab sertifitseeritud perekonstellöör Merle Meitus\, tel 511
  7563
END:VEVENT
END:VCALENDAR