BEGIN:VCALENDAR
VERSION:2.0
PRODID:-//wp-events-plugin.com//7.2.3.1//EN
TZID:Europe/Tallinn
X-WR-TIMEZONE:Europe/Tallinn
BEGIN:VEVENT
UID:473@merlemeitus.eu
DTSTART:20240615T090000Z
DTEND:20240615T180000Z
DTSTAMP:20240528T153025Z
URL:https://merlemeitus.eu/events/individuaalsed-konstellatsioonid-nadalav
 ahetusel-jogeval-10/
SUMMARY:Individuaalsed konstellatsioonid nädalavahetusel Jõgeval
DESCRIPTION:Sündmus facebookis https://www.facebook.com/events/1129386738
 321183/1129386748321182\nKui Sulle ei sobi tööpäevad\, saad sobiva aja 
 valida nädalavahetusel!Kui oled otsinud erinevaid lahendusi või teraapia
 id oma probleemidele\, lahendamata teemadele elus või seletamatutele seis
 unditele kehas aga näed siiski\, et miski pole muutunud\, siis julgustan 
 Sind kogema konstellatsiooni meetodit\, mis võib olla elu muutev!INDIVIDU
 AALSED KONSTELLATSIOONID - ainult Sina ja Mina ja Energiaväli\, milles on
  kogu Sinu suguvõsasüsteem. Sinu aeg\, Sulle loodud ruum\, usaldus……
 .ja niiviisi vaikselt hakkavad lahti hargnema Sinu lood\, mida enda teadma
 ta kannad aga mis mingil moel häirivad sinu elu.Kehamälus on kõik see\,
  mis on Sind mingil elu perioodil raskelt mõjutanud ja jätnud oma jälje
 . Kui oled valmis kõike vaatama\, tunnistama ja vabastama oma kehast\, sa
 ad tagasi kerguse\, oma jõu ja väe ning Elu ja energia voolab jälle Sin
 us.Individuaalne konstellatsioon on sobiv algus Sinu teekonnal\, kui tunne
 d\, et miski Sinu sees on valesti ja peab muutuma.Konstellatsioonis tööt
 ame hinge tasandiga. Hing on see\, mida me ei näe aga hing saab alati kõ
 ige rohkem haiget. Konstellatsioon aitab Sul näha\, mis tegelikult on ja 
 kui näed ja tunnistad\, siis tunnistamine ja aktsepteerimine toob Sinu hi
 nge rahu. Konstellatsiooni töös saab alati nähtavaks just see\, mis on 
 sellel hetkel inimese jaoks oluline ja täpselt niipalju\, kui inimene sel
 lel hetkel suudab vastu võtta.Kui sa tunnetad korraks oma Hinge – mis S
 inu hinges toimub? Mis tunne Sind kannab – kas raskustunne või kergus?M
 õnikord on nii\, et Sa isegi ei oska kirjeldada seda\, mis Sinu sees para
 sjagu toimub\, seda seisundit.Sel juhul soovitan lihtsalt usaldada seda en
 ergiavälja\, mis töö ajal hakkab suunama ja teeb nähtavaks just need p
 inge ja trauma kohad\, mis Sinu jaoks peab sellel hetkel nähtavaks saama.
 Neid kohti vabastades saab tulla hinge rahu ja koos hingerahuga saab tulla
  rahu ka Sinu kehasse. Tunned\, kuidas kehasse tekib kergus ja ruum. Ja ku
 i Sinu kehas on kergus ja ruum\, siis saavad tulla Sinu ellu muutused\, mi
 s on Elul Sinu jaoks ja ka Sul on Elule rohkem pakkuda.Sina ise saad kõik
 e muuta\, korda teha\, tervendada. Kui oled valmis nägema ja muutma\, saa
 d tagasi oma jõu ja väe\, sinu hing terveneb ja Elu ja energia voolab j
 älle Sinus.\nKonstellatsiooni töö kestab umbes 2 tundi ja hind on 140 e
 urot.Tasumine kohapeal sularahas.\nKui on soov teha individuaalset konstel
 latsiooni\, siis vali endale siit sobiv kuupäev\, kellaaeg ja kirjuta mul
 le. Märgi ka millise teemaga tööd soovid ja kas oled varem konstellatsi
 ooni teinud.\nLaupäev 8. juuni\, laupäev 15. juuni ja laupäev 29. juuni
  Jõgeval\, Aasa tn 8. Kellaajad kõigil päevadel:kell 11.00kell 14.00kel
 l 17.00kell 19.00\nRõõmsate kohtumisteni ja Imelist Elu SulleMerle Meitu
 ssertifitseeritud perekonstellöör\, EPKA liige\,täiendõpe rahvusvaheli
 ses konstellatsiooni õppes\,kogemusnõustaja\, 56 aastat elukogemust.merl
 e.meitus@gmail.com\, tel 511 7563
END:VEVENT
END:VCALENDAR