BEGIN:VCALENDAR
VERSION:2.0
PRODID:-//wp-events-plugin.com//7.2.3.1//EN
TZID:Europe/Tallinn
X-WR-TIMEZONE:Europe/Tallinn
BEGIN:VEVENT
UID:521@merlemeitus.eu
DTSTART:20241027T080000Z
DTEND:20241027T170000Z
DTSTAMP:20240924T172311Z
URL:https://merlemeitus.eu/events/individuaalsed-konstellatsioonid-nadalav
 ahetusel-jogeval-15/
SUMMARY:Individuaalsed konstellatsioonid nädalavahetusel Jõgeval
DESCRIPTION:Sündmus facebookis:https://www.facebook.com/events/88551993972
 2604/885519956389269\nKui soovid individuaalset konstellatsiooni aga ei so
 bi kuidagi tööpäevad\, siis nädalavahetustel on selleks võimalus Kesk
 -Eestis\, Jõgeval.Oktoobrikuus: 5.10\, 6.10\, 12.10 ja 27.10.Vali endale 
 sobiv kuupäev ja lepime kokku kellaaja. Muud ajad on kokkuleppel.\n\nKui 
 oled otsinud erinevaid lahendusi või teraapiaid oma probleemidele\, lahen
 damata teemadele elus või seletamatutele seisunditele kehas aga näed sii
 ski\, et miski pole muutunud\, siis julgustan sind kogema konstellatsiooni
  meetodit.\nSee on meetod\, millega liigume kõige sügavamatesse kihtides
 se kehamälus\, jõuame juurpõhjuseni sellele\, mida alateadlikult kannam
 e ja mis võib väga häirida elada kerguses.\nTihti kliendid ka ise ütle
 vad\, et tunnevad justkui kannavad seletamatut raskust\, kõik ebaõnnestu
 b.\nEnamjaolt on põhjus süsteemne\, kanname raskust kellegi eest\, kas p
 äritoluperest või suguvõsa süsteemist\, olles lojaalne või lõimunud 
 kellegiga süsteemist. Kanname esivanemate raskust või kordame mustreid. 
 Tihti väljenduvad lahendamata jäänud teemad füüsilise haigusena. Niik
 aua\, kui kanname seda nähtamatut\, ei saa elus midagi muutuda. See energ
 ia hoiab kinni ja pole võimalik vaadata oma elu poole.\nSee kõik\, mis t
 öö käigus nähtavaks saab võib olla väga üllatav.\nKonstellatsioonis
  töötame peresüsteemiga ja see on väga oluline. Iga tehtud tööga ter
 vendad ja tasakaalustad midagi oma süsteemis – ja see on hea.\nKonstell
 atsioonis on rõhuasetus hinge tervenemisel ja lihtsusel\, vabastada see\,
  mida kannad\, et kergus ja armastus saaks taas voolata.Kui hinge tuleb ra
 hu\, saab ka keha rahusse ja terveneda.Julgen öelda\, et konstellatsiooni
 s terveneb tõesti nii hing\, kui keha. Olen näinud ka\, kuidas kõik ene
 rgiakeskused on pärast tööd avanenud ja nii saabki keha isetervendav s
 üsteem hakata taas toimima.\n\nMinu töötamise viis on tunnetuslik\, rah
 ulik\, õrn ja puudutav\, kliendikeskne. Hoian turvalist ruumi ja annan ae
 ga protsessidele\, mis parasjagu toimuvad kliendis\, et siis õigel hetkel
  rahulikult edasi liikuda.\nKonstellatsiooni saab teha iga teemaga. Sõnas
 tad enda jaoks selle nii\, et mis on see\, mis sind hetkel või juba pikem
 at aega elus kõige rohkem häirib.T𝐞𝐞𝐦𝐚𝐬𝐢𝐝\, 𝐦
 𝐢𝐝𝐚 𝐤𝐨𝐧𝐬𝐭𝐞𝐥𝐥𝐚𝐭𝐬𝐢𝐨𝐨𝐧
 𝐢 𝐦𝐞𝐞𝐭𝐨𝐝𝐢𝐠𝐚 𝐥𝐚𝐡𝐞𝐧𝐝𝐚𝐝
 𝐚 𝐬𝐚𝐚𝐛 𝐨𝐧 𝐩𝐚𝐥𝐣𝐮:*Pingelised või katke
 nud suhted vanematega\, lastega\, lähedastega\, partneriga.*Tervisega seo
 tud teemad.*Iseenda sisemiste osade tasakaalustamine (olen ennast ära kao
 tanud).*Kõik see\, mis on juhtunud minevikus\, päritoluperes ja kuidas s
 ee mõjutab meid siiamaani.*Suguvõsa süsteem on meie energeetiline selgr
 oog. Kas ma olen sellega ühenduses? Mida ma kannan süsteemi eest?*Kas ma
  olen ikka veel väike laps?*Külluse ja rahulolu suurendamine oma elus.*T
 ööga seotud teemad.*Tunne\, et miski takistab edasi liikuda.*Naiselikkus
 e või mehelikkusega seotud teemad.*Ja mis iganes teema või seletamatu se
 isund on üles kerkinud.\n\nRohkem infot https://merlemeitus.eu/konstella
 tsioonid/Huvitavat infot ka: https://merlemeitus.eu/blogi/\nKui tundsid\,
  et see sind kõnetas\, siis järelikult on see sulle vajalik ja oluline. 
 Usalda tunnet enda sees!\nKonstellatsiooni töö kestab umbes 2 tundi ja h
 ind on 150 eurot.Tasumine kohapeal sularahas.\n\nTeen individuaalseid kons
 tellatsioone ka noortele alates 14 eluaastast\, eelneval kokkuleppel lapse
 vanemaga (kuni 18.a on hind 120.-).\n\nOlen lõpetanud kaks perekonstellat
 siooni õpet\, Moskva Nõustamis- ja Perepaigutuste Instituudis ja rahvusv
 ahelise konstellatsiooni õppe Eesti Konstellatsioonide Instituudis\, osal
 enud erinevatel rahvusvahelistel konstellatsiooni intensiivkursustel.\nNü
 üdseks olen teinud üle kuue aasta grupi konstellatsioone ja individuaals
 eid töid sadadele inimestele ja näinud imelisi muutusi. Enamus inimesi\,
  kes on minu juurde jõudnud on tulnud tuttava soovitusel\, kes on ise jub
 a varem käinud ja muutusi kogenud.Pakun ka Sulle võimalust!Ava ennast ke
 rgusele!\n\nMerle Meitusmerle.meitus@gmail.com\, tel 5117563sertifitseerit
 ud perekonstellöör\, EPKA liige\,täiendõpe rahvusvahelises konstellats
 iooni õppes\,kogemusnõustaja\, 57 aastat elukogemust.
END:VEVENT
END:VCALENDAR