BEGIN:VCALENDAR
VERSION:2.0
PRODID:-//wp-events-plugin.com//7.2.3.1//EN
TZID:Europe/Tallinn
X-WR-TIMEZONE:Europe/Tallinn
BEGIN:VEVENT
UID:554@merlemeitus.eu
DTSTART:20241215T090000Z
DTEND:20241215T150000Z
DTSTAMP:20241129T101611Z
URL:https://merlemeitus.eu/events/individuaalsed-konstellatsioonid-nadalav
 ahetusel-jogeval-19/
SUMMARY:Individuaalsed konstellatsioonid nädalavahetusel Jõgeval
DESCRIPTION:Sündmus facebookis: https://www.facebook.com/events/477305245
 369651/477305262036316\n\nKui soovid individuaalset konstellatsiooni aga e
 i sobi kuidagi tööpäevad\, siis nädalavahetustel on selleks võimalus 
 Kesk-Eestis\, Jõgeval.\n\nDetsembrikuus 7.12\, 14.12 ja 15.12.\n\nVali en
 dale sobiv kuupäev ja lepime kokku kellaaja. Muud ajad Jõgeval on samuti
  kokkuleppel.\n\nRongiühendus Tallin – Tartu on siia väga hea\, raudte
 ejaamast tulles võtab aega 15. minutit. Soovi korral tulen jaama vastu.\n
 \nIndividuaalne konstellatsioon sobib ideaalselt\, kui soovid oma teemasid
  lahendada privaatselt - Sinu aeg\, Sulle loodud ruum\, usaldus…….ja n
 iiviisi vaikselt hakkavad lahti hargnema Sinu lood\, mida enda teadmata ka
 nnad.\n\nVõid julgelt tulla mis iganes teemaga\, mis sind kuidagi häirib
  – nimeta see just nii nagu sina tunned.\n\nVõib-olla on need sassi lä
 inud suhted lastega\, vanematega\, partneriga\, probleemid tööl\, ärevu
 shäired\, paanikahood\, hirmud\, vihahood\, masendus\, haigused\, depress
 ioon\, sõltuvused\, enesetapumõtted\, seletamatu raskustunne kehas\, tun
 ne\, et ma ei tea\, kes ma olen ja kuhu kuulun\, erinevad isiksushäired
 …. seda loetelu võib veel pikalt jätkata.\n\nSee on kõik see\, milleg
 a puutun kokku igapäevaselt konstellatsiooni töödes - teemad\, millega 
 inimesed tulevad.\n\nSeletus sellele on väga lihtne. Kõik need seisundid
  on tagajärg millelegi\, mis on juhtunud päritolu peres\, lapsepõlves j
 a lisaks kõik see\, mida alateadlikult kanname oma esivanemate eest - kor
 duvad mustrid\, peidetud tunded\, süütunded\, hirmud\, foobiad. Läbi al
 ateadlike sidemete võime olla seotud meile eelnenud põlvkondade raskete 
 saatustega. See kõik takistab aga elujõu voolamist ja kaotame elurõõmu
 . Kõik see on kehamälus.\n\nIsegi väiksena või tähtsusetuna tunduval 
 teemal\, mis on jäänud lahendamata võib-olla suur tagajärg sellele\, m
 is toimub hetkel sinu elus. Kusagil sinu energiaväljas on pinge\, mis ei 
 lase elul ja energial voolata.\n\nVõib ka olla nii\, et oled juba teinud 
 mõne konkreetse teemaga konstellatsiooni ja on toimunud mingid muutused a
 ga justkui päris õiget lahendust veel pole. Näen ka seda tihti. Seletus
  sellele on lihtne. Tihti ei ole võimalik jõuda kohe kõige sügavama ki
 hini ehk juurpõhjuseni enne\, kui selle peal olevad kihid on lahendatud. 
 Olen seda palju töödes näinud\, kuidas liigume kihtide haaval\, anname 
 igale lahendusele aega\, et siis jälle saab avaneda järgmine teema või 
 kiht\, mida inimene kannab.\n\nKui sa pole veel teinud ühtegi konstellats
 ioonitööd\, siis julgustan sind alustama kõige olulisemast – vaadata 
 millise koha peal sa üldse oma peresüsteemis asud. Kui sa pole oma õige
  koha peal mõjutab see väga oluliselt kõike seda\, mis toimub sinu elus
 . Ja seda esineb väga tihti igas vanuses inimeste töödes\, et kantakse 
 seniajani pilti lapsepõlvest. Kuigi olen täiskasvanu aga olen ikka oma v
 anemate vahel või olen vanematest ära lõigatud\, ka partneri koht võib
  olla kinni ja õigel kaaslasel pole kohta. Kui saad oma õigele kohale\, 
 siis justkui kasvad\, tuleb ruum ja kergus.\n\nOled oodatud oma teemadega 
 - me kõik kanname midagi. Kes vähem\, kes rohkem\, kes on avatud\, et se
 da kõike vaadata\, kes on valmis veel kandma ja kannatama.\n\nSamuti kann
 avad paljutki ka lapsed. Ka sellele on lahendused.\n\nTeemasid\, mida kons
 tellatsiooni meetodiga vaadata ja lahendada saab on palju\, võib isegi ö
 elda\, et kõike:\n\n*Pingelised või katkenud suhted vanematega\, lastega
 \, lähedastega\, partneriga.\n\n*Tervisega seotud teemad.\n\n*Iseenda sis
 emiste osade tasakaalustamine (olen ennast ära kaotanud).\n\n*Kõik see\,
  mis on juhtunud minevikus\, päritoluperes ja kuidas see mõjutab meid si
 iamaani.\n\n*Suguvõsa süsteem on meie energeetiline selgroog. Kas ma ole
 n sellega ühenduses? Mida ma kannan süsteemi eest?\n\n*Kas ma olen ikka 
 veel väike laps?\n\n*Külluse ja rahulolu suurendamine oma elus.\n\n*Tö
 öga seotud teemad.\n\n*Tunne\, et miski takistab edasi liikuda.\n\n*Naise
 likkuse või mehelikkusega seotud teemad.\n\n*Ja mis iganes teema või sel
 etamatu seisund on üles kerkinud.\n\nRohkem infot https://merlemeitus.eu/
 konstellatsioonid/\n\nKonstellatsiooni töödest ja rohkem psüühika-ja i
 siksusehäirete kohta peresüsteemides saab lugeda minu kodulehe blogist:
  https://merlemeitus.eu/blogi/\n\nKui tundsid\, et see sind kõnetas\, si
 is järelikult on see sulle vajalik ja oluline. Usalda tunnet enda sees!\n
 \nKonstellatsiooni töö kestab umbes 2 tundi ja hind on 150 eurot.\n\nTas
 umine kohapeal sularahas.\n\nTeen individuaalseid konstellatsioone ka noor
 tele alates 14 eluaastast\, eelneval kokkuleppel lapsevanemaga (kuni 18.a 
 on hind 120.-).\n\nKui on töö soov\, siis kirjuta mulle. Märgi ka milli
 se teemaga tööd soovid ja kas oled varem konstellatsiooni teinud.\n\nMin
 u töötamise viis on tunnetuslik\, rahulik\, õrn ja puudutav\, kliendike
 skne. Hoian turvalist ruumi ja annan aega protsessidele\, mis parasjagu to
 imuvad kliendis\, et siis õigel hetkel rahulikult edasi liikuda.\n\nTeen 
 individuaalseid konstellatsioone ka:\n\n*Individuaalsed konstellatsioonid 
 Tartus ja Jõgeval\, kokkuleppel.\n\n*Individuaalseid konstellatsioone tee
 n ka Viljandis ja Rakveres. Kuupäevad ilmuvad minu kodulehe kalendris: ht
 tps://merlemeitus.eu/\n\n&nbsp\;\n\nOlen lõpetanud kaks perekonstellatsio
 oni õpet\, Moskva Nõustamis- ja Perepaigutuste Instituudis ja rahvusvahe
 lise konstellatsiooni õppe Eesti Konstellatsioonide Instituudis. Olen osa
 lenud erinevatel rahvusvahelistel konstellatsiooni intensiivkursustel\, et
  kogeda ja õppida maailmas tuntud konstellööridelt.\n\nNüüdseks olen 
 teinud seitse aastat grupi konstellatsioone ja individuaalseid töid sadad
 ele inimestele ja näinud imelisi muutusi. Enamus inimesi\, kes on minu ju
 urde jõudnud on tulnud tuttava soovitusel\, kes on ise juba varem käinud
  ja muutusi kogenud.\n\nPakun ka Sulle võimalust!\n\nAva ennast kergusele
 !\n\nMerle Meitus\n\nmerle.meitus@gmail.com\, tel 5117563\n\nsertifitseeri
 tud perekonstellöör\, EPKA liige\,\n\ntäiendõpe rahvusvahelises konste
 llatsiooni õppes\,\n\nkogemusnõustaja (rasked lahkuminekud\, kaotused) T
 äpsem info: https://merlemeitus.eu/kogemusnoustamine/\n\n57 aastat elukog
 emust.\n\nMinust rohkem kodulehel\, vaata ja tunneta!
END:VEVENT
END:VCALENDAR