BEGIN:VCALENDAR
VERSION:2.0
PRODID:-//wp-events-plugin.com//7.2.3.1//EN
TZID:Europe/Tallinn
X-WR-TIMEZONE:Europe/Tallinn
BEGIN:VEVENT
UID:614@merlemeitus.eu
DTSTART;TZID=Europe/Tallinn:20250426T110000
DTEND;TZID=Europe/Tallinn:20250426T180000
DTSTAMP:20250321T145816Z
URL:https://merlemeitus.eu/events/individuaalsed-konstellatsioonid-nadalav
 ahetusel-jogeval-31/
SUMMARY:Individuaalsed konstellatsioonid nädalavahetusel\, Jõgeval
DESCRIPTION:Sündmus facebookis https://www.facebook.com/events/1313494026
 609090/1313494046609088\nKui soovid individuaalset konstellatsiooni aga ei
  sobi kuidagi tööpäevad\, siis nädalavahetustel on selleks võimalus K
 esk-Eestis\, Jõgeval.Aprillikuus 5.04\, 12.04\, 19.04\, 20.04\, 26.04 ja 
 27.04.Vali endale sobiv kuupäev ja lepime kokku kellaaja. Tööpäevadel 
 on ajad Jõgeval samuti kokkuleppel.Rongiühendus Tallinn – Tartu on sii
 a väga hea\, raudteejaamast tulles võtab aega 15. minutit. Soovi korral 
 tulen jaama vastu.\n\nIndividuaalne konstellatsioon sobib ideaalselt\, kui
  soovid oma teemasid lahendada privaatselt - Sinu aeg\, Sulle loodud ruum\
 , usaldus…….ja niiviisi vaikselt hakkavad lahti hargnema Sinu lood\, m
 ida enda teadmata kannad.\nVõid julgelt tulla mis iganes teemaga\, mis si
 nd kuidagi häirib – nimeta see just nii nagu sina tunned.Võib-olla on 
 need sassi läinud suhted lastega\, vanematega\, partneriga\, probleemid t
 ööl\, ärevushäired\, paanikahood\, hirmud\, vihahood\, masendus\, haig
 used\, depressioon\, sõltuvused\, enesetapumõtted\, seletamatu raskustun
 ne kehas\, tunne\, et ma ei tea\, kes ma olen ja kuhu kuulun\, erinevad is
 iksushäired…. seda loetelu võib veel pikalt jätkata.See on kõik see\
 , millega puutun kokku igapäevaselt konstellatsiooni töödes - teemad\, 
 millega inimesed tulevad.\nSeletus sellele on väga lihtne. Kõik need sei
 sundid on tagajärg millelegi\, mis on juhtunud päritolu peres\, lapsepõ
 lves ja lisaks kõik see\, mida alateadlikult kanname oma esivanemate eest
  - korduvad mustrid\, peidetud tunded\, süütunded\, hirmud\, foobiad. L
 äbi alateadlike sidemete võime olla seotud meile eelnenud põlvkondade r
 askete saatustega. See kõik takistab aga elujõu voolamist ja kaotame elu
 rõõmu. Kõik see on kehamälus.Isegi väiksena või tähtsusetuna tunduv
 al teemal\, mis on jäänud lahendamata võib-olla suur tagajärg sellele\
 , mis toimub hetkel sinu elus.Kusagil sinu energiaväljas on pinge\, mis e
 i lase elul ja energial voolata.\n\nVõib ka olla nii\, et oled juba teinu
 d mõne konkreetse teemaga konstellatsiooni ja on toimunud mingid muutused
  aga justkui päris õiget lahendust veel pole. Näen ka seda tihti. Selet
 us sellele on lihtne. Tihti ei ole võimalik jõuda kohe kõige sügavama 
 kihini ehk juurpõhjuseni enne\, kui selle peal olevad kihid on lahendatud
 . Olen seda palju töödes näinud\, kuidas liigume kihtide haaval\, annam
 e igale lahendusele aega\, et siis jälle saab avaneda järgmine teema võ
 i kiht\, mida inimene kannab.\n\nKui sa pole veel teinud ühtegi konstella
 tsioonitööd\, siis julgustan sind alustama kõige olulisemast – vaadat
 a millise koha peal sa üldse oma peresüsteemis asud. Kui sa pole oma õi
 ge koha peal mõjutab see väga oluliselt kõike seda\, mis toimub sinu el
 us. Ja seda esineb väga tihti igas vanuses inimeste töödes\, et kantaks
 e seniajani pilti lapsepõlvest. Kuigi olen täiskasvanu aga olen ikka oma
  vanemate vahel või olen vanematest ära lõigatud\, ka partneri koht võ
 ib olla kinni ja õigel kaaslasel pole kohta. Kui saad oma õigele kohale\
 , siis justkui kasvad\, tuleb ruum ja kergus.\n\nOled oodatud oma teemadeg
 a - me kõik kanname midagi. Kes vähem\, kes rohkem\, kes on avatud\, et 
 seda kõike vaadata\, kes on valmis veel kandma ja kannatama.Samuti kannav
 ad paljutki ka lapsed. Ka sellele on lahendused.\n\nTeemasid\, mida konste
 llatsiooni meetodiga vaadata ja lahendada saab on palju\, võib isegi öel
 da\, et kõike:*Pingelised või katkenud suhted vanematega\, lastega\, lä
 hedastega\, partneriga.*Tervisega seotud teemad.*Alkoholism\, sõltuvused.
 *Iseenda sisemiste osade tasakaalustamine (olen ennast ära kaotanud).*Kõ
 ik see\, mis on juhtunud minevikus\, päritoluperes ja kuidas see mõjutab
  meid siiamaani.*Suguvõsa süsteem on meie energeetiline selgroog. Kas ma
  olen sellega ühenduses? Mida ma kannan süsteemi eest?*Kas ma olen ikka 
 veel väike laps?*Külluse ja rahulolu suurendamine oma elus.*Tööga seot
 ud teemad.*Tunne\, et miski takistab edasi liikuda.*Naiselikkuse või mehe
 likkusega seotud teemad.*Ja mis iganes teema või seletamatu seisund on ü
 les kerkinud.\nKui tundsid\, et see sind kõnetas\, siis on see sulle vaja
 lik ja oluline. Usalda tunnet enda sees!\nKonstellatsiooni töö kestab um
 bes 2 tundi ja hind on 150 eurot.Tasumine kohapeal sularahas.Teen individu
 aalseid konstellatsioone ka noortele alates 14 eluaastast\, eelneval kokku
 leppel lapsevanemaga (kuni 18.a on hind 120.-).\nKui on töö soov\, siis 
 kirjuta mulle. Märgi ka millise teemaga tööd soovid ja kas oled varem k
 onstellatsiooni teinud.\n\nMinu töötamise viis on tunnetuslik\, rahulik\
 , õrn ja puudutav\, kliendikeskne. Hoian turvalist ruumi ja annan aega pr
 otsessidele\, mis parasjagu toimuvad kliendis\, et siis õigel hetkel rahu
 likult edasi liikuda.\nKonstellatsiooni töödest ja rohkem psüühika-ja 
 isiksusehäirete kohta peresüsteemides saab lugeda minu kodulehe blogist:
 https://merlemeitus.eu/blogi/\n\nTeen individuaalseid konstellatsioone ka:
 *Nädala sees Tartus ja Jõgeval\, ajad on kokkuleppel.*Viljandis ja Rakve
 res\, kuupäevad ilmuvad minu kodulehe kalendris.\n\nOlen lõpetanud kaks 
 perekonstellatsiooni õpet\, Moskva Nõustamis- ja Perepaigutuste Instituu
 dis ja rahvusvahelise konstellatsiooni õppe Eesti Konstellatsioonide Inst
 ituudis. Olen osalenud erinevatel rahvusvahelistel konstellatsiooni intens
 iivkursustel\, et kogeda ja õppida maailmas tuntud konstellööridelt.Nü
 üdseks olen teinud seitse aastat grupi konstellatsioone ja individuaalsei
 d töid sadadele inimestele ja näinud imelisi muutusi. Enamus inimesi\, k
 es on minu juurde jõudnud on tulnud tuttava soovitusel\, kes on ise juba 
 varem käinud ja muutusi kogenud.Pakun ka Sulle võimalust!\n\nAva ennast 
 kergusele!Merle Meitusmerle.meitus@gmail.com\, tel 5117563sertifitseeritud
  perekonstellöör\, EPKA liige\,täiendõpe rahvusvahelises konstellatsio
 oni õppes\,kogemusnõustaja (rasked lahkuminekud\, kaotused)57 aastat elu
 kogemust.
END:VEVENT
BEGIN:VTIMEZONE
TZID:Europe/Tallinn
X-LIC-LOCATION:Europe/Tallinn
BEGIN:DAYLIGHT
DTSTART:20250330T040000
TZOFFSETFROM:+0200
TZOFFSETTO:+0300
TZNAME:EEST
END:DAYLIGHT
END:VTIMEZONE
END:VCALENDAR