BEGIN:VCALENDAR
VERSION:2.0
PRODID:-//wp-events-plugin.com//7.2.3.1//EN
TZID:Europe/Tallinn
X-WR-TIMEZONE:Europe/Tallinn
BEGIN:VEVENT
UID:457@merlemeitus.eu
DTSTART:20240511T090000Z
DTEND:20240511T180000Z
DTSTAMP:20240421T143351Z
URL:https://merlemeitus.eu/events/individuaalsed-konstellatsioonid-nadalav
 ahetusel-jogeval-6/
SUMMARY:Individuaalsed konstellatsioonid nädalavahetusel Jõgeval
DESCRIPTION:Sündmus facebookis https://www.facebook.com/events/1574230536
 694105/1574230540027438\nKui Sulle ei sobi tööpäevad\, saad sobiva aja 
 valida nädalavahetusel!\nKui oled otsinud erinevaid lahendusi või teraap
 iaid oma probleemidele\, lahendamata teemadele elus või seletamatutele se
 isunditele kehas aga näed siiski\, et miski pole muutunud\, siis julgusta
 n Sind kogema konstellatsiooni meetodit\, mis võib olla elu muutev!INDIVI
 DUAALSED KONSTELLATSIOONID - ainult Sina ja Mina ja Energiaväli\, milles 
 on kogu Sinu suguvõsasüsteem. Sinu aeg\, Sulle loodud ruum\, usaldus…
 ….ja niiviisi vaikselt hakkavad lahti hargnema Sinu lood\, mida enda tea
 dmata kannad aga mis mingil moel häirivad sinu elu.Kehamälus on kõik se
 e\, mis on Sind mingil elu perioodil raskelt mõjutanud ja jätnud oma jä
 lje. Kui oled valmis kõike vaatama\, tunnistama ja vabastama oma kehast\,
  saad tagasi kerguse\, oma jõu ja väe ning Elu ja energia voolab jälle 
 Sinus.\nIndividuaalne konstellatsioon on sobiv algus Sinu teekonnal\, kui 
 tunned\, et miski Sinu sees on valesti ja peab muutuma.Konstellatsioonis t
 öötame hinge tasandiga. Hing on see\, mida me ei näe aga hing saab alat
 i kõige rohkem haiget. Konstellatsioon aitab Sul näha\, mis tegelikult o
 n ja kui näed ja tunnistad\, siis tunnistamine ja aktsepteerimine toob Si
 nu hinge rahu. Konstellatsiooni töös saab alati nähtavaks just see\, mi
 s on sellel hetkel inimese jaoks oluline ja täpselt niipalju\, kui inimen
 e sellel hetkel suudab vastu võtta.\nKui sa tunnetad korraks oma Hinge 
 – mis Sinu hinges toimub? Mis tunne Sind kannab – kas raskustunne või
  kergus?\nMõnikord on nii\, et Sa isegi ei oska kirjeldada seda\, mis Sin
 u sees parasjagu toimub\, seda seisundit.Sel juhul soovitan lihtsalt usald
 ada seda energiavälja\, mis töö ajal hakkab suunama ja teeb nähtavaks 
 just need pinge ja trauma kohad\, mis Sinu jaoks peab sellel hetkel nähta
 vaks saama.Neid kohti vabastades saab tulla hinge rahu ja koos hingerahuga
  saab tulla rahu ka Sinu kehasse. Tunned\, kuidas kehasse tekib kergus ja 
 ruum. Ja kui Sinu kehas on kergus ja ruum\, siis saavad tulla Sinu ellu mu
 utused\, mis on Elul Sinu jaoks ja ka Sul on Elule rohkem pakkuda.\nSina i
 se saad kõike muuta\, korda teha\, tervendada. Kui oled valmis nägema ja
  muutma\, saad tagasi oma jõu ja väe\, sinu hing terveneb ja Elu ja ener
 gia voolab jälle Sinus.\nKonstellatsiooni töö kestab umbes 2 tundi ja h
 ind on 130 eurot.Tasumine kohapeal sularahas.\nKui on soov teha individuaa
 lset konstellatsiooni\, siis vali endale siit sobiv kuupäev\, kellaaeg ja
  kirjuta mulle. Märgi ka millise teemaga tööd soovid ja kas oled varem 
 konstellatsiooni teinud.Pühapäev 5. mai\, laupäev 11. mai\, laupäev 18
 . mai ja pühapäev 26. mai Jõgeval\, Aasa tn 8. Kellaajad kõigil päeva
 del:kell 11.00kell 14.00kell 17.00kell 19.30\nRõõmsate kohtumisteni ja I
 melist Elu SulleMerle Meitussertifitseeritud perekonstellöör\, EPKA liig
 e\,täiendõpe rahvusvahelises konstellatsiooni õppes\,kogemusnõustaja\,
  56 aastat elukogemust.merle.meitus@gmail.com\, tel 511 7563
END:VEVENT
END:VCALENDAR