BEGIN:VCALENDAR
VERSION:2.0
PRODID:-//wp-events-plugin.com//7.2.3.1//EN
TZID:Europe/Tallinn
X-WR-TIMEZONE:Europe/Tallinn
BEGIN:VEVENT
UID:506@merlemeitus.eu
DTSTART:20240914T080000Z
DTEND:20240914T170000Z
DTSTAMP:20240902T151808Z
URL:https://merlemeitus.eu/events/individuaalsed-konstellatsioonid-nadalav
 ahetustel-jogeval-3/
SUMMARY:Individuaalsed konstellatsioonid nädalavahetustel\, Jõgeval
DESCRIPTION:Sündmus facebookis https://www.facebook.com/events/2053546245
 047897/2053546261714562\nKui soovid individuaalset konstellatsiooni aga ei
  sobi kuidagi tööpäevad\, siis nädalavahetustel on selleks võimalus K
 esk-Eestis\, Jõgeval.Septembrikuus: 7.09\, 8.09\, 14.09\, 28.09 ja 29.09.
 Vali endale sobiv kuupäev ja lepime kokku kellaaja. Muud ajad on kokkulep
 pel.\n\nKui oled otsinud erinevaid lahendusi või teraapiaid oma probleemi
 dele\, lahendamata teemadele elus või seletamatutele seisunditele kehas a
 ga näed siiski\, et miski pole muutunud\, siis julgustan sind kogema kons
 tellatsiooni meetodit.\nSee on meetod\, millega liigume kõige sügavamate
 sse kihtidesse kehamälus\, jõuame juurpõhjuseni sellele\, mida alateadl
 ikult kanname ja mis võib väga häirida elada kerguses.Tihti kliendid ka
  ise ütlevad\, et tunnevad justkui kannavad seletamatut raskust\, kõik e
 baõnnestub.Enamjaolt on põhjus süsteemne\, kanname raskust kellegi eest
 \, kas päritoluperest või suguvõsa süsteemist\, olles lojaalne või l
 õimunud kellegiga süsteemist. Kanname esivanemate raskust või kordame m
 ustreid. Tihti väljenduvad lahendamata jäänud teemad füüsilise haigus
 ena. Niikaua\, kui kanname seda nähtamatut\, ei saa elus midagi muutuda. 
 See energia hoiab kinni ja pole võimalik vaadata oma elu poole.See kõik\
 , mis töö käigus nähtavaks saab võib olla väga üllatav.Konstellatsi
 oonis töötame peresüsteemiga ja see on väga oluline. Iga tehtud töög
 a tervendad ja tasakaalustad midagi oma süsteemis – ja see on hea.\nKon
 stellatsioonis on rõhuasetus hinge tervenemisel ja lihtsusel\, vabastada 
 see\, mida kannad\, et kergus ja armastus saaks taas voolata.Kui hinge tul
 eb rahu\, saab ka keha rahusse ja terveneda.Julgen öelda\, et konstellats
 ioonis terveneb tõesti nii hing\, kui keha. Olen näinud ka\, kuidas kõi
 k energiakeskused on pärast tööd avanenud ja nii saabki keha isetervend
 av süsteem hakata taas toimima.\nMinu töötamise viis on tunnetuslik\, r
 ahulik\, õrn ja puudutav\, kliendikeskne. Hoian turvalist ruumi ja annan 
 aega protsessidele\, mis parasjagu toimuvad kliendis\, et siis õigel hetk
 el rahulikult edasi liikuda.\nKonstellatsiooni saab teha iga teemaga. Sõn
 astad enda jaoks selle nii\, et mis on see\, mis sind hetkel või juba pik
 emat aega elus kõige rohkem häirib.\nT𝐞𝐞𝐦𝐚𝐬𝐢𝐝\, 
 𝐦𝐢𝐝𝐚 𝐤𝐨𝐧𝐬𝐭𝐞𝐥𝐥𝐚𝐭𝐬𝐢𝐨𝐨
 𝐧𝐢 𝐦𝐞𝐞𝐭𝐨𝐝𝐢𝐠𝐚 𝐥𝐚𝐡𝐞𝐧𝐝𝐚
 𝐝𝐚 𝐬𝐚𝐚𝐛 𝐨𝐧 𝐩𝐚𝐥𝐣𝐮:*Pingelised või k
 atkenud suhted vanematega\, lastega\, lähedastega\, partneriga.*Tervisega
  seotud teemad.*Iseenda sisemiste osade tasakaalustamine (olen ennast ära
  kaotanud).*Kõik see\, mis on juhtunud minevikus\, päritoluperes ja kuid
 as see mõjutab meid siiamaani.*Suguvõsa süsteem on meie energeetiline s
 elgroog. Kas ma olen sellega ühenduses? Mida ma kannan süsteemi eest?*Ka
 s ma olen ikka veel väike laps?*Külluse ja rahulolu suurendamine oma elu
 s.*Tööga seotud teemad.*Tunne\, et miski takistab edasi liikuda.*Naiseli
 kkuse või mehelikkusega seotud teemad.*Ja mis iganes teema või seletamat
 u seisund on üles kerkinud.\n\nKui tundsid\, et see sind kõnetas\, siis 
 järelikult on see sulle vajalik ja oluline. Usalda tunnet enda sees!Konst
 ellatsiooni töö kestab umbes 2 tundi ja hind on 150 eurot.Tasumine kohap
 eal sularahas.Teen individuaalseid konstellatsioone ka noortele alates 14 
 eluaastast\, eelneval kokkuleppel lapsevanemaga (kuni 18.a on hind 120.-).
 \n\nOlen lõpetanud kaks perekonstellatsiooni õpet\, Moskva Nõustamis- j
 a Perepaigutuste Instituudis ja rahvusvahelise konstellatsiooni õppe Eest
 i Konstellatsioonide Instituudis\, osalenud erinevatel rahvusvahelistel ko
 nstellatsiooni intensiivkursustel.Nüüdseks olen teinud üle kuue aasta g
 rupi konstellatsioone ja individuaalseid töid sadadele inimestele ja näi
 nud imelisi muutusi. Enamus inimesi\, kes on minu juurde jõudnud on tulnu
 d tuttava soovitusel\, kes on ise juba varem käinud ja muutusi kogenud.Pa
 kun ka Sulle võimalust!\n\nAva ennast kergusele!Merle Meitusmerle.meitus@
 gmail.com\, tel 5117563sertifitseeritud perekonstellöör\, EPKA liige\,t
 äiendõpe rahvusvahelises konstellatsiooni õppes\,kogemusnõustaja\, 57 
 aastat elukogemust.
END:VEVENT
END:VCALENDAR