BEGIN:VCALENDAR
VERSION:2.0
PRODID:-//wp-events-plugin.com//7.2.3.1//EN
TZID:Europe/Tallinn
X-WR-TIMEZONE:Europe/Tallinn
BEGIN:VEVENT
UID:528@merlemeitus.eu
DTSTART:20241121T090000Z
DTEND:20241121T153000Z
DTSTAMP:20241024T112354Z
URL:https://merlemeitus.eu/events/individuaalsed-konstellatsioonid-rakvere
 s-10/
SUMMARY:Individuaalsed konstellatsioonid Rakveres
DESCRIPTION:Sündmus facebookis https://www.facebook.com/events/5455618082
 00689/545561814867355\n\nIndividuaalne konstellatsioon sobib ideaalselt\, 
 kui soovid oma teemasid lahendada privaatselt -  ainult Sina ja Mina ja E
 nergiaväli\, milles on kogu Sinu suguvõsasüsteem. Sinu aeg\, Sulle lood
 ud ruum\, usaldus…….ja niiviisi vaikselt hakkavad lahti hargnema Sinu 
 lood\, mida enda teadmata kannad.\n\nKui oled otsinud erinevaid lahendusi 
 või teraapiaid oma probleemidele\, lahendamata teemadele elus või seleta
 matutele seisunditele kehas aga näed siiski\, et miski pole muutunud\, si
 is julgustan sind kogema konstellatsiooni meetodit.\n\nSee on meetod\, mil
 lega liigume kõige sügavamatesse kihtidesse kehamälus\, jõuame juurpõ
 hjuseni sellele\, mida alateadlikult kanname ja mis võib väga häirida e
 lada kerguses.\n\nTihti kliendid ka ise ütlevad\, et tunnevad justkui kan
 navad seletamatut raskust\, kõik ebaõnnestub.\n\nEnamjaolt on põhjus s
 üsteemne\, kanname raskust kellegi eest\, kas päritoluperest või suguv
 õsa süsteemist\, olles lojaalne või lõimunud kellegiga süsteemist. Ka
 nname esivanemate raskust või kordame mustreid. Tihti väljenduvad lahend
 amata jäänud teemad füüsilise haigusena. Niikaua\, kui kanname seda n
 ähtamatut\, ei saa elus midagi muutuda. See energia hoiab kinni ja pole v
 õimalik vaadata oma elu poole.\n\nSee kõik\, mis töö käigus nähtavak
 s saab võib olla väga üllatav.\n\nKonstellatsioonis töötame peresüst
 eemiga ja see on väga oluline. Iga tehtud tööga tervendad ja tasakaalus
 tad midagi oma süsteemis – ja see on hea.\n\nKonstellatsioonis on rõhu
 asetus hinge tervenemisel ja lihtsusel\, vabastada see\, mida kannad\, et 
 kergus ja armastus saaks taas voolata.\n\nKui hinge tuleb rahu\, saab ka k
 eha rahusse ja terveneda.\n\nJulgen öelda\, et konstellatsioonis terveneb
  tõesti nii hing\, kui keha. Olen näinud ka\, kuidas kõik energiakeskus
 ed on pärast tööd avanenud ja nii saabki keha isetervendav süsteem hak
 ata taas toimima.\n\nKonstellatsiooni saab teha iga teemaga. Sõnastad end
 a jaoks selle nii\, et mis on see\, mis sind hetkel või juba pikemat aega
  elus kõige rohkem häirib.\n\nTeemasid\, mida konstellatsiooni meetodiga
  vaadata ja lahendada saab on palju\, võib isegi öelda\, et kõike:\n\n*
 Pingelised või katkenud suhted vanematega\, lastega\, lähedastega\, part
 neriga.\n\n*Tervisega seotud teemad.\n\n*Iseenda sisemiste osade tasakaalu
 stamine (olen ennast ära kaotanud).\n\n*Kõik see\, mis on juhtunud minev
 ikus\, päritoluperes ja kuidas see mõjutab meid siiamaani.\n\n*Suguvõsa
  süsteem on meie energeetiline selgroog. Kas ma olen sellega ühenduses? 
 Mida ma kannan süsteemi eest?\n\n*Kas ma olen ikka veel väike laps?\n\n*
 Külluse ja rahulolu suurendamine oma elus.\n\n*Tööga seotud teemad.\n\n
 *Tunne\, et miski takistab edasi liikuda.\n\n*Naiselikkuse või mehelikkus
 ega seotud teemad.\n\n*Ja mis iganes teema või seletamatu seisund on üle
 s kerkinud.\n\nRohkem infot https://merlemeitus.eu/konstellatsioonid/\n\n
 Konstellatsiooni töödes avaldunud lugusid ja huvitavat infot saab lugeda
  lisaks: https://merlemeitus.eu/blogi/\n\nKui tundsid\, et see sind kõne
 tas\, siis järelikult on see sulle vajalik ja oluline. Usalda tunnet enda
  sees!\n\nKonstellatsiooni töö kestab umbes 2 tundi ja hind on 150 eurot
 .\n\nTasumine kohapeal sularahas.\n\nTeen individuaalseid konstellatsioone
  ka noortele alates 14 eluaastast\, eelneval kokkuleppel lapsevanemaga (ku
 ni 18.a on hind 120.-).\n\nRakveres teen individuaalseid konstellatsioone 
 14. ja 21. novembril.\n\nKellaajad mõlemal päevadel.\n\nkell 11.00\n\nke
 ll 13.00\n\nkell 15.30\n\nkell 17.30\n\nKui on soov teha individuaalset ko
 nstellatsiooni\, siis vali endale siit sobiv kuupäev ja kellaaeg ja kirju
 ta mulle. Märgi ka millise teemaga tööd soovid ja kas oled varem konste
 llatsiooni teinud.\n\nMinu töötamise viis on tunnetuslik\, rahulik\, õr
 n ja puudutav\, kliendikeskne. Hoian turvalist ruumi ja annan aega protses
 sidele\, mis parasjagu toimuvad kliendis\, et siis õigel hetkel rahulikul
 t edasi liikuda.\n\nOlen lõpetanud kaks perekonstellatsiooni õpet\, Mosk
 va Nõustamis- ja Perepaigutuste Instituudis ja rahvusvahelise konstellats
 iooni õppe Eesti Konstellatsioonide Instituudis. Olen osalenud erinevatel
  rahvusvahelistel konstellatsiooni intensiivkursustel\, et kogeda ja õppi
 da maailmas tuntud konstellööridelt.\n\nNüüdseks olen teinud üle kuue
  aasta grupi konstellatsioone ja individuaalseid töid sadadele inimestele
  ja näinud imelisi muutusi. Enamus inimesi\, kes on minu juurde jõudnud 
 on tulnud tuttava soovitusel\, kes on ise juba varem käinud ja muutusi ko
 genud.\n\nPakun ka Sulle võimalust!\n\nAva ennast kergusele!\n\nMerle Mei
 tus\n\nmerle.meitus@gmail.com\, tel 5117563\n\nsertifitseeritud perekonste
 llöör\, EPKA liige\,\n\ntäiendõpe rahvusvahelises konstellatsiooni õp
 pes\,\n\nkogemusnõustaja\, 57 aastat elukogemust.\n\nMinust rohkem kodule
 hel\, vaata ja tunneta!\n\nhttps://merlemeitus.eu/
END:VEVENT
END:VCALENDAR