BEGIN:VCALENDAR
VERSION:2.0
PRODID:-//wp-events-plugin.com//7.2.3.1//EN
TZID:Europe/Tallinn
X-WR-TIMEZONE:Europe/Tallinn
BEGIN:VEVENT
UID:244@merlemeitus.eu
DTSTART:20220926T073000Z
DTEND:20220926T153000Z
DTSTAMP:20220905T030355Z
URL:https://merlemeitus.eu/events/individuaalsed-konstellatsioonid-tartus-
 26/
SUMMARY:Individuaalsed konstellatsioonid Tartus
DESCRIPTION:Individuaalsed konstellatsioonid Tartus 26. septembril.\nVali e
 ndale sobiv aeg ja kirjuta mulle e-post: merle.meitus@gmail.com.\nKirjuta\
 , kas oled varem konstellatsiooni teinud ja mis teemaga tööd soovid.\nKu
 i siin ei ole Sulle sobivat aega\, saame selle leida kas Jõgeval või Tar
 tus.\n\nVali aeg 26. septembril:\nkell 9.30 – 11.30\nkell 11.30 – 13.3
 0\nkell 13.30 - 15.30\nkell 15.30 - 17.30 aeg broneeritud\nIndividuaalne k
 onstellatsioon on sobiv algus Sinu teekonnal\, kui tunned\, et miski Sinu 
 sees on valesti ja peab muutuma.\nMõnikord on nii\, et Sa isegi ei oska k
 irjeldada seda\, mis Sinu sees parasjagu toimub.\nSel juhul soovitan lihts
 alt usaldada seda energiavälja\, mis töö ajal hakkab suunama ja teeb n
 ähtavaks just need pinge ja trauma kohad\, mis Sinu jaoks peab sellel het
 kel nähtavaks saama. Neid kohti vabastades saab tulla hinge rahu ja koos 
 hingerahuga saab tulla rahu ka Sinu kehasse. Siis saavad tulla ka Sinu ell
 u muutused\, mis on Sulle Elu poolt määratud aga pole saanud tulla.\n\nK
 onstellatsioonis töötame hinge tasandiga. Hing on see\, mida me ei näe 
 aga hing saab alati kõige rohkem haiget. Konstellatsioon aitab Sul näha\
 , mis tegelikult on ja kui näed ja tunnistad\, siis tunnistamine ja aktse
 pteerimine toob Sinu hinge rahu. Konstellatsiooni töös saab alati nähta
 vaks just see\, mis on sellel hetkel inimese jaoks oluline ja täpselt nii
 palju\, kui inimene sellel hetkel suudab vastu võtta.\nOled Sa märganud\
 , mis Sinu hinges toimub? Kas sinu hing on rahul\, terve\, õnnelik või o
 n seal mure\, kurbus ja valu. Mis tunne sind kannab – kas raskustunne v
 õi kergus?\nKui sinu hingel on raske\, valus ja kurb\, siis\, mis on see 
 teema sinu sees\, mis seda tunnet hoiab? Tunned\, et oled sellest juba vä
 sinud ja hing on kurnatud\, jõud hakkab kaduma. Kas soovid seda vabastada
  või endas edasi kanda?\nSina ise saad seda muuta\, korda teha\, tervenda
 da. Kui oled valmis nägema ja muutma\, saad tagasi jõu ja sinu hing terv
 eneb.\n\nTöö kestab umbes 2 tundi ja hind on 90 eurot.\nTasumine kohapea
 l sularahas.\nTöö toimub Kompanii tn 10\, 2. korrus\, Tartu.\nSinuga tö
 ötab sertifitseeritud perekonstellöör Merle Meitus\, tel 511 7563
END:VEVENT
END:VCALENDAR