BEGIN:VCALENDAR
VERSION:2.0
PRODID:-//wp-events-plugin.com//7.2.3.1//EN
TZID:Europe/Tallinn
X-WR-TIMEZONE:Europe/Tallinn
BEGIN:VEVENT
UID:197@merlemeitus.eu
DTSTART:20220620T073000Z
DTEND:20220620T150000Z
DTSTAMP:20220515T154323Z
URL:https://merlemeitus.eu/events/individuaalsed-konstellatsioonid-tartus-
 8/
SUMMARY:Individuaalsed konstellatsioonid Tartus
DESCRIPTION:Täpsem info siin:\n\n&nbsp\;
END:VEVENT
END:VCALENDAR