BEGIN:VCALENDAR
VERSION:2.0
PRODID:-//wp-events-plugin.com//7.2.3.1//EN
TZID:Europe/Tallinn
X-WR-TIMEZONE:Europe/Tallinn
BEGIN:VEVENT
UID:435@merlemeitus.eu
DTSTART:20240313T080000Z
DTEND:20240313T140000Z
DTSTAMP:20240221T164141Z
URL:https://merlemeitus.eu/events/individuaalsed-konstellatsioonid-viljand
 is-2/
SUMMARY:Individuaalsed konstellatsioonid Viljandis
DESCRIPTION:Sündmus facebookis https://www.facebook.com/events/9290153488
 86763\nINDIVIDUAALSED KONSTELLATSIOONID - ainult Sina ja Mina ja Energiav
 äli\, milles on kogu Sinu suguvõsasüsteem. Sinu aeg\, Sulle loodud ruum
 \, usaldus…….ja niiviisi vaikselt hakkavad lahti hargnema Sinu lood\, 
 mida enda teadmata kannad aga mis mingil moel häirivad sinu elu.\nKehamä
 lus on kõik see\, mis on Sind mingil elu perioodil raskelt mõjutanud ja 
 jätnud oma jälje. Kui oled valmis kõike vaatama\, tunnistama ja vabasta
 ma oma kehast\, saad tagasi kerguse\, oma jõu ja väe ning Elu ja energia
  voolab jälle Sinus.\nIndividuaalne konstellatsioon on sobiv algus Sinu t
 eekonnal\, kui tunned\, et miski Sinu sees on valesti ja peab muutuma.\nKo
 nstellatsioonis töötame hinge tasandiga. Hing on see\, mida me ei näe a
 ga hing saab alati kõige rohkem haiget. Konstellatsioon aitab Sul näha\,
  mis tegelikult on ja kui näed ja tunnistad\, siis tunnistamine ja aktsep
 teerimine toob Sinu hinge rahu. Konstellatsiooni töös saab alati nähtav
 aks just see\, mis on sellel hetkel inimese jaoks oluline ja täpselt niip
 alju\, kui inimene sellel hetkel suudab vastu võtta.\nKui sa tunnetad kor
 raks oma Hinge – mis Sinu hinges toimub? Mis tunne Sind kannab – kas r
 askustunne või kergus?\nMõnikord on nii\, et Sa isegi ei oska kirjeldada
  seda\, mis Sinu sees parasjagu toimub\, seda seisundit.\nSel juhul soovit
 an lihtsalt usaldada seda energiavälja\, mis töö ajal hakkab suunama ja
  teeb nähtavaks just need pinge ja trauma kohad\, mis Sinu jaoks peab sel
 lel hetkel nähtavaks saama.\nNeid kohti vabastades saab tulla hinge rahu 
 ja koos hingerahuga saab tulla rahu ka Sinu kehasse. Tunned\, kuidas kehas
 se tekib kergus ja ruum. Ja kui Sinu kehas on kergus ja ruum\, siis saavad
  tulla Sinu ellu muutused\, mis on Elul Sinu jaoks ja ka Sul on Elule rohk
 em pakkuda.\nSina ise saad kõike muuta\, korda teha\, tervendada. Kui ole
 d valmis nägema ja muutma\, saad tagasi oma jõu ja väe\, sinu hing terv
 eneb ja Elu ja energia voolab jälle Sinus.\nKonstellatsiooni töö kestab
  umbes 2 tundi ja hind on 130 eurot.\n13. märtsil teen Viljandis\, Vaksal
 i 3a (Tervise ja ilukeskus Valgus) päeval 3 individuaalset konstellatsioo
 ni.\nÕhtul kell 17.30 toimub samas kohas ka grupi konstellatsioonide tö
 ötuba kõigile huvilistele. Täpsem info selle kohta on siin:\nhttps://ww
 w.facebook.com/events/1202449414062174\nKui on soov teha individuaalset ko
 nstellatsiooni\, siis vali endale siit sobiv aeg ja kirjuta mulle. Märgi 
 ka millise teemaga tööd soovid ja kas oled varem konstellatsiooni teinud
 .\n13. märtsil Viljandis:\nkell 10.00\nkell 12.00\nkell 14.30\nRõõmsate
  kohtumisteni ja Imelist Elu Sulle\nMerle Meitus\nsertifitseeritud perekon
 stellöör\, EPKA liige\,\ntäiendõpe rahvusvahelises konstellatsiooni õ
 ppes\,\nkogemusnõustaja\, 56 aastat elukogemust.\nmerle.meitus@gmail.com\
 , tel 511 7563\n\n
END:VEVENT
END:VCALENDAR