BEGIN:VCALENDAR
VERSION:2.0
PRODID:-//wp-events-plugin.com//7.2.3.1//EN
TZID:Europe/Tallinn
X-WR-TIMEZONE:Europe/Tallinn
BEGIN:VEVENT
UID:559@merlemeitus.eu
DTSTART:20250121T090000Z
DTEND:20250121T150000Z
DTSTAMP:20250102T120822Z
URL:https://merlemeitus.eu/events/individuaalsed-konstellatsioonid-viljand
 is-20/
SUMMARY:Individuaalsed konstellatsioonid Viljandis
DESCRIPTION:Sündmus facebookis:https://www.facebook.com/events/62362236999
 9989/623622383333321\n\nIndividuaalne konstellatsioon sobib ideaalselt\, k
 ui soovid oma teemasid lahendada privaatselt - Sinu aeg\, Sulle loodud ruu
 m\, usaldus…….ja niiviisi vaikselt hakkavad lahti hargnema Sinu lood\,
  mida enda teadmata kannad.\n\nVõid julgelt tulla mis iganes teemaga\, mi
 s sind kuidagi häirib – nimeta see just nii nagu sina tunned.\n\nVõib-
 olla on need sassi läinud suhted lastega\, vanematega\, partneriga\, prob
 leemid tööl\, ärevushäired\, paanikahood\, hirmud\, vihahood\, masendu
 s\, haigused\, depressioon\, sõltuvused\, enesetapumõtted\, seletamatu r
 askustunne kehas\, tunne\, et ma ei tea\, kes ma olen ja kuhu kuulun\, eri
 nevad isiksushäired…. seda loetelu võib veel pikalt jätkata.\n\nSee o
 n kõik see\, millega puutun kokku igapäevaselt konstellatsiooni töödes
  - teemad\, millega inimesed tulevad.\n\nSeletus sellele on väga lihtne. 
 Kõik need seisundid on tagajärg millelegi\, mis on juhtunud päritolu pe
 res\, lapsepõlves ja lisaks kõik see\, mida alateadlikult kanname oma es
 ivanemate eest - korduvad mustrid\, peidetud tunded\, süütunded\, hirmud
 \, foobiad. Läbi alateadlike sidemete võime olla seotud meile eelnenud p
 õlvkondade raskete saatustega. See kõik takistab aga elujõu voolamist j
 a kaotame elurõõmu. Kõik see on kehamälus.\n\nIsegi väiksena või tä
 htsusetuna tunduval teemal\, mis on jäänud lahendamata võib-olla suur t
 agajärg sellele\, mis toimub hetkel sinu elus.\n\nKusagil sinu energiavä
 ljas on pinge\, mis ei lase elul ja energial voolata.\n\nVõib ka olla nii
 \, et oled juba teinud mõne konkreetse teemaga konstellatsiooni ja on toi
 munud mingid muutused aga justkui päris õiget lahendust veel pole. Näen
  ka seda tihti. Seletus sellele on lihtne. Tihti ei ole võimalik jõuda k
 ohe kõige sügavama kihini ehk juurpõhjuseni enne\, kui selle peal oleva
 d kihid on lahendatud. Olen seda palju töödes näinud\, kuidas liigume k
 ihtide haaval\, anname igale lahendusele aega\, et siis jälle saab avaned
 a järgmine teema või kiht\, mida inimene kannab.\n\nKui sa pole veel tei
 nud ühtegi konstellatsioonitööd\, siis julgustan sind alustama kõige o
 lulisemast – vaadata millise koha peal sa üldse oma peresüsteemis asud
 . Kui sa pole oma õige koha peal mõjutab see väga oluliselt kõike seda
 \, mis toimub sinu elus. Ja seda esineb väga tihti igas vanuses inimeste 
 töödes\, et kantakse seniajani pilti lapsepõlvest. Kuigi olen täiskasv
 anu aga olen ikka oma vanemate vahel või olen vanematest ära lõigatud\,
  ka partneri koht võib olla kinni ja õigel kaaslasel pole kohta. Kui saa
 d oma õigele kohale\, siis justkui kasvad\, tuleb ruum ja kergus.\n\nOled
  oodatud oma teemadega - me kõik kanname midagi. Kes vähem\, kes rohkem\
 , kes on avatud\, et seda kõike vaadata\, kes on valmis veel kandma ja ka
 nnatama.\n\nSamuti kannavad paljutki ka lapsed. Ka sellele on lahendused.\
 n\nTeemasid\, mida konstellatsiooni meetodiga vaadata ja lahendada saab on
  palju\, võib isegi öelda\, et kõike:\n\n*Pingelised või katkenud suht
 ed vanematega\, lastega\, lähedastega\, partneriga.\n\n*Alkoholism\, sõl
 tuvused.\n\n*Tervisega seotud teemad.\n\n*Iseenda sisemiste osade tasakaal
 ustamine (olen ennast ära kaotanud).\n\n*Kõik see\, mis on juhtunud mine
 vikus\, päritoluperes ja kuidas see mõjutab meid siiamaani.\n\n*Suguvõs
 a süsteem on meie energeetiline selgroog. Kas ma olen sellega ühenduses?
  Olen justkui juurteta. Mida ma kannan süsteemi eest?\n\n*Kas ma olen ikk
 a veel väike laps?\n\n*Külluse ja rahulolu suurendamine oma elus.\n\n*T
 ööga seotud teemad.\n\n*Tunne\, et miski takistab edasi liikuda.\n\n*Nai
 selikkuse või mehelikkusega seotud teemad.\n\n*Ja mis iganes teema või s
 eletamatu seisund on üles kerkinud.\n\nKonstellatsiooni töödest ja rohk
 em psüühika-ja isiksusehäirete kohta peresüsteemides saab lugeda minu 
 kodulehe blogist: https://merlemeitus.eu/blogi/\n\nKui tundsid\, et see s
 ind kõnetas\, siis on see sulle vajalik ja oluline. Usalda tunnet enda se
 es!\n\nKonstellatsiooni töö kestab umbes 2 tundi ja hind on 150 eurot.\n
 \nTasumine kohapeal sularahas.\n\nTeen individuaalseid konstellatsioone ka
  noortele alates 14 eluaastast\, eelneval kokkuleppel lapsevanemaga (kuni 
 18.a on hind 120.-).\n\nKui on töö soov\, siis kirjuta mulle. Märgi ka 
 millise teemaga tööd soovid ja kas oled varem konstellatsiooni teinud.\n
 \nMinu töötamise viis on tunnetuslik\, rahulik\, õrn ja puudutav\, klie
 ndikeskne. Hoian turvalist ruumi ja annan aega protsessidele\, mis parasja
 gu toimuvad kliendis\, et siis õigel hetkel rahulikult edasi liikuda.\n\n
 Individuaalsed konstellatsioonid Viljandis:\n\n14.01 ja 21.01\, kellaajad 
 mõlemal päeval:\n\nkell 11.00\n\nkell 13.00\n\nkell 15.00\n\nkell 17.00\
 n\nTeen individuaalseid konstellatsioone ka:\n\n*Tartus ja Jõgeval\, kokk
 uleppel.\n\n*Rakveres\, kuupäevad ilmuvad minu kodulehe kalendris.\n\n*n
 ädalavahetustel Jõgeval\, kuupäevad ilmuvad minu kodulehe kalendris.\n\
 nOlen lõpetanud kaks perekonstellatsiooni õpet\, Moskva Nõustamis- ja P
 erepaigutuste Instituudis ja rahvusvahelise konstellatsiooni õppe Eesti K
 onstellatsioonide Instituudis. Olen osalenud erinevatel rahvusvahelistel k
 onstellatsiooni intensiivkursustel\, et kogeda ja õppida maailmas tuntud 
 konstellööridelt.\n\nNüüdseks olen teinud seitse aastat grupi konstell
 atsioone ja individuaalseid töid sadadele inimestele ja näinud imelisi m
 uutusi. Enamus inimesi\, kes on minu juurde jõudnud on tulnud tuttava soo
 vitusel\, kes on ise juba varem käinud ja muutusi kogenud.\n\nPakun ka Su
 lle võimalust!\n\n&nbsp\;\n\nAva ennast kergusele!\n\nMerle Meitus\n\nmer
 le.meitus@gmail.com\, tel 5117563\n\nsertifitseeritud perekonstellöör\, 
 EPKA liige\,\n\ntäiendõpe rahvusvahelises konstellatsiooni õppes\,\n\nk
 ogemusnõustaja (rasked lahkuminekud\, kaotused) Täpsem info: https://mer
 lemeitus.eu/kogemusnoustamine/\n\n57 aastat elukogemust.\n\nMinust rohkem 
 kodulehel\, vaata ja tunneta!\n\nhttps://merlemeitus.eu/
END:VEVENT
END:VCALENDAR