BEGIN:VCALENDAR
VERSION:2.0
PRODID:-//wp-events-plugin.com//7.2.3.1//EN
TZID:Europe/Tallinn
X-WR-TIMEZONE:Europe/Tallinn
BEGIN:VEVENT
UID:479@merlemeitus.eu
DTSTART:20240716T093000Z
DTEND:20240716T150000Z
DTSTAMP:20240715T055540Z
URL:https://merlemeitus.eu/events/individuaalsed-konstellatsioonid-viljand
 is-8/
SUMMARY:Individuaalsed konstellatsioonid Viljandis
DESCRIPTION:Sündmus facebookis https://www.facebook.com/events/1183373866
 014528/1183373872681194\nJuulikuus kahel päeval Viljandis\, 16.07 ja 22.0
 7. Kuupäevade kellaajad allpool.\n\nKas oled otsinud erinevaid lahendusi 
 või teraapiaid mõnele Sulle olulisele probleemile\, küsimusele või sel
 etamatule seisundile kehas aga näed siiski\, et miski pole muutunud?Siis 
 julgustan Sind kogema võimsat konstellatsiooni meetodit\, mis võib olla 
 elu muutev!\nIndividuaalne konstellatsioon - ainult Sina ja Mina ja Energi
 aväli\, milles on kogu Sinu suguvõsasüsteem. Sinu aeg\, Sulle loodud ru
 um\, usaldus…….ja niiviisi vaikselt hakkavad lahti hargnema Sinu lood\
 , mida enda teadmata kannad aga mis mingil moel häirivad sinu elu.\nKeham
 älus on kõik see\, mis on Sind mingil elu perioodil raskelt mõjutanud j
 a jätnud oma jälje. Kui oled valmis kõike vaatama\, tunnistama ja vabas
 tama oma kehast\, saad tagasi kerguse\, oma jõu ja väe ning Elu ja energ
 ia voolab jälle Sinus.\n\nIndividuaalne konstellatsioon on sobiv algus Si
 nu teekonnal\, kui tunned\, et miski Sinu sees on valesti ja peab muutuma.
 \nKonstellatsioonis töötame hinge tasandiga. Hing on see\, mida me ei n
 äe aga hing saab alati kõige rohkem haiget. Konstellatsioon aitab Sul n
 äha\, mis tegelikult on ja kui näed ja tunnistad\, siis tunnistamine ja 
 aktsepteerimine toob Sinu hinge rahu.\nMõnikord on nii\, et Sa isegi ei o
 ska kirjeldada seda\, mis Sinu sees parasjagu toimub\, seda seisundit.Sel 
 juhul soovitan lihtsalt usaldada seda energiavälja\, mis töö ajal hakka
 b suunama ja teeb nähtavaks just need pinge ja trauma kohad\, mis Sinu ja
 oks peab sellel hetkel nähtavaks saama. Neid kohti vabastades saab tulla 
 hinge rahu ja koos hingerahuga saab tulla rahu ka Sinu kehasse. Tunned\, k
 uidas kehasse tekib kergus ja ruum. Ja kui Sinu kehas on kergus ja ruum\, 
 siis saavad tulla Sinu ellu muutused\, mis on Elul Sinu jaoks ja ka Sul on
  Elule rohkem pakkuda.\nSina ise saad kõike muuta\, korda teha\, tervenda
 da. Kui oled valmis nägema ja muutma\, saad tagasi oma jõu ja väe\, sin
 u hing terveneb ja Elu ja energia voolab jälle Sinus.\n\nKonstellatsiooni
  töö kestab umbes 2 tundi ja hind on 150 eurot.Tasumine kohapeal sularah
 as.\nAsukoht Viljandis\, Vaksali 3a (Tervise ja ilukeskus Valgus).16. juul
 i:kell 10.30 aeg broneeritudkell 12.30kell 15.00\nkell 17.00\nkell 19.00\n
 Individuaalsed tööd 22. juuli:kell 10.00kell 12.00kell 14.30kell 16.30ke
 ll 18.30 aeg broneeritud\nKui on soov teha individuaalset tööd\, siis va
 li endale siit sobiv aeg ja kirjuta mulle. Märgi ka millise teemaga töö
 d soovid ja kas oled varem konstellatsiooni teinud.\nRõõmsate kohtumiste
 ni ja Imelist Elu SulleMerle Meitussertifitseeritud perekonstellöör\, EP
 KA liige\,täiendõpe rahvusvahelises konstellatsiooni õppes\,kogemusnõu
 staja\, 56 aastat elukogemust.Lisainfo ja registreerimine: e-post merle.me
 itus@gmail.com\, tel 5117563
END:VEVENT
END:VCALENDAR