BEGIN:VCALENDAR
VERSION:2.0
PRODID:-//wp-events-plugin.com//7.2.3.1//EN
TZID:Europe/Tallinn
X-WR-TIMEZONE:Europe/Tallinn
BEGIN:VEVENT
UID:480@merlemeitus.eu
DTSTART:20240722T080000Z
DTEND:20240722T163000Z
DTSTAMP:20240720T044057Z
URL:https://merlemeitus.eu/events/individuaalsed-konstellatsioonid-viljand
 is-9/
SUMMARY:Individuaalsed konstellatsioonid Viljandis
DESCRIPTION:Sündmus facebookis https://www.facebook.com/events/1183373866
 014528/1183373872681194\n\nKas oled otsinud erinevaid lahendusi või teraa
 piaid mõnele Sulle olulisele probleemile\, küsimusele või seletamatule 
 seisundile kehas aga näed siiski\, et miski pole muutunud?Siis julgustan 
 Sind kogema võimsat konstellatsiooni meetodit\, mis võib olla elu muutev
 !\nIndividuaalne konstellatsioon - ainult Sina ja Mina ja Energiaväli\, m
 illes on kogu Sinu suguvõsasüsteem. Sinu aeg\, Sulle loodud ruum\, usald
 us…….ja niiviisi vaikselt hakkavad lahti hargnema Sinu lood\, mida end
 a teadmata kannad aga mis mingil moel häirivad sinu elu.\nKehamälus on k
 õik see\, mis on Sind mingil elu perioodil raskelt mõjutanud ja jätnud 
 oma jälje. Kui oled valmis kõike vaatama\, tunnistama ja vabastama oma k
 ehast\, saad tagasi kerguse\, oma jõu ja väe ning Elu ja energia voolab 
 jälle Sinus.\n\nIndividuaalne konstellatsioon on sobiv algus Sinu teekonn
 al\, kui tunned\, et miski Sinu sees on valesti ja peab muutuma.\nKonstell
 atsioonis töötame hinge tasandiga. Hing on see\, mida me ei näe aga hin
 g saab alati kõige rohkem haiget. Konstellatsioon aitab Sul näha\, mis t
 egelikult on ja kui näed ja tunnistad\, siis tunnistamine ja aktsepteerim
 ine toob Sinu hinge rahu.\nMõnikord on nii\, et Sa isegi ei oska kirjelda
 da seda\, mis Sinu sees parasjagu toimub\, seda seisundit.Sel juhul soovit
 an lihtsalt usaldada seda energiavälja\, mis töö ajal hakkab suunama ja
  teeb nähtavaks just need pinge ja trauma kohad\, mis Sinu jaoks peab sel
 lel hetkel nähtavaks saama. Neid kohti vabastades saab tulla hinge rahu j
 a koos hingerahuga saab tulla rahu ka Sinu kehasse. Tunned\, kuidas kehass
 e tekib kergus ja ruum. Ja kui Sinu kehas on kergus ja ruum\, siis saavad 
 tulla Sinu ellu muutused\, mis on Elul Sinu jaoks ja ka Sul on Elule rohke
 m pakkuda.\nSina ise saad kõike muuta\, korda teha\, tervendada. Kui oled
  valmis nägema ja muutma\, saad tagasi oma jõu ja väe\, sinu hing terve
 neb ja Elu ja energia voolab jälle Sinus.\n\nKonstellatsiooni töö kesta
 b umbes 2 tundi ja hind on 150 eurot.Tasumine kohapeal sularahas.\nAsukoht
  Viljandis\, Vaksali 3a (Tervise ja ilukeskus Valgus).\nIndividuaalsed tö
 öd 22. juuli:kell 10.00kell 12.00kell 14.30kell 16.30Kui on soov teha ind
 ividuaalset tööd\, siis vali endale siit sobiv aeg ja kirjuta mulle. Mä
 rgi ka millise teemaga tööd soovid ja kas oled varem konstellatsiooni te
 inud.\nRõõmsate kohtumisteni ja Imelist Elu SulleMerle Meitussertifitsee
 ritud perekonstellöör\, EPKA liige\,täiendõpe rahvusvahelises konstell
 atsiooni õppes\,kogemusnõustaja\, 56 aastat elukogemust.Lisainfo ja regi
 streerimine: e-post merle.meitus@gmail.com\, tel 5117563
END:VEVENT
END:VCALENDAR