BEGIN:VCALENDAR
VERSION:2.0
PRODID:-//wp-events-plugin.com//7.2.3.1//EN
TZID:Europe/Tallinn
X-WR-TIMEZONE:Europe/Tallinn
BEGIN:VEVENT
UID:523@merlemeitus.eu
DTSTART:20241007T180000Z
DTEND:20241007T193000Z
DTSTAMP:20240925T094403Z
URL:https://merlemeitus.eu/events/juhendatud-meditatsioon-olles-oma-voolus
 -jogeval-2/
SUMMARY:Juhendatud meditatsioon - Olles oma voolus\, Jõgeval
DESCRIPTION:Sündmus facebookis: https://www.facebook.com/events/484888011
 191060/484888017857726\nKui tunned\, et vajad nädalas vähemalt tunnikest
  aega\, et saaksid olla iseendaga\, ühenduda oma sisemaailmaga\, eemaldud
 es kõigest välisest\, siis on see just Sulle!\n\nPalun registreeri alati
  eelnevalt oma osalemine! Arvestan nendega\, kes on mulle teatanud!\n\nMin
 u loodud meditatsioonid mõjuvad Sulle teraapiliselt - aitavad kiires elut
 empos leida parem kontakt oma keha ja hingega\, leida sisemist tasakaalu j
 a rahu enda sees. Aitavad sul leida üles sinu päris olemuse\, olla ühen
 duses iseendaga\, oma hingega.Kehasse salvestub uus energia\, milles on ke
 rgus ja tühi ruum.Niiviisi vaikselt liikudes tunned\, kuidas sinu sisemaa
 ilm avardub\, energia muutub sinu sees ja tekib ruumi\, et saaksid vastu v
 õtta uusi asju oma ellu ja olla kerguses.\nMeditatsiooni ajal liigud õrn
 alt ja kergelt iseenda sees. See on sinu aeg - lihtsalt vaikuses iseendaga
 \, aeg kus lubad oma kehal ja meelel lõdvestuda.Selles lubamise seisundis
  saab tulla kõik see\, milleks oled valmis\, Universum toetab sind ning a
 sjad hakkavad juhtuma.Kui saad sellel õhtul enda jaoks kasvõi ühe mõtt
 e või taipamise\, mis sind kõnetab\, siis sinu hing on midagi ära tundn
 ud\, miski käivitub sinus ja see hakkab sind suunama.Hing armastab tühju
 st\, aeglust\, avarust\, lihtsust ja vaikust. Olles vaikuses on sul võima
 lus oma hinge kuulata. Kuulatades oma hinge ja tehes valikuid selle põhja
 l\, märkad peagi\, kuidas Elu voolab Loojaga ühes rütmis. Looja peab pi
 du Sinu sees.\n\nLoe kuidas meditatsioon mõjub Sinu hingele\, kehale ja v
 aimule siit: https://merlemeitus.eu/meditatsioonid/\n\nMeditatsiooni ajal
  võid kas istuda või lamada. Võta kaasa padi\, pleed ja matt\, kui soov
 id lamada.\nKui sulle sobib mediteerimine väikeses grupis\, hubases ja ho
 itud ruumis\, siis varu endale aega\, et saaksid pärast meditatsiooni oll
 a veel mõnusalt selles uues kerges energias ja rahulikult teed juua.\n\nO
 saluspanus 10 eurot.Tasumine kohapeal sularahas.\nKuna osalejate arv on pi
 iratud\, siis on kindlasti vajalik eelregistreerimine.Kui märgid Facebook
 is "osalen" või "huvitatud"\, siis saada kindlasti kinnitus\, kui osaled.
 Kirjuta kas e-post merle.meitus@gmail.com\, FB sõnumisse või helista 511
  7563.Toimumiskoht: Aasa tn 8\, Jõgeva.\nMeditatsiooniõhtut viib läbi M
 erle Meitus.
END:VEVENT
END:VCALENDAR