BEGIN:VCALENDAR
VERSION:2.0
PRODID:-//wp-events-plugin.com//7.2.3.1//EN
TZID:Europe/Tallinn
X-WR-TIMEZONE:Europe/Tallinn
BEGIN:VEVENT
UID:478@merlemeitus.eu
DTSTART:20240619T180000Z
DTEND:20240619T193000Z
DTSTAMP:20240617T132030Z
URL:https://merlemeitus.eu/events/juhendatud-meditatsiooniohtu-jogeval-11/
SUMMARY:Juhendatud meditatsiooniõhtu Jõgeval
DESCRIPTION:Kui tunned\, et vajad nädalas vähemalt tunnikest aega\, et sa
 aksid olla iseendaga\, ühenduda oma sisemaailmaga\, eemaldudes kõigest v
 älisest\, siis on see just Sulle!\nPalun registreeri alati eelnevalt oma 
 osalemine! Arvestan nendega\, kes on mulle teatanud!\nMinu loodud meditats
 ioonid mõjuvad Sulle teraapiliselt - aitavad kiires elutempos leida parem
  kontakt oma keha ja hingega\, leida sisemist tasakaalu ja rahu enda sees.
  Aitavad sul leida üles sinu päris olemuse\, olla ühenduses iseendaga\,
  oma hingega.Kehasse salvestub uus energia\, milles on kergus ja tühi ruu
 m.Niiviisi vaikselt liikudes tunned\, kuidas sinu sisemaailm avardub\, ene
 rgia muutub sinu sees ja tekib ruumi\, et saaksid vastu võtta uusi asju o
 ma ellu ja olla kerguses.\nMeditatsiooni ajal liigud õrnalt ja kergelt is
 eenda sees. See on sinu aeg - lihtsalt vaikuses iseendaga\, aeg kus lubad 
 oma kehal ja meelel lõdvestuda.Selles lubamise seisundis saab tulla kõik
  see\, milleks oled valmis\, Universum toetab sind ning asjad hakkavad juh
 tuma.Kui saad sellel õhtul enda jaoks kasvõi ühe mõtte või taipamise\
 , mis sind kõnetab\, siis sinu hing on midagi ära tundnud\, miski käivi
 tub sinus ja see hakkab sind suunama.Hing armastab tühjust\, aeglust\, av
 arust\, lihtsust ja vaikust. Olles vaikuses on sul võimalus oma hinge kuu
 lata. Kuulatades oma hinge ja tehes valikuid selle põhjal\, märkad peagi
 \, kuidas Elu voolab Loojaga ühes rütmis. Looja peab pidu Sinu sees.\nMe
 ditatsiooni ajal võid kas istuda või lamada. Võta kaasa padi\, pleed ja
  matt\, kui soovid lamada.\nKui sulle sobib mediteerimine väikeses grupis
 \, hubases ja hoitud ruumis\, siis varu endale aega\, et saaksid pärast m
 editatsiooni olla veel mõnusalt selles uues kerges energias ja rahulikult
  teed juua.\n\nOsaluspanus 10 eurot.Kuna osalejate arv on piiratud\, siis 
 on kindlasti vajalik eelregistreerimine.Kui märgid Facebookis "osalen" v
 õi "huvitatud"\, siis saada kindlasti kinnitus\, kui osaled.Kirjuta kas e
 -post merle.meitus@gmail.com\, FB sõnumisse või helista 511 7563.Toimumi
 skoht: Aasa tn 8\, Jõgeva.Meditatsiooniõhtut viib läbi Merle Meitus.
END:VEVENT
END:VCALENDAR