BEGIN:VCALENDAR
VERSION:2.0
PRODID:-//wp-events-plugin.com//7.2.3.1//EN
TZID:Europe/Tallinn
X-WR-TIMEZONE:Europe/Tallinn
BEGIN:VEVENT
UID:430@merlemeitus.eu
DTSTART:20240221T180000Z
DTEND:20240221T190000Z
DTSTAMP:20240216T075325Z
URL:https://merlemeitus.eu/events/juhendatud-meditatsiooniohtu-jogeval-3/
SUMMARY:Juhendatud meditatsiooniõhtu Jõgeval
DESCRIPTION:Sündmus facebookis https://www.facebook.com/events/3475616514
 24613/347561664757945\nMinu loodud meditatsioonid mõjuvad Sulle teraapili
 selt - aitavad kiires elutempos leida parem kontakt oma keha ja hingega\, 
 leida sisemist tasakaalu ja rahu enda sees. Aitavad sul leida üles sinu p
 äris olemuse\, olla ühenduses iseendaga\, oma hingega.\nKehasse salvestu
 b uus energia\, milles on kergus ja tühi ruum.\nNiiviisi vaikselt liikude
 s tunned\, kuidas sinu sisemaailm avardub\, energia muutub sinu sees ja te
 kib ruumi\, et saaksid vastu võtta uusi asju oma ellu ja olla kerguses.\n
 Meditatsiooni ajal liigud õrnalt ja kergelt iseenda sees. See on sinu aeg
  - lihtsalt vaikuses iseendaga\, aeg kus lubad oma kehal ja meelel lõdves
 tuda.\nSelles lubamise seisundis saab tulla kõik see\, milleks oled valmi
 s\, Universum toetab sind ning asjad hakkavad juhtuma.\nKui saad sellel õ
 htul enda jaoks kasvõi ühe mõtte või taipamise\, mis sind kõnetab\, s
 iis sinu hing on midagi ära tundnud\, miski käivitub sinus ja see hakkab
  sind suunama.\nHing armastab tühjust\, aeglust\, avarust\, lihtsust ja v
 aikust. Olles vaikuses on sul võimalus oma hinge kuulata. Kuulatades oma 
 hinge ja tehes valikuid selle põhjal\, märkad peagi\, kuidas Elu voolab 
 Loojaga ühes rütmis. Looja peab pidu Sinu sees.\n\nMeditatsiooni ajal v
 õid kas istuda või lamada. Võta kaasa padi\, pleed ja matt\, kui soovid
  lamada.\nKui sulle sobib mediteerimine väikeses grupis\, hubases ja hoit
 ud ruumis\, siis varu endale aega\, et saaksid pärast meditatsiooni olla 
 veel mõnusalt selles uues kerges energias ja rahulikult teed juua.\nOsalu
 spanus 10 eurot.\nKuna osalejate arv on piiratud\, siis on kindlasti vajal
 ik eelregistreerimine.\nKui märgid Facebookis "osalen" või "huvitatud"\,
  siis saada kindlasti kinnitus\, kui osaled.\nKirjuta kas e-post merle.mei
 tus@gmail.com\, FB sõnumisse või helista 511 7563.\nArvestan ainult nend
 ega\, kes on mulle teatanud.\nToimumiskoht: Aasa tn 8\, Jõgeva.\nMeditats
 iooniõhtut viib läbi Merle Meitus
END:VEVENT
END:VCALENDAR