BEGIN:VCALENDAR
VERSION:2.0
PRODID:-//wp-events-plugin.com//7.2.3.1//EN
TZID:Europe/Tallinn
X-WR-TIMEZONE:Europe/Tallinn
BEGIN:VEVENT
UID:441@merlemeitus.eu
DTSTART:20240306T180000Z
DTEND:20240306T193000Z
DTSTAMP:20240301T161851Z
URL:https://merlemeitus.eu/events/juhendatud-meditatsiooniohtu-jogeval-5/
SUMMARY:Juhendatud meditatsiooniõhtu Jõgeval
DESCRIPTION:Sündmus facebookis https://www.facebook.com/events/3978248328
 35198/397824842835197\nKui tunned\, et vajad nädalas vähemalt tunnikest 
 aega\, et saaksid olla iseendaga\, ühenduda oma sisemaailmaga\, eemaldude
 s kõigest välisest\, siis on see just Sulle!.\nPalun registreeri alati e
 elnevalt oma osalemine! Arvestan nendega\, kes on mulle teatanud!\nMinu lo
 odud meditatsioonid mõjuvad Sulle teraapiliselt - aitavad kiires elutempo
 s leida parem kontakt oma keha ja hingega\, leida sisemist tasakaalu ja ra
 hu enda sees. Aitavad sul leida üles sinu päris olemuse\, olla ühenduse
 s iseendaga\, oma hingega.\nKehasse salvestub uus energia\, milles on kerg
 us ja tühi ruum.\nNiiviisi vaikselt liikudes tunned\, kuidas sinu sisemaa
 ilm avardub\, energia muutub sinu sees ja tekib ruumi\, et saaksid vastu v
 õtta uusi asju oma ellu ja olla kerguses.\nMeditatsiooni ajal liigud õrn
 alt ja kergelt iseenda sees. See on sinu aeg - lihtsalt vaikuses iseendaga
 \, aeg kus lubad oma kehal ja meelel lõdvestuda.\nSelles lubamise seisund
 is saab tulla kõik see\, milleks oled valmis\, Universum toetab sind ning
  asjad hakkavad juhtuma.\nKui saad sellel õhtul enda jaoks kasvõi ühe m
 õtte või taipamise\, mis sind kõnetab\, siis sinu hing on midagi ära t
 undnud\, miski käivitub sinus ja see hakkab sind suunama.\nHing armastab 
 tühjust\, aeglust\, avarust\, lihtsust ja vaikust. Olles vaikuses on sul 
 võimalus oma hinge kuulata. Kuulatades oma hinge ja tehes valikuid selle 
 põhjal\, märkad peagi\, kuidas Elu voolab Loojaga ühes rütmis. Looja p
 eab pidu Sinu sees.\n\nMeditatsiooni ajal võid kas istuda või lamada. V
 õta kaasa padi\, pleed ja matt\, kui soovid lamada.\nKui sulle sobib medi
 teerimine väikeses grupis\, hubases ja hoitud ruumis\, siis varu endale a
 ega\, et saaksid pärast meditatsiooni olla veel mõnusalt selles uues ker
 ges energias ja rahulikult teed juua.\nOsaluspanus 10 eurot.\nKuna osaleja
 te arv on piiratud\, siis on kindlasti vajalik eelregistreerimine.\nKui m
 ärgid Facebookis "osalen" või "huvitatud"\, siis saada kindlasti kinnitu
 s\, kui osaled.\nKirjuta kas e-post merle.meitus@gmail.com\, FB sõnumisse
  või helista 511 7563.\nToimumiskoht: Aasa tn 8\, Jõgeva.\nMeditatsiooni
 õhtut viib läbi Merle Meitus
END:VEVENT
END:VCALENDAR