BEGIN:VCALENDAR
VERSION:2.0
PRODID:-//wp-events-plugin.com//7.2.3.1//EN
TZID:Europe/Tallinn
X-WR-TIMEZONE:Europe/Tallinn
BEGIN:VEVENT
UID:529@merlemeitus.eu
DTSTART:20241030T180000Z
DTEND:20241030T193000Z
DTSTAMP:20241027T115443Z
URL:https://merlemeitus.eu/events/juhendatud-meditatsiooniohtu-olles-oma-v
 oolus-jogeval-3/
SUMMARY:Juhendatud meditatsiooniõhtu - Olles oma voolus\, Jõgeval
DESCRIPTION:Kui tunned\, et vajad nädalas vähemalt tunnikest aega\, et sa
 aksid olla iseendaga\, ühenduda oma sisemaailmaga\, eemaldudes kõigest v
 älisest\, siis on see just Sulle!\nPalun registreeri alati eelnevalt oma 
 osalemine! Arvestan nendega\, kes on mulle teatanud!\n\nMinu loodud medita
 tsioonid mõjuvad Sulle teraapiliselt - aitavad kiires elutempos leida par
 em kontakt oma keha ja hingega\, leida sisemist tasakaalu ja rahu enda see
 s. Aitavad sul leida üles sinu päris olemuse\, olla ühenduses iseendaga
 \, oma hingega.\nKehasse salvestub uus energia\, milles on kergus ja tühi
  ruum.Niiviisi vaikselt liikudes tunned\, kuidas sinu sisemaailm avardub\,
  energia muutub sinu sees ja tekib ruumi\, et saaksid vastu võtta uusi as
 ju oma ellu ja olla kerguses.Meditatsiooni ajal liigud õrnalt ja kergelt 
 iseenda sees. See on sinu aeg - lihtsalt vaikuses iseendaga\, aeg kus luba
 d oma kehal ja meelel lõdvestuda.Selles lubamise seisundis saab tulla kõ
 ik see\, milleks oled valmis\, Universum toetab sind ning asjad hakkavad j
 uhtuma.\n\nKui saad sellel õhtul enda jaoks kasvõi ühe mõtte või taip
 amise\, mis sind kõnetab\, siis sinu hing on midagi ära tundnud\, miski 
 käivitub sinus ja see hakkab sind suunama.Hing armastab tühjust\, aeglus
 t\, avarust\, lihtsust ja vaikust. Olles vaikuses on sul võimalus oma hin
 ge kuulata. Kuulatades oma hinge ja tehes valikuid selle põhjal\, märkad
  peagi\, kuidas Elu voolab Loojaga ühes rütmis. Looja peab pidu Sinu see
 s.\nLoe kuidas meditatsioon mõjub Sinu hingele\, kehale ja vaimule siit:
  https://merlemeitus.eu/meditatsioonid/\n\nMeditatsiooni ajal võid kas i
 studa või lamada. Võta kaasa padi\, pleed ja matt\, kui soovid lamada.\n
 Kui sulle sobib mediteerimine väikeses grupis\, hubases ja hoitud ruumis\
 , siis varu endale aega\, et saaksid pärast meditatsiooni olla veel mõnu
 salt selles uues kerges energias ja rahulikult teed juua.\n\nOsaluspanus 1
 0 eurot.Tasumine kohapeal sularahas.\nKuna osalejate arv on piiratud\, sii
 s on kindlasti vajalik eelregistreerimine.\nKui märgid Facebookis "osalen
 " või "huvitatud"\, siis saada kindlasti kinnitus\, kui osaled.Kirjuta ka
 s e-post merle.meitus@gmail.com\, FB sõnumisse või helista 511 7563.Toim
 umiskoht: Aasa tn 8\, Jõgeva.Meditatsiooniõhtut viib läbi Merle Meitus.
 \n
END:VEVENT
END:VCALENDAR