BEGIN:VCALENDAR
VERSION:2.0
PRODID:-//wp-events-plugin.com//7.2.3.1//EN
TZID:Europe/Tallinn
X-WR-TIMEZONE:Europe/Tallinn
BEGIN:VEVENT
UID:407@merlemeitus.eu
DTSTART:20231213T180000Z
DTEND:20231213T190000Z
DTSTAMP:20231204T091043Z
URL:https://merlemeitus.eu/events/juhendatud-siserannak-teekond-iseendaga-
 jogeval-10/
SUMMARY:Juhendatud siserännak - Teekond Iseendaga\, Jõgeval
DESCRIPTION:Üritus facebookis https://www.facebook.com/events/16919278845
 51521/1694891424255167\nMinu loodud meditatsioonid mõjuvad Sulle teraapil
 iselt - aitavad kiires elutempos leida parem kontakt oma keha ja hingega\,
  leida sisemist tasakaalu ja rahu enda sees. Aitavad sul leida üles sinu 
 päris olemuse\, olla ühenduses iseendaga\, oma hingega.\nKehasse salvest
 ub uus energia\, milles on kergus ja tühi ruum.\nNiiviisi vaikselt liikud
 es tunned\, kuidas sinu sisemaailm avardub\, energia muutub sinu sees ja t
 ekib ruumi\, et saaksid vastu võtta uusi asju oma ellu ja olla kerguses.\
 nMeditatsiooni ajal liigud õrnalt ja kergelt iseenda sees. See on sinu ae
 g - lihtsalt vaikuses iseendaga\, aeg kus lubad oma kehal ja meelel lõdve
 studa.\nSelles lubamise seisundis saab tulla kõik see\, milleks oled valm
 is\, Universum toetab sind ning asjad hakkavad juhtuma.\nKui saad sellel 
 õhtul enda jaoks kasvõi ühe mõtte või taipamise\, mis sind kõnetab\,
  siis sinu hing on midagi ära tundnud\, miski käivitub sinus ja see hakk
 ab sind suunama.\nHing armastab tühjust\, aeglust\, avarust\, lihtsust ja
  vaikust. Olles vaikuses on sul võimalus oma hinge kuulata. Kuulatades om
 a hinge ja tehes valikuid selle põhjal\, märkad peagi\, kuidas Elu voola
 b Loojaga ühes rütmis. Looja peab pidu Sinu sees.\n\nMeditatsiooni ajal 
 võid kas istuda või lamada. Võta kaasa padi\, pleed ja matt\, kui soovi
 d lamada.\nKui sulle sobib mediteerimine väikeses grupis\, hubases ja hoi
 tud ruumis\, siis varu endale aega\, et saaksid pärast meditatsiooni olla
  veel mõnusalt selles uues kerges energias ja rahulikult teed juua.\nOsal
 uspanus 10 eurot.\nKuna osalejate arv on piiratud\, siis on kindlasti vaja
 lik eelregistreerimine.\nKui märgid Facebookis "osalen" või "huvitatud"\
 , siis saada kindlasti kinnitus\, kui osaled.\nKirjuta kas e-post merle.me
 itus@gmail.com\, FB sõnumisse või helista 511 7563.\nArvestan ainult nen
 dega\, kes on mulle teatanud.\nToimumiskoht: Aasa tn 8\, Jõgeva.\nMeditat
 siooniõhtut viib läbi Merle Meitus
END:VEVENT
END:VCALENDAR