BEGIN:VCALENDAR
VERSION:2.0
PRODID:-//wp-events-plugin.com//7.2.3.1//EN
TZID:Europe/Tallinn
X-WR-TIMEZONE:Europe/Tallinn
BEGIN:VEVENT
UID:409@merlemeitus.eu
DTSTART:20231227T180000Z
DTEND:20231227T190000Z
DTSTAMP:20231204T091501Z
URL:https://merlemeitus.eu/events/juhendatud-siserannak-teekond-iseendaga-
 jogeval-12/
SUMMARY:Juhendatud siserännak - Teekond Iseendaga\, Jõgeval
DESCRIPTION:Üritus facebookis https://www.facebook.com/events/16919278845
 51521/1694891420921834\n\nMinu loodud meditatsioonid mõjuvad Sulle teraap
 iliselt - aitavad kiires elutempos leida parem kontakt oma keha ja hingega
 \, leida sisemist tasakaalu ja rahu enda sees. Aitavad sul leida üles sin
 u päris olemuse\, olla ühenduses iseendaga\, oma hingega.\nKehasse salve
 stub uus energia\, milles on kergus ja tühi ruum.\nNiiviisi vaikselt liik
 udes tunned\, kuidas sinu sisemaailm avardub\, energia muutub sinu sees ja
  tekib ruumi\, et saaksid vastu võtta uusi asju oma ellu ja olla kerguses
 .\nMeditatsiooni ajal liigud õrnalt ja kergelt iseenda sees. See on sinu 
 aeg - lihtsalt vaikuses iseendaga\, aeg kus lubad oma kehal ja meelel lõd
 vestuda.\nSelles lubamise seisundis saab tulla kõik see\, milleks oled va
 lmis\, Universum toetab sind ning asjad hakkavad juhtuma.\nKui saad sellel
  õhtul enda jaoks kasvõi ühe mõtte või taipamise\, mis sind kõnetab\
 , siis sinu hing on midagi ära tundnud\, miski käivitub sinus ja see hak
 kab sind suunama.\nHing armastab tühjust\, aeglust\, avarust\, lihtsust j
 a vaikust. Olles vaikuses on sul võimalus oma hinge kuulata. Kuulatades o
 ma hinge ja tehes valikuid selle põhjal\, märkad peagi\, kuidas Elu vool
 ab Loojaga ühes rütmis. Looja peab pidu Sinu sees.\nLoe kuidas meditatsi
 oon mõjub Sinu hingele\, kehale ja vaimule siit: https://merlemeitus.eu/
 meditatsioonid/\nMeditatsiooni ajal võid kas istuda või lamada. Võta ka
 asa padi\, pleed ja matt\, kui soovid lamada.\nKui sulle sobib mediteerimi
 ne väikeses grupis\, hubases ja hoitud ruumis\, siis varu endale aega\, e
 t saaksid pärast meditatsiooni olla veel mõnusalt selles uues kerges ene
 rgias ja rahulikult teed juua.\nOsaluspanus 10 eurot.\nKuna osalejate arv 
 on piiratud\, siis on kindlasti vajalik eelregistreerimine.\nKui märgid F
 acebookis "osalen" või "huvitatud"\, siis saada kindlasti kinnitus\, kui 
 osaled.\nKirjuta kas e-post merle.meitus@gmail.com\, FB sõnumisse või he
 lista 511 7563.\nArvestan ainult nendega\, kes on mulle teatanud.\nToimumi
 skoht: Aasa tn 8\, Jõgeva.\nMeditatsiooniõhtut viib läbi Merle Meitus
END:VEVENT
END:VCALENDAR