BEGIN:VCALENDAR
VERSION:2.0
PRODID:-//wp-events-plugin.com//7.2.3.1//EN
TZID:Europe/Tallinn
X-WR-TIMEZONE:Europe/Tallinn
BEGIN:VEVENT
UID:383@merlemeitus.eu
DTSTART:20231011T180000Z
DTEND:20231011T193000Z
DTSTAMP:20231008T080943Z
URL:https://merlemeitus.eu/events/juhendatud-siserannak-teekond-iseendaga-
 jogeval/
SUMMARY:Juhendatud siserännak - Teekond Iseendaga\, Jõgeval
DESCRIPTION:Minu loodud meditatsioonid mõjuvad Sulle teraapiliselt - aitav
 ad kiires elutempos leida parem kontakt oma keha ja hingega\, leida sisemi
 st tasakaalu ja rahu enda sees. Aitavad sul leida üles sinu päris olemus
 e\, olla ühenduses iseendaga\, oma hingega.\nKehasse salvestub uus energi
 a\, milles on kergus ja tühi ruum.\nNiiviisi vaikselt liikudes tunned\, k
 uidas sinu sisemaailm avardub\, energia muutub sinu sees ja tekib ruumi\, 
 et saaksid vastu võtta uusi asju oma ellu ja olla kerguses.\nMeditatsioon
 i ajal liigud õrnalt ja kergelt iseenda sees. See on sinu aeg - lihtsalt 
 vaikuses iseendaga\, aeg kus lubad oma kehal ja meelel lõdvestuda.\nSelle
 s lubamise seisundis saab tulla kõik see\, milleks oled valmis\, Universu
 m toetab sind ning asjad hakkavad juhtuma.\nKui saad sellel õhtul enda ja
 oks kasvõi ühe mõtte või taipamise\, mis sind kõnetab\, siis sinu hin
 g on midagi ära tundnud\, miski käivitub sinus ja see hakkab sind suunam
 a.\nHing armastab tühjust\, aeglust\, avarust\, lihtsust ja vaikust. Olle
 s vaikuses on sul võimalus oma hinge kuulata. Kuulatades oma hinge ja teh
 es valikuid selle põhjal\, märkad peagi\, kuidas Elu voolab Loojaga ühe
 s rütmis. Looja peab pidu Sinu sees.\n\nMeditatsiooni ajal võid kas istu
 da või lamada. Võta kaasa padi\, pleed ja matt\, kui soovid lamada.\nKui
  sulle sobib mediteerimine väikeses grupis\, hubases ja hoitud ruumis\, s
 iis varu endale aega\, et saaksid pärast meditatsiooni olla veel mõnusal
 t selles uues kerges energias ja rahulikult teed juua.\nOsaluspanus 10 eur
 ot.\nKuna osalejate arv on piiratud\, siis on kindlasti vajalik eelregistr
 eerimine.\nKui märgid Facebookis "osalen" või "huvitatud"\, siis saada k
 indlasti kinnitus\, kui osaled.\nKirjuta kas e-post merle.meitus@gmail.com
 \, FB sõnumisse või helista 511 7563.\nArvestan ainult nendega\, kes on 
 mulle teatanud.\nToimumiskoht: Aasa tn 8\, Jõgeva.\nMeditatsiooniõhtut v
 iib läbi Merle Meitus
END:VEVENT
END:VCALENDAR