BEGIN:VCALENDAR
VERSION:2.0
PRODID:-//wp-events-plugin.com//7.2.3.1//EN
TZID:Europe/Tallinn
X-WR-TIMEZONE:Europe/Tallinn
BEGIN:VEVENT
UID:10@merlemeitus.eu
DTSTART:20190910T163000Z
DTEND:20190910T193000Z
DTSTAMP:20190901T073958Z
URL:https://merlemeitus.eu/events/konstellatsioon-jogeval/
SUMMARY:Konstellatsioon Jõgeval
DESCRIPTION:Kutsun sind kogema konstellatsiooni võlusid. Konstellatsioon a
 itab meil tervendada meie alateadvuses ja hingetasandil toimuvat. Konstell
 atsiooni kaudu tuleb ilmsiks see\, mis on tegelikult nende teemade põhjus
 \, mis meid elus häirivad. Täpsema info leiad kodulehelt.\nKui oled huvi
 tatud\, siis märgi see kuupäev juba varakult kalendrisse ja palun anna o
 salemisest mulle kindlasti teada.
END:VEVENT
END:VCALENDAR