BEGIN:VCALENDAR
VERSION:2.0
PRODID:-//wp-events-plugin.com//7.2.3.1//EN
TZID:Europe/Tallinn
X-WR-TIMEZONE:Europe/Tallinn
BEGIN:VEVENT
UID:11@merlemeitus.eu
DTSTART:20191009T163000Z
DTEND:20191009T190000Z
DTSTAMP:20190930T152525Z
URL:https://merlemeitus.eu/events/konstellatsioonid-jogeval/
SUMMARY:Konstellatsioonid Jõgeval
DESCRIPTION:Meie elu mõjutavad väga erinevad probleemid - suhted lastega\
 , partneriga\, vanematega\, ebaõnnestumised elus\, haigused\, ebakindlus\
 , raske teha otsuseid jne.\nKonstellatsioon on teraapiline tööriist\, mi
 s näitab seda\, mida me muidu ei näe – algpõhjuseid meid puudutavatel
 e probleemidele. Alles siis\, kui probleemi põhjus on saanud nähtavaks\,
  on meil võimalik tuua oma ellu suuri muutusi.\nKui tunned\, et sinu elus
  on mingi takistus\, mis häirib igapäeva elu (tunne\, situatsioonid\, su
 hted jne)\, võimaldab konstellatsiooni meetod vaadata\, millega see on se
 otud ning leida ressurssi sellest vabanemiseks. Meetod on väga sügav ja 
 puudutav.\nOsaluspanus:\nOsalemine asendaja või vaatlejana 15 eurot.\nDis
 ain ehk minikonstellatsioon 20 eurot.\nIsikliku teemaga töö (konstellats
 ioon) 50 eurot (etteregistreerimisega).\nKui soovid konstellatsioonis (isi
 kliku teemaga töös) rohkem privaatsust\, siis on võimalik eelnevalt\, e
 nne algust teha vestlus ja konstellatsioonis kasutada varjatud meetodit\, 
 st et asendajad ei tea\, mis teemat käsitletakse.\nAinult isiklik kogemus
  aitab mõista\, kuidas konstellatsioon toimib ja ainult oma keha kaudu on
  võimalik saavutada usaldus\, et niisugune fenomen eksisteerib.\n\nInfot 
 võib jagada! Ehk jõuab just sinu jagamise kaudu see inimesteni\, kes sed
 a praegu väga vajavad.\n\nPalun registreeri alati osalemine\, kas kirjuta
 des e-post: merle.meitus@gmail.com\, saates sõnumi Facebooki või märgi 
 ürituse juurde „osalen“. Kui mingil põhjusel selgub\, et sa siiski e
 i saa osaleda\, kuigi oled registreerinud\, siis palun anna ka sellest tea
 da.\n\nKui arvad\, et FB-s jagatud info ei jõua alati sinuni ja soovid in
 fot konstellatsioonide toimumise kohta ka e-postile\, siis anna sellest m
 ärku ja lisan sind listi.\nKüsimuste korral võib helistada tel 511 7563
  Merle.\nOodatud on kindlasti ka mehed. Erinevad teemad\, mis meid elus pu
 udutavad mõjutavad sarnaselt nii mehi kui naisi.\nTule ja muuda oma elu!\
 n\nKonstellatsioonide õhtu toimub Jõgeva Kultuurikeskuses.\nRohkem infot
  konstellatsioonide kohta saab lugeda minu kodulehelt:\nhttps://merlemeitu
 s.eu/konstellatsioonid/
LOCATION:Jõgeva Kultuurikeskus\, Aia 6\, Jõgeva\, Estonia
X-APPLE-STRUCTURED-LOCATION;VALUE=URI;X-ADDRESS=Aia 6\, Jõgeva\, Estonia;X
 -APPLE-RADIUS=100;X-TITLE=Jõgeva Kultuurikeskus:geo:0,0
END:VEVENT
END:VCALENDAR