BEGIN:VCALENDAR
VERSION:2.0
PRODID:-//wp-events-plugin.com//7.2.3.1//EN
TZID:Europe/Tallinn
X-WR-TIMEZONE:Europe/Tallinn
BEGIN:VEVENT
UID:12@merlemeitus.eu
DTSTART:20191112T163000Z
DTEND:20191112T190000Z
DTSTAMP:20191030T162124Z
URL:https://merlemeitus.eu/events/konstellatsioonide-ohtu/
SUMMARY:Konstellatsioonide õhtu
DESCRIPTION:Tulemas järjekordne konstellatsioonide õhtu!\nSellel korral t
 eisipäeval!\nTöötoas teeme soovijatele nii lühikesi universaalseid min
 ikonstellatsioone kui ka täispikki konstellatsioone isikliku teemaga (soo
 vitav etteregistreerida). Läbi konstellatsiooni välja on sul võimalik v
 aadata ükskõik millise hetkel olulise teema või küsimuse süvakihtides
 se. Saada teada\, miks see on tekkinud\, kelle või millega seotud ja kuid
 as leida parim lahendus.\nTeemad võivad varieeruda seinast-seina. Pingeli
 sed suhted partneri\, laste\, vanemate või oma sugulastega\, tervisega se
 otud teemad\, külluse ja rahulolu suurendamine oma elus\, töö\, elukoha
  või muude valikute tegemine\, elu siht ja tupikust väljumine\, naiselik
 kuse või mehelikkusega seotud teemad jne. Vastuseid saab otsida kõigele\
 , mis hetkel sinu hinge vaevab ja on sinuga seotud.\nLoe rohkem minu kodul
 ehelt. \n\n\nOsaluspanus töötoas:\nOsalemine asendaja või vaatlejana 1
 5 eurot.\nDisain ehk minikonstellatsioon 20 eurot.\nIsikliku teemaga töö
  (konstellatsioon) 50 eurot (etteregistreerimisega).\n\nOsalemine ei eelda
  varasemaid teadmisi konstellatsioonist ja selleks ei pea ennast kuidagi e
 tte valmistama. Kui osaled\, oled juba piisavalt avatud\, et kogeda.\nPaku
 n ka seekord välja ühe huvitava harjutuse mida soovijad saavad läbi teh
 a.\nGrupis kehtib konfidentsiaalsuse reegel\, et tagada turvalisus kõikid
 ele osalejatele. Alati on võimalik tööd teha ka varjatud meetodil st\, 
 et kohalolijad ei tea mis teemaga on tegemist ja keda väljal esindatakse.
 \nTeata kindlasti osalemisest e-post: merle.meitus@gmail.com\,\ntel 511 75
 63 või saada sõnum FB-s.\nInfot võib jagada! Sinu jagamise kaudu võib 
 see jõuda inimeseni\, kes seda hetkel väga vajab.\n\n
END:VEVENT
END:VCALENDAR