BEGIN:VCALENDAR
VERSION:2.0
PRODID:-//wp-events-plugin.com//7.2.3.1//EN
TZID:Europe/Tallinn
X-WR-TIMEZONE:Europe/Tallinn
BEGIN:VEVENT
UID:386@merlemeitus.eu
DTSTART:20231112T140000Z
DTEND:20231112T180000Z
DTSTAMP:20231023T095004Z
URL:https://merlemeitus.eu/events/konstellatsioonide-tootuba-jogeval-27/
SUMMARY:Konstellatsioonide töötuba\, Isadepäev - minu Isa ja minu Ema\, 
 Jõgeval
DESCRIPTION:Üritus facebookis https://www.facebook.com/events/16910890580
 59893\n\n\nSellel päeval oleme kõik kas vähemal või rohkemal määral 
 ühenduses oma isaga. Kas kohtume füüsiliselt või oma mõtetes oleme ko
 os või hoopis tunned seda ühendust südames\, oma hinges.\n\nTundsin\, e
 t selles energiaväljas olles on igati õige teha sellel päeval eriline t
 öötuba ja läbi konstellatsiooni välja ühendada sind selle väega\, mi
 lle oled saanud oma emalt ja isalt. Tihti on see ühendus katkenud\, sest 
 midagi on juhtunud\, mis tegi sulle haiget. Saanud tagasi oma väe\, sa ju
 stkui kasvad\, saad tagasi oma terviklikkuse ja jõu. \n\nKui tundsid\, e
 t see sind kõnetas\, siis järelikult on see sulle vajalik ja oluline. Us
 alda tunnet enda sees. Ehk on see sinu jaoks väga oluline samm\, mida pea
 d tegema\, et saaksid teha järgmiseid samme elus\, mida seni millegipära
 st ei saanud teha.\n\nOsaluspanus:\n\nKonstellatsioon - Minu Isa ja minu E
 ma - 65 eurot\n\nOsalemine asendaja/vaatlejana - 20 eurot (eelregistreerim
 isega 15 eurot).\n\nLühi konstellatsioon sulle olulise teemaga - 50 eurot
 .\n\nIsikliku teemaga konstellatsioon - 120 eurot (eelregistreerimisega\, 
 kui tekib kellelgi vajadus ja soov).\n\nKui teatad osalemisest\, siis anna
  teada ka\, millise sooviga tuled.\n\nTasumine kohapeal sularahas.\n\nHind
  sisaldab suupisteid ja kohvipause.\n\nGrupis kehtib range konfidentsiaals
 use nõue\, et tagada turvalisus kõikidele osalejatele.\n\nOsalemiseks on
  kindlasti vaja registreerida kuna grupi suurus on piiratud!\n\nToimub Aas
 a tn 8\, Jõgeval.\n\nTöötuba viib läbi sertifitseeritud perekonstellö
 ör Merle Meitus\,\n\nEesti Professionaalsete konstellööride assotsiatsi
 ooni liige.\n\nTäiendõpe rahvusvahelises konstellatsiooni õppes\,\n\nko
 gemusnõustaja\, 56 aastat elukogemust\n\nKontakt: e-post: merle.meitus@gm
 ail.com\, tel 511 7563.\n\n
END:VEVENT
END:VCALENDAR