BEGIN:VCALENDAR
VERSION:2.0
PRODID:-//wp-events-plugin.com//7.2.3.1//EN
TZID:Europe/Tallinn
X-WR-TIMEZONE:Europe/Tallinn
BEGIN:VEVENT
UID:437@merlemeitus.eu
DTSTART:20240310T120000Z
DTEND:20240310T180000Z
DTSTAMP:20240221T165431Z
URL:https://merlemeitus.eu/events/konstellatsioonide-tootuba-jogeval-31/
SUMMARY:Konstellatsioonide töötuba Jõgeval
DESCRIPTION:Sündmus facebookis https://www.facebook.com/events/9494943660
 92764\nKui Sa vaatad sügavamale enda sisse\, siis kuidas sa ennast tunned
 ?\nOn seal seisundeid\, millele Sa ei oska seletust anda - kurbus\, hirm\,
  ärevus\, häbi\, viha\, valu\, süütunne\, ebakindlus\, tervisega on mi
 ski valesti?\nOn seal lahendamata teemasid\, mida oled ikka ja jälle vaik
 selt tagasi lükanud\, et mitte neid tunnistada\, kuigi need teemad on Sul
 le korduvalt ennast näidanud?\nMis toimub Sinuga hinge tasandil ja kuidas
  lahendamata teemad meid mõjutavad?\nKehamälus on kõik see\, mis on Sin
 d mingil elu perioodil raskelt mõjutanud ja jätnud oma jälje\, mida end
 a teadmata kannad. Hinge tasandil oled energeetiliselt seotud mineviku lah
 endamata teemadega\, mida Sa teadlikult ise ei tea. Need on energeetilised
  ühendused kuhu ei pääse ise ligi.\nKa lapsed oma ebatavalise käitumis
 ega näitavad\, et midagi on vanematel lahendamata. Alaealiste laste teema
 sid lahendatakse konstellatsioonis vanemate kaudu.\nKonstellatsioonid näi
 tavad ka\, kuidas meie esivanemate traumad\, kellega saatus meid seob\, p
 üsivad ja mõjutavad järeltulijate elu. Samuti teeb ta nähtavaks lapsep
 õlves toimunud traumad\, mida me ei pruugi mäletada aga mis mõjutavad m
 eie elu senini.\nPaljud seletamatud seisundid meie elus näitavad just sed
 a osa\, mis on inimese enda elulooraamatust või perekonna loost välja j
 äetud.\nKonstellatsiooni töös on oluline\, et kliendil oleks võimalik 
 avada oma süda sellele\, mis konstellatsiooni töö esile toob. Tegemist 
 on integratsiooniprotsessiga. See on järkjärguline protsess\, kus tasake
 si lähenetakse sellele\, mida varem kogeti dramaatiliselt ja traumeerival
 t.\nTöö käigus traumaga seotud energia vabaneb ning ideaalis saab selle
 st hiljem inimest toetav ressurss.\nLäbi konstellatsiooni välja on võim
 alik vaadata ükskõik millist hetkel olulist teemat elus\, saada teada\, 
 miks see on tekkinud\, kelle või millega seotud. Ja kui me näeme ja tunn
 istame seda\, mis tegelikult on\, siis leiad oma hinges rahu. Ja selle hin
 gerahuga jõuad ka rahusse oma kehaga ja muutused sinu elus saavad toimuda
 .\nKonstellatsioonis me vahel saame lõpetada mingi liikumise\, mida me va
 rem ei olnud võimelised või ei saanud lõpetada\, energia leiab oma õig
 e koha ja sinu elu hakkab muutuma.\nMuutused sinus saavad tulla siis\, kui
  sinus on piisavalt ruumi\, aega ja lubamist.\nKui oled valmis kõike vaat
 ama\, tunnistama ja vabastama oma kehast\, saad tagasi kerguse\, oma jõu 
 ja väe ning Elu ja Energia voolab jälle Sinus.\n\nTöötoas teeme soovij
 atele nii konstellatsioone isikliku teemaga\, kui ka lühi konstellatsioon
 e ehk siis mingi hetkeolukorra vaatamist.\nTeemad võivad varieeruda seina
 st-seina. Pingelised suhted partneri\, laste\, vanemate või oma sugulaste
 ga\, tervisega seotud teemad\, külluse ja rahulolu suurendamine oma elus\
 , töö\, elukoha või muude valikute tegemine jne. Tihti on suur abi ka j
 uba sellest\, kui panna teema/probleem väljale üles ja näha seda pilti 
 kuidas asjad tegelikult on (teha lühi konstellatsioon).\n\nOsalemine ei e
 elda varasemaid teadmisi konstellatsioonist ja selleks ei pea ennast kuida
 gi ette valmistama. Kui osaled\, oled juba piisavalt avatud\, et kogeda.\n
 Konstellatsiooni väli töötab kõigiga\, kes on ruumis. Läbi teiste tö
 öde saad vastuseid ka iseenda lahendamata teemadele või kohtadele elus j
 a mingi kerguse enda sees.\n\nIga konstellatsiooni töötuba loob ennast i
 se - inimestega\, kes on sinna juhatatud ja teemadega\, mis hakkavad tasap
 isi hargnema. Kui Sa oled sinna osalema tulnud\, siis on selleks alati põ
 hjus\, miks sa pidid sinna jõudma. Taipamised tulevad hiljem\, Sina pead 
 ainult oma sisetunnet usaldama.....\nKutsu kaasa hea tuttav või lähedane
 \, ehk on just talle seda kogemust hetkel väga vaja.\nSina saad soovitada
 !\n\nKui soovid isikliku teemaga konstellatsiooni\, siis on vajalik eelnev
 alt teada anda kuna tööde arv on ajaliselt piiratud.\nOsaluspanus:\nOsal
 emine asendaja/vaatlejana 20 eurot\, eelregistreerimisega vähemalt 2 päe
 va enne15 eurot.\nLühi konstellatsioon 65 eurot.\nIsikliku teemaga konste
 llatsioon 140 eurot (eelregistreerimisega).\nKonstellatsioon paarile 200 e
 urot (eelregistreerimisega).\nTasumine kohapeal sularahas.\n\nGrupis kehti
 b range konfidentsiaalsuse nõue\, et tagada turvalisus kõikidele osaleja
 tele.\nOsalemiseks on kindlasti vaja registreerida kuna grupi suurus on pi
 iratud!\nTöötuba toimub Aasa tn 8\, Jõgeval.\nTöötuba viib läbi sert
 ifitseeritud perekonstellöör Merle Meitus\,\nEesti Professionaalsete kon
 stellööride assotsiatsiooni liige\,\ntäiendõpe rahvusvahelises konstel
 latsiooni õppes\,\nkogemusnõustaja\, 56 aastat elukogemust.\nKontakt: e-
 post: merle.meitus@gmail.com\, tel 511 7563.
END:VEVENT
END:VCALENDAR