BEGIN:VCALENDAR
VERSION:2.0
PRODID:-//wp-events-plugin.com//7.2.3.1//EN
TZID:Europe/Tallinn
X-WR-TIMEZONE:Europe/Tallinn
BEGIN:VEVENT
UID:258@merlemeitus.eu
DTSTART:20221009T100000Z
DTEND:20221009T160000Z
DTSTAMP:20220914T090748Z
URL:https://merlemeitus.eu/events/konstellatsioonide-tootuba-tartus-15/
SUMMARY:Konstellatsioonide töötuba Tartus
DESCRIPTION:Konstellatsioonide töötuba Tartus\nPühapäeval\, 9. oktoobri
 l kell 12.00-18.00 Ülikooli 3\, Tartus.\n\nKonstellatsioonid näitavad\, 
 kuidas meie esivanemate traumad\, kellega saatus meid seob\, püsivad ja m
 õjutavad järeltulijate elu. Samuti teeb ta nähtavaks lapsepõlves toimu
 nud traumad\, mida me ei pruugi mäletada aga mis mõjutavad meie elu seni
 ni.\nPaljud sümptomid meie elus esindavad just seda osa\, mis on inimese 
 enda elulooraamatust või perekonna loost välja jäetud.\nKonstellatsioon
 i töös on oluline\, et kliendil oleks võimalik avada oma süda sellele\
 , mis konstellatsiooni töö esile toob. Tegemist on integratsiooniprotses
 siga. See on järkjärguline protsess\, kus tasakesi lähenetakse sellele\
 , mida varem kogeti dramaatiliselt ja traumeerivalt.\nTöö käigus trauma
 ga seotud energia vabaneb ning ideaalis saab sellest hiljem inimest toetav
  ressurss.\nLäbi konstellatsiooni välja on võimalik vaadata ükskõik m
 illist hetkel olulist teemat elus\, saada teada\, miks see on tekkinud\, k
 elle või millega seotud. Ja kui me näeme ja tunnistame seda\, mis tegeli
 kult on\, siis leiad oma hinges rahu. Ja selle hingerahuga jõuad ka rahus
 se oma kehaga.\nKonstellatsioonis me vahel saame lõpetada mingi liikumise
 \, mida me varem ei olnud võimelised või ei saanud lõpetada\, energia l
 eiab oma õige koha ja sinu elu hakkab muutuma. Muutused sinus saavad tull
 a siis\, kui sinus on piisavalt ruumi\, aega ja lubamist.\nKonstellatsioon
 ide töötoas teeme soovijatele nii konstellatsioone isikliku teemaga\, ku
 i ka lühikesi universaalseid minikonstellatsioone (disaine). Disain on mi
 ngi hetkeolukorra vaatamine.\nTeemad võivad varieeruda seinast-seina. Pin
 gelised suhted partneri\, laste\, vanemate või oma sugulastega\, terviseg
 a seotud teemad\, külluse ja rahulolu suurendamine oma elus\, töö\, elu
 koha või muude valikute tegemine jne. Tihti on suur abi ka juba sellest\,
  kui panna teema/probleem väljale üles ja näha seda pilti kuidas asjad 
 tegelikult on (teha disain).\nOsalemine ei eelda varasemaid teadmisi konst
 ellatsioonist ja selleks ei pea ennast kuidagi ette valmistama. Kui osaled
 \, oled juba piisavalt avatud\, et kogeda.\nOsaluspanus:\nOsalemine asenda
 ja/vaatlejana 20 eurot.\nDisain 25 eurot.\nIsikliku teemaga konstellatsioo
 n 100 eurot (etteregistreerimisega).\nTasumine kohapeal sularahas.\nOsalus
 tasu sisaldab suupisteid.\nKui teed disaini või isikliku teemaga konstell
 atsiooni\, siis eraldi osalemistasu ei pea maksma.\nKuna tööde arv on pi
 iratud\, siis teata varakult oma töö soovist-kas soovid disaini või kon
 stellatsiooni isikliku teemaga. Disaini soov tekib tihti ka kohapeal.\nGru
 pis kehtib range konfidentsiaalsuse nõue\, et tagada turvalisus kõikidel
 e osalejatele.\nOsalemiseks on kindlasti vaja registreerida kuna grupi suu
 rus on piiratud!\nTeata osalemisest e-post: merle.meitus@gmail.com.\nTöö
 tuba toimub pühapäeval\, 9. oktoobril kell 12.00-18.00 Ülikooli 3\, Tar
 tus.\nSiit saab lugeda osalejate tagasisidet:\nhttps://merlemeitus.eu/klie
 ntide-tagasiside.\nTöötuba viib läbi sertifitseeritud perekonstellöör
  Merle Meitus.
END:VEVENT
END:VCALENDAR