BEGIN:VCALENDAR
VERSION:2.0
PRODID:-//wp-events-plugin.com//7.2.3.1//EN
TZID:Europe/Tallinn
X-WR-TIMEZONE:Europe/Tallinn
BEGIN:VEVENT
UID:412@merlemeitus.eu
DTSTART:20240111T153000Z
DTEND:20240111T193000Z
DTSTAMP:20231221T121617Z
URL:https://merlemeitus.eu/events/konstellatsioonide-tootuba-tartus-24/
SUMMARY:Konstellatsioonide töötuba Tartus
DESCRIPTION:Üritus facebookis https://www.facebook.com/events/87371225095
 9534/873712257626200/\nJaanuaris toimub kahel kuupäeval!\nKui Sa vaatad s
 ügavamale enda sisse\, siis kuidas sa ennast tunned?\nOn seal seisundeid\
 , millele Sa ei oska seletust anda - kurbus\, hirm\, ärevus\, häbi\, vih
 a\, valu\, süütunne\, ebakindlus\, tervisega on miski valesti?\nOn seal 
 lahendamata teemasid\, mida oled ikka ja jälle vaikselt tagasi lükanud\,
  et mitte neid tunnistada\, kuigi need teemad on Sulle korduvalt ennast n
 äidanud?\nMis toimub Sinuga hinge tasandil ja kuidas lahendamata teemad m
 eid mõjutavad?\nKehamälus on kõik see\, mis on Sind mingil elu perioodi
 l raskelt mõjutanud ja jätnud oma jälje\, mida enda teadmata kannad. Hi
 nge tasandil oled energeetiliselt seotud mineviku lahendamata teemadega\, 
 mida Sa teadlikult ise ei tea. Need on energeetilised ühendused kuhu ei p
 ääse ise ligi.\nKa lapsed oma ebatavalise käitumisega näitavad\, et mi
 dagi on vanematel lahendamata. Alaealiste laste teemasid lahendatakse kons
 tellatsioonis vanemate kaudu.\nKonstellatsioonid näitavad ka\, kuidas mei
 e esivanemate traumad\, kellega saatus meid seob\, püsivad ja mõjutavad 
 järeltulijate elu. Samuti teeb ta nähtavaks lapsepõlves toimunud trauma
 d\, mida me ei pruugi mäletada aga mis mõjutavad meie elu senini.\nPalju
 d seletamatud seisundid meie elus näitavad just seda osa\, mis on inimese
  enda elulooraamatust või perekonna loost välja jäetud.\nKonstellatsioo
 ni töös on oluline\, et kliendil oleks võimalik avada oma süda sellele
 \, mis konstellatsiooni töö esile toob. Tegemist on integratsiooniprotse
 ssiga. See on järkjärguline protsess\, kus tasakesi lähenetakse sellele
 \, mida varem kogeti dramaatiliselt ja traumeerivalt.\nTöö käigus traum
 aga seotud energia vabaneb ning ideaalis saab sellest hiljem inimest toeta
 v ressurss.\nLäbi konstellatsiooni välja on võimalik vaadata ükskõik 
 millist hetkel olulist teemat elus\, saada teada\, miks see on tekkinud\, 
 kelle või millega seotud. Ja kui me näeme ja tunnistame seda\, mis tegel
 ikult on\, siis leiad oma hinges rahu. Ja selle hingerahuga jõuad ka rahu
 sse oma kehaga ja muutused sinu elus saavad toimuda.\nKonstellatsioonis me
  vahel saame lõpetada mingi liikumise\, mida me varem ei olnud võimelise
 d või ei saanud lõpetada\, energia leiab oma õige koha ja sinu elu hakk
 ab muutuma.\nMuutused sinus saavad tulla siis\, kui sinus on piisavalt ruu
 mi\, aega ja lubamist.\nKui oled valmis kõike vaatama\, tunnistama ja vab
 astama oma kehast\, saad tagasi kerguse\, oma jõu ja väe ning Elu ja Ene
 rgia voolab jälle Sinus.\nTöötoas teeme soovijatele nii konstellatsioon
 e isikliku teemaga\, kui ka lühi konstellatsioone ehk siis mingi hetkeolu
 korra vaatamist.\nTeemad võivad varieeruda seinast-seina. Pingelised suht
 ed partneri\, laste\, vanemate või oma sugulastega\, tervisega seotud tee
 mad\, külluse ja rahulolu suurendamine oma elus\, töö\, elukoha või mu
 ude valikute tegemine jne. Tihti on suur abi ka juba sellest\, kui panna t
 eema/probleem väljale üles ja näha seda pilti kuidas asjad tegelikult o
 n (teha lühi konstellatsioon).\nOsalemine ei eelda varasemaid teadmisi ko
 nstellatsioonist ja selleks ei pea ennast kuidagi ette valmistama. Kui osa
 led\, oled juba piisavalt avatud\, et kogeda.\nKonstellatsiooni väli tö
 ötab kõigiga\, kes on ruumis. Läbi teiste tööde saad vastuseid ka ise
 enda lahendamata teemadele või kohtadele elus ja mingi kerguse enda sees.
 \nIga konstellatsiooni töötuba loob ennast ise - inimestega\, kes on sin
 na juhatatud ja teemadega\, mis hakkavad tasapisi hargnema. Kui Sa oled si
 nna osalema tulnud\, siis on selleks alati põhjus\, miks sa pidid sinna j
 õudma. Taipamised tulevad hiljem\, Sina pead ainult oma sisetunnet usalda
 ma.....\nKutsu kaasa hea tuttav või lähedane\, ehk on just talle seda ko
 gemust hetkel väga vaja.\nSina saad soovitada!\n\nKui soovid isikliku tee
 maga konstellatsiooni\, siis on vajalik eelnevalt teada anda kuna tööde 
 arv on ajaliselt piiratud.\nOsaluspanus:\nOsalemine asendaja/vaatlejana 20
  eurot\, eelregistreerimisega vähemalt 2 päeva enne 15 eurot.\nLühi kon
 stellatsioon 65 eurot.\nIsikliku teemaga konstellatsioon 140 eurot (eelreg
 istreerimisega).\nKonstellatsioon paarile 200 eurot (eelregistreerimisega)
 .\nTasumine kohapeal sularahas.\n\nGrupis kehtib range konfidentsiaalsuse 
 nõue\, et tagada turvalisus kõikidele osalejatele.\nOsalemiseks on kindl
 asti vaja registreerida kuna grupi suurus on piiratud!\n\nTöötuba toimub
  Gildi 3\, 2. korrus Tartus\, Helisev Sõnum ruumides.\n\nTöötuba viib l
 äbi sertifitseeritud perekonstellöör Merle Meitus\,\nEesti Professionaa
 lsete konstellööride assotsiatsiooni liige\,\ntäiendõpe rahvusvahelise
 s konstellatsiooni õppes\,\nkogemusnõustaja\, 56 aastat elukogemust.\nKo
 ntakt: e-post: merle.meitus@gmail.com\, tel 511 7563.
END:VEVENT
END:VCALENDAR