BEGIN:VCALENDAR
VERSION:2.0
PRODID:-//wp-events-plugin.com//7.2.3.1//EN
TZID:Europe/Tallinn
X-WR-TIMEZONE:Europe/Tallinn
BEGIN:VEVENT
UID:413@merlemeitus.eu
DTSTART:20240122T153000Z
DTEND:20240122T193000Z
DTSTAMP:20231221T121752Z
URL:https://merlemeitus.eu/events/konstellatsioonide-tootuba-tartus-25/
SUMMARY:Konstellatsioonide töötuba Tartus
DESCRIPTION:Üritus facebookis https://www.facebook.com/events/87371225095
 9534/873712260959533\nKui Sa vaatad sügavamale enda sisse\, siis kuidas s
 a ennast tunned?\nOn seal seisundeid\, millele Sa ei oska seletust anda - 
 kurbus\, hirm\, ärevus\, häbi\, viha\, valu\, süütunne\, ebakindlus\, 
 tervisega on miski valesti?\nOn seal lahendamata teemasid\, mida oled ikka
  ja jälle vaikselt tagasi lükanud\, et mitte neid tunnistada\, kuigi nee
 d teemad on Sulle korduvalt ennast näidanud?\nMis toimub Sinuga hinge tas
 andil ja kuidas lahendamata teemad meid mõjutavad?\nKehamälus on kõik s
 ee\, mis on Sind mingil elu perioodil raskelt mõjutanud ja jätnud oma j
 älje\, mida enda teadmata kannad. Hinge tasandil oled energeetiliselt seo
 tud mineviku lahendamata teemadega\, mida Sa teadlikult ise ei tea. Need o
 n energeetilised ühendused kuhu ei pääse ise ligi.\nKa lapsed oma ebata
 valise käitumisega näitavad\, et midagi on vanematel lahendamata. Alaeal
 iste laste teemasid lahendatakse konstellatsioonis vanemate kaudu.\nKonste
 llatsioonid näitavad ka\, kuidas meie esivanemate traumad\, kellega saatu
 s meid seob\, püsivad ja mõjutavad järeltulijate elu. Samuti teeb ta n
 ähtavaks lapsepõlves toimunud traumad\, mida me ei pruugi mäletada aga 
 mis mõjutavad meie elu senini.\nPaljud seletamatud seisundid meie elus n
 äitavad just seda osa\, mis on inimese enda elulooraamatust või perekonn
 a loost välja jäetud.\nKonstellatsiooni töös on oluline\, et kliendil 
 oleks võimalik avada oma süda sellele\, mis konstellatsiooni töö esile
  toob. Tegemist on integratsiooniprotsessiga. See on järkjärguline prots
 ess\, kus tasakesi lähenetakse sellele\, mida varem kogeti dramaatiliselt
  ja traumeerivalt.\nTöö käigus traumaga seotud energia vabaneb ning ide
 aalis saab sellest hiljem inimest toetav ressurss.\nLäbi konstellatsiooni
  välja on võimalik vaadata ükskõik millist hetkel olulist teemat elus\
 , saada teada\, miks see on tekkinud\, kelle või millega seotud. Ja kui m
 e näeme ja tunnistame seda\, mis tegelikult on\, siis leiad oma hinges ra
 hu. Ja selle hingerahuga jõuad ka rahusse oma kehaga ja muutused sinu elu
 s saavad toimuda.\nKonstellatsioonis me vahel saame lõpetada mingi liikum
 ise\, mida me varem ei olnud võimelised või ei saanud lõpetada\, energi
 a leiab oma õige koha ja sinu elu hakkab muutuma.\nMuutused sinus saavad 
 tulla siis\, kui sinus on piisavalt ruumi\, aega ja lubamist.\nKui oled va
 lmis kõike vaatama\, tunnistama ja vabastama oma kehast\, saad tagasi ker
 guse\, oma jõu ja väe ning Elu ja Energia voolab jälle Sinus.\nTöötoa
 s teeme soovijatele nii konstellatsioone isikliku teemaga\, kui ka lühi k
 onstellatsioone ehk siis mingi hetkeolukorra vaatamist.\nTeemad võivad va
 rieeruda seinast-seina. Pingelised suhted partneri\, laste\, vanemate või
  oma sugulastega\, tervisega seotud teemad\, külluse ja rahulolu suurenda
 mine oma elus\, töö\, elukoha või muude valikute tegemine jne. Tihti on
  suur abi ka juba sellest\, kui panna teema/probleem väljale üles ja nä
 ha seda pilti kuidas asjad tegelikult on (teha lühi konstellatsioon).\nOs
 alemine ei eelda varasemaid teadmisi konstellatsioonist ja selleks ei pea 
 ennast kuidagi ette valmistama. Kui osaled\, oled juba piisavalt avatud\, 
 et kogeda.\nKonstellatsiooni väli töötab kõigiga\, kes on ruumis. Läb
 i teiste tööde saad vastuseid ka iseenda lahendamata teemadele või koht
 adele elus ja mingi kerguse enda sees.\nIga konstellatsiooni töötuba loo
 b ennast ise - inimestega\, kes on sinna juhatatud ja teemadega\, mis hakk
 avad tasapisi hargnema. Kui Sa oled sinna osalema tulnud\, siis on selleks
  alati põhjus\, miks sa pidid sinna jõudma. Taipamised tulevad hiljem\, 
 Sina pead ainult oma sisetunnet usaldama.....\nKutsu kaasa hea tuttav või
  lähedane\, ehk on just talle seda kogemust hetkel väga vaja.\nSina saad
  soovitada!\nKui soovid isikliku teemaga konstellatsiooni\, siis on vajali
 k eelnevalt teada anda kuna tööde arv on ajaliselt piiratud.\n\nOsaluspa
 nus:\nOsalemine asendaja/vaatlejana 20 eurot\, eelregistreerimisega vähem
 alt 2 päeva enne 15 eurot.\nLühi konstellatsioon 65eurot.\nIsikliku teem
 aga konstellatsioon 140 eurot (eelregistreerimisega).\nKonstellatsioon paa
 rile 200 eurot (eelregistreerimisega).\nTasumine kohapeal sularahas.\n\nGr
 upis kehtib range konfidentsiaalsuse nõue\, et tagada turvalisus kõikide
 le osalejatele.\nOsalemiseks on kindlasti vaja registreerida kuna grupi su
 urus on piiratud!\n\nTöötuba toimub Gildi 3\, 2. korrus Tartus\, Helisev
  Sõnum ruumides.\n\nTöötuba viib läbi sertifitseeritud perekonstellö
 ör Merle Meitus\,\nEesti Professionaalsete konstellööride assotsiatsioo
 ni liige\,\ntäiendõpe rahvusvahelises konstellatsiooni õppes\,\nkogemus
 nõustaja\, 56 aastat elukogemust.\nKontakt: e-post: merle.meitus@gmail.co
 m\, tel 511 7563.
END:VEVENT
END:VCALENDAR