BEGIN:VCALENDAR
VERSION:2.0
PRODID:-//wp-events-plugin.com//7.2.3.1//EN
TZID:Europe/Tallinn
X-WR-TIMEZONE:Europe/Tallinn
BEGIN:VEVENT
UID:439@merlemeitus.eu
DTSTART:20240318T153000Z
DTEND:20240318T193000Z
DTSTAMP:20240223T102441Z
URL:https://merlemeitus.eu/events/konstellatsioonide-tootuba-tartus-29/
SUMMARY:Konstellatsioonide töötuba Tartus
DESCRIPTION:Sündmus facebookis https://www.facebook.com/events/9457655403
 98562/945765543731895\nKui Sa vaatad sügavamale enda sisse\, siis kuidas 
 sa ennast tunned?\nOn seal seisundeid\, millele Sa ei oska seletust anda -
  kurbus\, hirm\, ärevus\, häbi\, viha\, valu\, süütunne\, ebakindlus\,
  tervisega on miski valesti?\nOn seal lahendamata teemasid\, mida oled ikk
 a ja jälle vaikselt tagasi lükanud\, et mitte neid tunnistada\, kuigi ne
 ed teemad on Sulle korduvalt ennast näidanud?\nMis toimub Sinuga hinge ta
 sandil ja kuidas lahendamata teemad meid mõjutavad?\nKehamälus on kõik 
 see\, mis on Sind mingil elu perioodil raskelt mõjutanud ja jätnud oma j
 älje\, mida enda teadmata kannad. Hinge tasandil oled energeetiliselt seo
 tud mineviku lahendamata teemadega\, mida Sa teadlikult ise ei tea. Need o
 n energeetilised ühendused kuhu ei pääse ise ligi.\nKa lapsed oma ebata
 valise käitumisega näitavad\, et midagi on vanematel lahendamata. Alaeal
 iste laste teemasid lahendatakse konstellatsioonis vanemate kaudu.\nKonste
 llatsioonid näitavad ka\, kuidas meie esivanemate traumad\, kellega saatu
 s meid seob\, püsivad ja mõjutavad järeltulijate elu. Samuti teeb ta n
 ähtavaks lapsepõlves toimunud traumad\, mida me ei pruugi mäletada aga 
 mis mõjutavad meie elu senini.\nKonstellatsiooni töös on oluline\, et k
 liendil oleks võimalik avada oma süda sellele\, mis konstellatsiooni tö
 ö esile toob. Tegemist on integratsiooniprotsessiga. See on järkjärguli
 ne protsess\, kus tasakesi lähenetakse sellele\, mida varem kogeti dramaa
 tiliselt ja traumeerivalt.\nTöö käigus traumaga seotud energia vabaneb 
 ning ideaalis saab sellest hiljem inimest toetav ressurss.\nLäbi konstell
 atsiooni välja on võimalik vaadata ükskõik millist hetkel olulist teem
 at elus\, saada teada\, miks see on tekkinud\, kelle või millega seotud. 
 Ja kui me näeme ja tunnistame seda\, mis tegelikult on\, siis leiad oma h
 inges rahu. Ja selle hingerahuga jõuad ka rahusse oma kehaga ja muutused 
 sinu elus saavad toimuda.\nMuutused sinus saavad tulla siis\, kui sinus on
  piisavalt ruumi\, aega ja lubamist.\nKui oled valmis kõike vaatama\, tun
 nistama ja vabastama oma kehast\, saad tagasi kerguse\, oma jõu ja väe n
 ing Elu ja Energia voolab jälle Sinus.\nTöötoas teeme soovijatele nii k
 onstellatsioone isikliku teemaga\, kui ka lühi konstellatsioone ehk siis 
 mingi hetkeolukorra vaatamist.\nTeemad võivad varieeruda seinast-seina. P
 ingelised suhted partneri\, laste\, vanemate või oma sugulastega\, tervis
 ega seotud teemad\, külluse ja rahulolu suurendamine oma elus\, töö\, e
 lukoha või muude valikute tegemine jne. Tihti on suur abi ka juba sellest
 \, kui panna teema/probleem väljale üles ja näha seda pilti kuidas asja
 d tegelikult on (teha lühi konstellatsioon).\nKonstellatsiooni väli tö
 ötab kõigiga\, kes on ruumis. Läbi teiste tööde saad vastuseid ka ise
 enda lahendamata teemadele või kohtadele elus ja mingi kerguse enda sees.
 \nIga konstellatsiooni töötuba loob ennast ise - inimestega\, kes on sin
 na juhatatud ja teemadega\, mis hakkavad tasapisi hargnema. Kui Sa oled si
 nna osalema tulnud\, siis on selleks alati põhjus\, miks sa pidid sinna j
 õudma. Taipamised tulevad hiljem\, Sina pead ainult oma sisetunnet usalda
 ma.....\nKutsu kaasa hea tuttav või lähedane\, ehk on just talle seda ko
 gemust hetkel väga vaja.\nSina saad soovitada!\nKui soovid isikliku teema
 ga konstellatsiooni\, siis on vajalik eelnevalt teada anda kuna tööde ar
 v on ajaliselt piiratud.\nOsaluspanus:\nOsalemine asendaja/vaatlejana 20 e
 urot\, eelregistreerimisega vähemalt 2 päeva enne 15 eurot.\nLühi konst
 ellatsioon oma teemaga 65 eurot.\nIsikliku teemaga pikk konstellatsioon 14
 0 eurot (eelregistreerimisega).\nTasumine kohapeal sularahas.\nGrupis keht
 ib range konfidentsiaalsuse nõue\, et tagada turvalisus kõikidele osalej
 atele.\nOsalemiseks on kindlasti vaja registreerida kuna grupi suurus on p
 iiratud!\nTöötuba toimub Gildi 3\, 2. korrus Tartus\, Helisev Sõnum ruu
 mides.\nTöötuba viib läbi sertifitseeritud perekonstellöör Merle Meit
 us\,\nEesti Professionaalsete konstellööride assotsiatsiooni liige\,\nt
 äiendõpe rahvusvahelises konstellatsiooni õppes\,\nkogemusnõustaja\, 5
 6 aastat elukogemust.\nKontakt: e-post: merle.meitus@gmail.com\, tel 511 7
 563.
END:VEVENT
END:VCALENDAR