BEGIN:VCALENDAR
VERSION:2.0
PRODID:-//wp-events-plugin.com//7.2.3.1//EN
TZID:Europe/Tallinn
X-WR-TIMEZONE:Europe/Tallinn
BEGIN:VEVENT
UID:482@merlemeitus.eu
DTSTART:20240708T153000Z
DTEND:20240708T183000Z
DTSTAMP:20240617T141108Z
URL:https://merlemeitus.eu/events/konstellatsioonide-tootuba-tartus-34/
SUMMARY:Konstellatsioonide töötuba Tartus
DESCRIPTION:Sündmus facebookis https://www.facebook.com/events/2103083350
 084547\nKas oled otsinud erinevaid lahendusi või teraapiaid mõnele Sulle
  olulisele probleemile\, küsimusele või seletamatule seisundile kehas ag
 a näed siiski\, et miski pole muutunud?\nSiis julgustan Sind kogema võim
 sat konstellatsiooni meetodit\, mis võib olla elu muutev!\nKehamälus on 
 kõik see\, mis on Sind mingil elu perioodil raskelt mõjutanud ja jätnud
  oma jälje. Kui oled valmis kõike vaatama\, tunnistama ja vabastama oma 
 kehast\, saad tagasi kerguse\, oma jõu ja väe ning Elu ja energia voolab
  jälle Sinus.Konstellatsioonis töötame hinge tasandiga. Hing on see\, m
 ida me ei näe aga hing saab alati kõige rohkem haiget.Mõnikord on nii\,
  et Sa isegi ei oska kirjeldada seda\, mis Sinu sees parasjagu toimub\, se
 da seisundit. Sel juhul soovitan lihtsalt usaldada seda energiavälja\, mi
 s töö ajal hakkab suunama ja teeb nähtavaks just need pinge ja trauma k
 ohad\, mis Sinu jaoks peab sellel hetkel nähtavaks saama. Neid kohti näh
 es ja vabastades saab tulla hinge rahu ja koos hingerahuga saab tulla rahu
  ka Sinu kehasse ja keha isetervendav süsteem taastub.Tunned\, kuidas keh
 asse tekib kergus ja ruum. Ja kui Sinu kehas on kergus ja ruum\, siis saav
 ad tulla Sinu ellu muutused\, mis on Elul Sinu jaoks ja ka Sul on Elule ro
 hkem pakkuda.\nKorraga saab töö teha vaid ühe teemaga. Sellega\, mis he
 tkel on sinu jaoks kõige aktuaalsem.𝐓𝐞𝐞𝐦𝐚𝐬𝐢𝐝\, 
 𝐦𝐢𝐝𝐚 𝐤𝐨𝐧𝐬𝐭𝐞𝐥𝐥𝐚𝐭𝐬𝐢𝐨𝐨
 𝐧𝐢 𝐦𝐞𝐞𝐭𝐨𝐝𝐢𝐠𝐚 𝐥𝐚𝐡𝐞𝐧𝐝𝐚
 𝐝𝐚 𝐬𝐚𝐚𝐛 𝐨𝐧 𝐩𝐚𝐥𝐣𝐮:*Pingelised või k
 atkenud suhted vanematega\, lastega\, lähedastega\, partneriga.*Tervisega
  seotud teemad.*Iseenda sisemiste osade tasakaalustamine (olen ennast ära
  kaotanud).*Kõik see\, mis on juhtunud minevikus\, päritoluperes ja kuid
 as see mõjutab meid siiamaani.*Kas ma olen ikka veel väike laps?*Küllus
 e ja rahulolu suurendamine oma elus.*Tööga seotud teemad.*Tunne\, et mis
 ki takistab edasi liikuda.*Naiselikkuse või mehelikkusega seotud teemad.*
 Ja mis iganes teema või seletamatu seisund on üles kerkinud. Väljal on 
 võimalik kõike vaadata.\nKonstellatsiooni väli töötab kõigiga\, kes 
 on ruumis ja kohale tulnud. Läbi teiste tööde saad vastuseid ka iseenda
  lahendamata teemadele\, miski hakkab muutuma sinus ja see toob kerguse.\n
 \nIga konstellatsiooni töötuba loob ennast ise - inimestega\, kes on sin
 na juhatatud ja teemadega\, mis hakkavad tasapisi hargnema. Kui Sa oled si
 nna osalema tulnud\, siis on selleks alati põhjus\, miks sa pidid sinna j
 õudma. Taipamised tulevad hiljem\, Sina pead ainult oma sisetunnet usalda
 ma.....Kutsu kaasa hea tuttav või lähedane\, ehk on just talle seda koge
 must hetkel väga vaja. Sina saad soovitada!\nKui soovid isikliku teemaga 
 konstellatsiooni\, siis on vajalik eelnevalt teada anda kuna tööde arv o
 n ajaliselt piiratud.\nOsaluspanus:Osalemine asendaja/vaatlejana 20 eurot.
 Lühi konstellatsioon 65 eurot.Isikliku teemaga konstellatsioon 150 eurotT
 asumine kohapeal sularahas.Osalemine ja töö soov on eelregistreerimisega
 !\n\nGrupis kehtib range konfidentsiaalsuse nõue\, et tagada turvalisus k
 õikidele osalejatele. Osalemine ei eelda varasemaid teadmisi konstellatsi
 oonist ega psühholoogiast.\nKoge ja muuda oma Elu – valik on Sinu!\n\nT
 öötuba toimub Tartus\, Gildi 3\, 2. korrus Helisev Sõnum ruumis.\nTöö
 tuba viib läbi sertifitseeritud perekonstellöörMerle MeitusEesti Profes
 sionaalsete konstellööride assotsiatsiooni liige\,täiendõpe rahvusvahe
 lise konstellatsiooni õppes\,kogemusnõustaja\, 56 aastat elukogemustLisa
 info ja registreerimine: e-post merle.meitus@gmail.com\,tel 511 7563.\n
END:VEVENT
END:VCALENDAR