BEGIN:VCALENDAR
VERSION:2.0
PRODID:-//wp-events-plugin.com//7.2.3.1//EN
TZID:Europe/Tallinn
X-WR-TIMEZONE:Europe/Tallinn
BEGIN:VEVENT
UID:436@merlemeitus.eu
DTSTART:20240313T153000Z
DTEND:20240313T193000Z
DTSTAMP:20240221T164527Z
URL:https://merlemeitus.eu/events/konstellatsioonide-tootuba-viljandis-12/
SUMMARY:Konstellatsioonide töötuba Viljandis
DESCRIPTION:Sündmus facebookis https://www.facebook.com/events/1202449414
 062174\nKui Sa vaatad sügavamale enda sisse\, siis kuidas sa ennast tunne
 d?\nOn seal seisundeid\, millele Sa ei oska seletust anda - kurbus\, hirm\
 , ärevus\, häbi\, viha\, valu\, süütunne\, ebakindlus\, tervisega on m
 iski valesti?\nOn seal lahendamata teemasid\, mida oled ikka ja jälle vai
 kselt tagasi lükanud\, et mitte neid tunnistada\, kuigi need teemad on Su
 lle korduvalt ennast näidanud?\nMis toimub Sinuga hinge tasandil ja kuida
 s lahendamata teemad meid mõjutavad?\nTunned enda sees segadust\, ärevus
 t\, hirmu\, ebakindlust\, asjad ei laabu\, jaksu ei ole. Samuti on ebakõl
 ad ka erinevates suhetes. See kõik juhtub\, kuna hinge tasandil oled ener
 geetiliselt seotud mineviku lahendamata teemadega\, mida Sa teadlikult ise
  ei tea aga need on jätnud jälje sinu kehamälus. Need on energeetilised
  ühendused kuhu ei pääse ise ligi.\n\nTekivad ka probleemid laste käit
 umises ja otsitakse lahendusi\, sest lapsel "on midagi viga". Tegelikult n
 äitavad lapsed oma käitumisega jällegi vanemate lahendamata teemasid. A
 laealiste laste teemasid lahendatakse konstellatsioonis vanemate kaudu.\n\
 nKonstellatsioonid näitavad\, kuidas meie esivanemate traumad\, kellega s
 aatus meid seob\, püsivad ja mõjutavad järeltulijate elu. Samuti teeb t
 a nähtavaks lapsepõlves toimunud traumad\, mida me ei pruugi mäletada a
 ga mis mõjutavad meie elu senini.\nPaljud sümptomid meie elus esindavad 
 just seda osa\, mis on inimese enda elulooraamatust või perekonna loost v
 älja jäetud.\nKonstellatsiooni töös on oluline\, et kliendil oleks võ
 imalik avada oma süda sellele\, mis konstellatsiooni töö esile toob. Te
 gemist on integratsiooniprotsessiga. See on järkjärguline protsess\, kus
  tasakesi lähenetakse sellele\, mida varem kogeti dramaatiliselt ja traum
 eerivalt. Töö käigus traumaga seotud energia vabaneb ning ideaalis saab
  sellest hiljem inimest toetav ressurss.\n\nLäbi konstellatsiooni välja 
 on võimalik vaadata ükskõik millist hetkel olulist teemat elus\, saada 
 teada\, miks see on tekkinud\, kelle või millega seotud. Ja kui me näeme
  ja tunnistame seda\, mis tegelikult on\, siis leiad oma hinges rahu. Ja s
 elle hingerahuga jõuad ka rahusse oma kehaga ja muutused sinu elus saavad
  toimuda.\nKonstellatsioonis me vahel saame lõpetada mingi liikumise\, mi
 da me varem ei olnud võimelised või ei saanud lõpetada\, energia leiab 
 oma õige koha ja sinu elu hakkab muutuma. Muutused sinus saavad tulla sii
 s\, kui sinus on piisavalt ruumi\, aega ja lubamist.\n\nKonstellatsioonide
  töötoas teeme soovijatele nii konstellatsioone isikliku teemaga\, kui k
 a lühi konstellatsioone ehk siis sinu jaoks hetkel olulise teema vaatamin
 e.\nTeemad võivad varieeruda seinast-seina. Pingelised suhted partneri\, 
 laste\, vanemate või oma sugulastega\, tervisega seotud teemad\, külluse
  ja rahulolu suurendamine oma elus\, töö\, elukoha või muude valikute t
 egemine jne. Tihti on suur abi ka juba sellest\, kui panna teema/probleem 
 väljale üles ja näha seda pilti kuidas asjad tegelikult on (lühi konst
 ellatsioon).\n\nKui see pani Sind mõtlema\, siis on sul võimalus midagi 
 muuta - teed seda siis ka oma laste heaks. Kui me ei tervenda oma hinge ta
 sandi teemasid\, siis lähevad need energeetiliselt alati edasi järeltule
 vatele põlvedele.\nMina loon Sinu jaoks turvalise ruumi\, toetades ja juh
 atades Sind\, jõuad kohtadesse enda sees\, kus on pinge ja energia ei voo
 la. Kui oled valmis vaatama\, tunnistama ja vabastama\, saad tagasi oma j
 õu.\nOsalemine ei eelda varasemaid teadmisi konstellatsioonist ja selleks
  ei pea ennast kuidagi ette valmistama. Kui osaled\, oled juba piisavalt a
 vatud\, et kogeda.\n\nKui soovid isikliku teemaga konstellatsiooni\, siis 
 on vajalik eelnevalt teada anda kuna tööde arv on ajaliselt piiratud.\n\
 nOsaluspanus:\nOsalemine asendaja/vaatlejana 20 eurot\, eelregistreerimise
 ga vähemalt 2 päeva enne 15 eurot.\nLühi konstellatsioon 65 eurot.\nIsi
 kliku teemaga konstellatsioon 140 eurot (eelregistreerimisega).\nTasumine 
 kohapeal sularahas.\n\nGrupis kehtib range konfidentsiaalsuse nõue\, et t
 agada turvalisus kõikidele osalejatele.\nOsalemiseks on kindlasti vaja re
 gistreerida kuna grupi suurus on piiratud!\n\nTöötuba toimub Vaksali 3a\
 , Viljandis (Tervise-ja ilukeskus Valgus).\nTöötuba viib läbi sertifits
 eeritud perekonstellöör Merle Meitus\,\nEesti Professionaalsete konstell
 ööride assotsiatsiooni liige.\nTäiendõpe rahvusvahelise konstellatsioo
 ni õppes\,\nkogemusnõustaja\, 56 aastat elukogemust\nKontakt: e-post: me
 rle.meitus@gmail.com\, tel 511 7563.
END:VEVENT
END:VCALENDAR