BEGIN:VCALENDAR
VERSION:2.0
PRODID:-//wp-events-plugin.com//7.2.3.1//EN
TZID:Europe/Tallinn
X-WR-TIMEZONE:Europe/Tallinn
BEGIN:VEVENT
UID:22@merlemeitus.eu
DTSTART:20200527T173000Z
DTEND:20200527T193000Z
DTSTAMP:20200521T161805Z
URL:https://merlemeitus.eu/events/loogastav-grupihupnoos-jogeval-3/
SUMMARY:Lõõgastav grupihüpnoos Jõgeval
DESCRIPTION:Kas tunned\, et sinu sisse on kogunenud kõike liiga palju – 
 pinged\, stress?\n\nKui soovid ennast lihtsalt lõdvaks lasta\, välja lü
 lituda igapäeva rutiinist\, puhata iseenda mõtetest\, kogeda sügavat l
 õõgastust ja sisemist vaikust\, siis on see info just sinu jaoks. Sügav
  lõõgastus annab sisemist jõudu ja tuge\, et tänapäeva kiires ja sega
 ses maailmas paremini hakkama saada.\n\nKui kliendile suunatud hüpnoosis 
 keskendutakse mingile konkreetsele probleemile\, siis grupihüpnoos on oma
  olemuselt stressi maandav\, lõõgastav ja enesekindlust suurendav\, anna
 b hea une. Lisaks saad ka väga huvitava kogemuse\, mis hüpnoos üldse on
 .\nPärast seanssi oleme veel selles mõnusas seisundis ja jagame kogemust
 .\n\nOodatud on mehed\, naised ja noored (alates 15. eluaastast).\nKaasa p
 alun võta matt\, pleed ja padi.\n\nHüpnoosiõhtu toimub kolmapäeval\, 2
 7. mail Jõgeval kell 19.30.\nKohal palun olla 10 minutit varem.\nKOHTADE 
 ARV ON PIIRATUD!\nSeega arvestan nendega\, kes on mulle osalemissoovist ki
 rjutanud kas e-post: merle.meitus@gmail.com või kirjuta FB sõnumisse. Os
 alejad saavad hiljem ka täpse aadressi.\n\nOsaluspanus 10 eurot.\n\nInfot
  võib jagada.\nRohkem hüpnoosist minu kodulehel.
END:VEVENT
END:VCALENDAR