BEGIN:VCALENDAR
VERSION:2.0
PRODID:-//wp-events-plugin.com//7.2.3.1//EN
TZID:Europe/Tallinn
X-WR-TIMEZONE:Europe/Tallinn
BEGIN:VEVENT
UID:15@merlemeitus.eu
DTSTART:20200225T163000Z
DTEND:20200225T190000Z
DTSTAMP:20200218T160509Z
URL:https://merlemeitus.eu/events/loogastav-grupihupnoos-jogeval/
SUMMARY:Lõõgastav grupihüpnoos Jõgeval
DESCRIPTION:Kas tunned\, et sinu sisse on kogunenud kõike liiga palju – 
 pinged\, stress?\nKui soovid ennast lihtsalt lõdvaks lasta\, välja lüli
 tuda igapäeva rutiinist\, puhata iseenda mõtetest\, kogeda sügavat lõ
 õgastust ja sisemist vaikust\, siis on see info just sinu jaoks. Sügav l
 õõgastus annab sisemist jõudu ja tuge\, et tänapäeva kiires ja segase
 s maailmas paremini hakkama saada.\nKui kliendile suunatud hüpnoosis kesk
 endutakse mingile konkreetsele probleemile\, siis grupihüpnoos on oma ole
 muselt stressi maandav\, lõõgastav ja enesekindlust suurendav\, annab he
 a une. Lisaks saad ka väga huvitava kogemuse\, mis hüpnoos üldse on.\nP
 ärast seanssi joome teed\, oleme veel selles mõnusas seisundis ja jagame
  kogemust.\nOodatud on mehed\, naised ja noored (alates 15. eluaastast).\n
 Kaasa palun võta matt\, pleed ja padi.\nHüpnoosiõhtu toimub teisipäeva
 l\, 25. veebruaril Jõgeval kell 18.30.\nKohal palun olla 10 minutit varem
 .\nKes on tulemas\, siis neile annan täpse aadressi\, seega osalejad palu
 n kirjutage mulle kas e-post: merle.meitus@gmail.com või kirjuta sõnumis
 se.\nHind ühele osalejale 10 eurot.\nInfot võib jagada.\nRohkem hüpnoos
 ist minu kodulehel:
END:VEVENT
END:VCALENDAR