BEGIN:VCALENDAR
VERSION:2.0
PRODID:-//wp-events-plugin.com//7.2.3.1//EN
TZID:Europe/Tallinn
X-WR-TIMEZONE:Europe/Tallinn
BEGIN:VEVENT
UID:69@merlemeitus.eu
DTSTART:20210213T160000Z
DTEND:20210213T180000Z
DTSTAMP:20210208T143950Z
URL:https://merlemeitus.eu/events/meditatiivne-siserannak-teekond-iseendag
 a-13-veebruaril-tartus/
SUMMARY:Meditatiivne siserännak - Teekond Iseendaga (13. veebruaril Tartus
  )
DESCRIPTION:Sellel meditatiivsel siserännakul liigud õrnalt ja kergelt is
 eenda sees. Liikudes kõrgemates dimensioonides\, sinu keha ja meel puhast
 uvad ja saad luua endasse täiesti uue energia kõige sellega\, mida enda 
 ellu hetkel soovid.\nPolegi nii tähtis\, mida sa siserännaku ajal koged 
 või näed\, vaid kõige olulisem on\, et lubad oma meelel ja kehal lihtsa
 lt lõdvestuda\, lahkud kerguses ja meelerahus ning kannad enda sees seda 
 tunnet. Me loome kõike sellega\, kuidas me ennast tunneme\, just TUNNE si
 nu sees on oluline. Tunne on energia.\nSiiski kõige olulisem on see\, kui
  otsustad võtta endale selle aja\, olla iseendaga\, lubad endal lihtsalt 
 lõõgastuda ja puhata igapäevasest rabelemisest\, sahmimisest ja mürast
  - kodus ei olegi ehk see võimalik. See on sinu aeg\, lihtsalt vaikuses\,
  iseendaga. Kui saad kaasa kerguse ja meelerahu energia ja kannad seda end
 as\, siis kandub see sinu kaudu üle ka sinu lähedastele\, eelkõige sinu
  lastele. Kui tegeled iseendaga on see kõige suurem kingitus ka sinu pere
 le. Muutused sinu sees muudavad kõiki\, kes sind ümbritsevad.\nKui oled 
 vaikuses\, sulged silmad ja lõdvestad oma keha\, hakkab aju teistmoodi t
 ööle. Rahulik muusika ja kujutlused aitavad veelgi kaasa ajurütmide aeg
 lustamisele ja su teadvusseisund muutub. Tavapärane mõttesagin ajus vaib
 ub ja nii pääseb lihtsamini ligi alateadvusele\, et harjumuspäraseid ja
  oma aja ära elanud mõtte- ja käitumismustreid mõista ja muuta.\nMõle
 mal õhtul on sama sisuga meditatsioon\, saad valida kumb päev sulle pare
 mini sobib.\nHOIAME ENNAST JA TEISI. KANNAME MASKI.\nNB! PALUN JÄÄ KOJU\
 , KUI OLED HAIGLANE\, TUNNED ENNAST HALVASTI\, OLED OLNUD KONTAKTIS VIIRUS
 E KANDJAGA VÕI PEAD OLEMA ISOLATSIOONIS!\nMeditatsioon toimub mugaval too
 lil istudes\, pleedid on kohapeal olemas. Pane selga soojemad riided\, ene
 rgiad muutuvad ja võib jahe hakata.\nVaru endale aega paar tundi\, et saa
 ksid pärast meditatsiooni olla veel mõnusalt selles energias ja seisundi
 s ning rahulikult teed juua.\nOsaluspanus 10 eurot.\nVäike grupp! Kuna os
 alejate arv on piiratud\, siis vajalik eelregistreerimine. Palun anna kind
 lasti teada\, kui soovid osaleda ja ka seda kummal kuupäeval. Kirjuta kas
  e-post merle.meitus@gmail.com\, FB sõnumisse või helista 511 7563 Merle
 .\n\n\nMeditatiivne siserännak toimub laupäeval\, 13. veebruaril alguseg
 a kell 18.00 Tartus\, Kompanii tn 10\, 2. korrusel.\n\n\n\n\nSiit saab lug
 eda osalejate tagasisidet:\n\n\nMeditatsiooni kohta saab rohkem lugeda min
 u kodulehelt:
LOCATION:Kompanii\, Kompanii 10\, Tartu\, Estonia
X-APPLE-STRUCTURED-LOCATION;VALUE=URI;X-ADDRESS=Kompanii 10\, Tartu\, Eston
 ia;X-APPLE-RADIUS=100;X-TITLE=Kompanii:geo:0,0
END:VEVENT
END:VCALENDAR