BEGIN:VCALENDAR
VERSION:2.0
PRODID:-//wp-events-plugin.com//7.2.3.1//EN
TZID:Europe/Tallinn
X-WR-TIMEZONE:Europe/Tallinn
BEGIN:VEVENT
UID:5@merlemeitus.eu
DTSTART:20190312T161500Z
DTEND:20190312T184500Z
DTSTAMP:20190304T173857Z
URL:https://merlemeitus.eu/events/meditatsiooniohtu-eelmiste-elude-tervend
 amine-jogeval/
SUMMARY:Meditatsiooniõhtu „Eelmiste elude tervendamine“ Jõgeval
DESCRIPTION:Sellel korral on meditatsiooni teemaks „Eelmiste elude terven
 damine“.\n\nOma eelmiste elude teadasaamine võib olla äärmiselt valgu
 stav kogemus\, sest meenutades\n\nvarasemates eludes aset leidnut\, suudam
 e paremini mõista ka oma käesolevat elu. See\n\nmeditatsioon pakub võim
 alust taaselustada eelmiste elude mälestusi\, et haarata laiemat pilti\n\
 noma hinge arenguteekonnast ning mõista korduma kippuvaid õppetunde ja r
 askesti lahendatavaid väljakutseid.\n\nEnne meditatsiooni räägime ka mu
 udel huvitavatel teemadel.\n\n&nbsp\;\n\nMis on meditatsioon?\n\nKui otsid
  oma ellu rohkem rahu ja tasakaalu ning soovid vähendada stressi\, siis m
 editatsioon võib olla just see\, mida sa vajad. Meditatsioon on kõige lo
 omulikum ja parem puhkus kehale ning meelele. Mediteerimine on hingamise k
 orrastamine\, kohale tulek\, hetkes olemine ja oma sisemusega kontakti võ
 tmine. Kindlasti muudab mediteerimine mõtlemise avatumaks ja tolerantsema
 ks – sind ei ärrita enam asjad\, mis tegelikult sinusse ei puutu.\n\nKu
 i Sul ei ole võimalik mediteerida kodus\, leida ja võtta segamatut aega 
 iseenda jaoks\, sest seal on saginat ja liikumisi liiga palju või soovidk
 i seda teha just väikses grupis\, kus on koos sarnase huviga inimesed ja 
 on ka võimalik omavahel kogemusi jagada\, siis on see info mõeldud just 
 Sulle!\n\n&nbsp\;\n\nKui soovid osaleda\, siis kas:\n\n 	saada mulle faceb
 ookis sõnum või\n 	märgi facebookis kindlasti „osalen“ või\n 	saad
 a mulle e-kiri meitus@gmail.com.\n\nSeejärel  edastan sulle täpse toimu
 mise koha.\n\n&nbsp\;\n\nVaru endale selleks õhtuks rahulikku aega vähem
 alt 2\,5 tundi. Palun tule kohale 10 minutit varem\, et saaksid ennast mõ
 nusalt sisse seada. Riietu mugavalt\, võta kaasa ka pleed – kui energia
  hakkab liikuma võib tekkida jahe tunne. Kui soovid mediteerida põrandal
  istudes\, võid kaasa võtta ka mati.\n\nOsaluspanus on 10 eurot.
END:VEVENT
END:VCALENDAR