BEGIN:VCALENDAR
VERSION:2.0
PRODID:-//wp-events-plugin.com//7.2.3.1//EN
TZID:Europe/Tallinn
X-WR-TIMEZONE:Europe/Tallinn
BEGIN:VEVENT
UID:321@merlemeitus.eu
DTSTART:20230215T180000Z
DTEND:20230215T193000Z
DTSTAMP:20230203T115806Z
URL:https://merlemeitus.eu/events/meditatsiooniohtu-jogeval-38/
SUMMARY:Meditatsiooniõhtu Jõgeval
DESCRIPTION:Minu loodud meditatsioonid mõjuvad Sulle teraapiliselt - aitav
 ad kiires elutempos leida parem kontakt oma keha ja hingega\, leida sisemi
 st tasakaalu ja rahu enda sees. Aitavad sul leida üles sinu päris olemus
 e\, olla ühenduses iseendaga\, oma hingega. Kehasse salvestub uus energia
 \, milles on kergus ja tühi ruum.\nNiiviisi vaikselt liikudes tunned\, ku
 idas sinu sisemaailm avardub\, energia muutub sinu sees ja tekib ruumi\, e
 t saaksid vastu võtta uusi asju oma ellu ja olla kerguses.\nMeditatsiooni
  ajal liigud õrnalt ja kergelt iseenda sees. See on sinu aeg - lihtsalt v
 aikuses iseendaga\, aeg kus lubad oma kehal ja meelel lõdvestuda. Selles 
 lubamise seisundis saab tulla kõik see\, milleks oled valmis\, Universum 
 toetab sind ning asjad hakkavad juhtuma.\nKui saad sellel õhtul enda jaok
 s kasvõi ühe mõtte või taipamise\, mis sind kõnetab\, siis sinu hing 
 on midagi ära tundnud\, miski käivitub sinus ja see hakkab sind suunama.
 \nHing armastab tühjust\, aeglust\, avarust\, lihtsust ja vaikust. Olles 
 vaikuses on sul võimalus oma hinge kuulata. Kuulatades oma hinge ja tehes
  valikuid selle põhjal\, märkad peagi\, kuidas Elu voolab Loojaga ühes 
 rütmis. Looja peab pidu Sinu sees.\nKui soovid saad pärast meditatsiooni
  oma siserännakust teha energiamaali\, selles on Sinu jaoks oluline info 
 ja vägi.\nLäbi sellise meditatiivse loomingu võib pääseda ligi väga 
 olulisele ja isiklikule infole\, lahendada minevikuprobleeme\, tasakaalust
 ada ja tervendada ennast. Loodud maal on isiklik ja annab olulist informat
 siooni sinu kohta. Pildi tegemine on hea moodus ennast paremini tundma õp
 pida. Selleks pole vaja perfektseid tehnilisi oskusi\, pigem olla avatud\,
  tundlik ja loominguline.\n\nMeditatsiooni ajal võid kas istuda või lama
 da. Võta kaasa padi\, pleed ja matt\, kui soovid lamada.\nKui sulle sobib
  mediteerimine väikeses grupis\, hubases ja hoitud ruumis\, siis varu end
 ale aega\, et saaksid pärast meditatsiooni olla veel mõnusalt selles uue
 s kerges energias ja rahulikult teed juua.\nOsaluspanus 10 eurot.\nKuna os
 alejate arv on piiratud\, siis on kindlasti vajalik eelregistreerimine.\nK
 ui märgid Facebookis "osalen" või "huvitatud"\, siis saada kindlasti kin
 nitus\, kui osaled. Kirjuta kas e-post merle.meitus@gmail.com\, FB sõnumi
 sse või helista 511 7563.\nArvestan ainult nendega\, kes on mulle teatanu
 d.\nMeditatsiooni õhtut viib läbi Merle Meitus
END:VEVENT
END:VCALENDAR