BEGIN:VCALENDAR
VERSION:2.0
PRODID:-//wp-events-plugin.com//7.2.3.1//EN
TZID:Europe/Tallinn
X-WR-TIMEZONE:Europe/Tallinn
BEGIN:VEVENT
UID:414@merlemeitus.eu
DTSTART:20240103T180000Z
DTEND:20240103T193000Z
DTSTAMP:20231227T094706Z
URL:https://merlemeitus.eu/events/meditatsiooniohtu-jogeval-66/
SUMMARY:Meditatsiooniõhtu Jõgeval
DESCRIPTION:Üritus facebookis https://www.facebook.com/events/86819165503
 2279/868191665032278/?ref=newsfeed\nMinu loodud meditatsioonid mõjuvad Su
 lle teraapiliselt - aitavad kiires elutempos leida parem kontakt oma keha 
 ja hingega\, leida sisemist tasakaalu ja rahu enda sees. Aitavad sul leida
  üles sinu päris olemuse\, olla ühenduses iseendaga\, oma hingega.\nKeh
 asse salvestub uus energia\, milles on kergus ja tühi ruum.\nNiiviisi vai
 kselt liikudes tunned\, kuidas sinu sisemaailm avardub\, energia muutub si
 nu sees ja tekib ruumi\, et saaksid vastu võtta uusi asju oma ellu ja oll
 a kerguses.\nMeditatsiooni ajal liigud õrnalt ja kergelt iseenda sees. Se
 e on sinu aeg - lihtsalt vaikuses iseendaga\, aeg kus lubad oma kehal ja m
 eelel lõdvestuda.\nSelles lubamise seisundis saab tulla kõik see\, mille
 ks oled valmis\, Universum toetab sind ning asjad hakkavad juhtuma.\nKui s
 aad sellel õhtul enda jaoks kasvõi ühe mõtte või taipamise\, mis sind
  kõnetab\, siis sinu hing on midagi ära tundnud\, miski käivitub sinus 
 ja see hakkab sind suunama.\nHing armastab tühjust\, aeglust\, avarust\, 
 lihtsust ja vaikust. Olles vaikuses on sul võimalus oma hinge kuulata. Ku
 ulatades oma hinge ja tehes valikuid selle põhjal\, märkad peagi\, kuida
 s Elu voolab Loojaga ühes rütmis. Looja peab pidu Sinu sees.\n\nMeditats
 iooni ajal võid kas istuda või lamada. Võta kaasa padi\, pleed ja matt\
 , kui soovid lamada.\nKui sulle sobib mediteerimine väikeses grupis\, hub
 ases ja hoitud ruumis\, siis varu endale aega\, et saaksid pärast meditat
 siooni olla veel mõnusalt selles uues kerges energias ja rahulikult teed 
 juua.\nOsaluspanus 10 eurot.\nKuna osalejate arv on piiratud\, siis on kin
 dlasti vajalik eelregistreerimine.\nKui märgid Facebookis "osalen" või "
 huvitatud"\, siis saada kindlasti kinnitus\, kui osaled.\nKirjuta kas e-po
 st merle.meitus@gmail.com\, FB sõnumisse või helista 511 7563.\nArvestan
  ainult nendega\, kes on mulle teatanud.\nToimumiskoht: Aasa tn 8\, Jõgev
 a.\nMeditatsiooniõhtut viib läbi Merle Meitus
END:VEVENT
END:VCALENDAR