BEGIN:VCALENDAR
VERSION:2.0
PRODID:-//wp-events-plugin.com//7.2.3.1//EN
TZID:Europe/Tallinn
X-WR-TIMEZONE:Europe/Tallinn
BEGIN:VEVENT
UID:415@merlemeitus.eu
DTSTART:20240108T180000Z
DTEND:20240108T193000Z
DTSTAMP:20231227T094939Z
URL:https://merlemeitus.eu/events/meditatsiooniohtu-jogeval-67/
SUMMARY:Meditatsiooniõhtu Jõgeval
DESCRIPTION:Üritus facebookishttps://www.facebook.com/events/8681916550322
 79/86819165836561\nMinu loodud meditatsioonid mõjuvad Sulle teraapiliselt
  - aitavad kiires elutempos leida parem kontakt oma keha ja hingega\, leid
 a sisemist tasakaalu ja rahu enda sees. Aitavad sul leida üles sinu päri
 s olemuse\, olla ühenduses iseendaga\, oma hingega.\nKehasse salvestub uu
 s energia\, milles on kergus ja tühi ruum.\nNiiviisi vaikselt liikudes tu
 nned\, kuidas sinu sisemaailm avardub\, energia muutub sinu sees ja tekib 
 ruumi\, et saaksid vastu võtta uusi asju oma ellu ja olla kerguses.\nMedi
 tatsiooni ajal liigud õrnalt ja kergelt iseenda sees. See on sinu aeg - l
 ihtsalt vaikuses iseendaga\, aeg kus lubad oma kehal ja meelel lõdvestuda
 .\nSelles lubamise seisundis saab tulla kõik see\, milleks oled valmis\, 
 Universum toetab sind ning asjad hakkavad juhtuma.\nKui saad sellel õhtul
  enda jaoks kasvõi ühe mõtte või taipamise\, mis sind kõnetab\, siis 
 sinu hing on midagi ära tundnud\, miski käivitub sinus ja see hakkab sin
 d suunama.\nHing armastab tühjust\, aeglust\, avarust\, lihtsust ja vaiku
 st. Olles vaikuses on sul võimalus oma hinge kuulata. Kuulatades oma hing
 e ja tehes valikuid selle põhjal\, märkad peagi\, kuidas Elu voolab Looj
 aga ühes rütmis. Looja peab pidu Sinu sees.\n\nMeditatsiooni ajal võid 
 kas istuda või lamada. Võta kaasa padi\, pleed ja matt\, kui soovid lama
 da.\nKui sulle sobib mediteerimine väikeses grupis\, hubases ja hoitud ru
 umis\, siis varu endale aega\, et saaksid pärast meditatsiooni olla veel 
 mõnusalt selles uues kerges energias ja rahulikult teed juua.\nOsaluspanu
 s 10 eurot.\nKuna osalejate arv on piiratud\, siis on kindlasti vajalik ee
 lregistreerimine.\nKui märgid Facebookis "osalen" või "huvitatud"\, siis
  saada kindlasti kinnitus\, kui osaled.\nKirjuta kas e-post merle.meitus@g
 mail.com\, FB sõnumisse või helista 511 7563.\nArvestan ainult nendega\,
  kes on mulle teatanud.\nToimumiskoht: Aasa tn 8\, Jõgeva.\nMeditatsiooni
 õhtut viib läbi Merle Meitus
END:VEVENT
END:VCALENDAR