BEGIN:VCALENDAR
VERSION:2.0
PRODID:-//wp-events-plugin.com//7.2.3.1//EN
TZID:Europe/Tallinn
X-WR-TIMEZONE:Europe/Tallinn
BEGIN:VEVENT
UID:416@merlemeitus.eu
DTSTART:20240117T180000Z
DTEND:20240117T190000Z
DTSTAMP:20240113T130319Z
URL:https://merlemeitus.eu/events/meditatsiooniohtu-jogeval-68/
SUMMARY:Meditatsiooniõhtu Jõgeval
DESCRIPTION:Üritus facebookis siin https://www.facebook.com/events/868191
 655032279/868191668365611/\nMinu loodud meditatsioonid mõjuvad Sulle tera
 apiliselt - aitavad kiires elutempos leida parem kontakt oma keha ja hinge
 ga\, leida sisemist tasakaalu ja rahu enda sees. Aitavad sul leida üles s
 inu päris olemuse\, olla ühenduses iseendaga\, oma hingega.\nKehasse sal
 vestub uus energia\, milles on kergus ja tühi ruum.\nNiiviisi vaikselt li
 ikudes tunned\, kuidas sinu sisemaailm avardub\, energia muutub sinu sees 
 ja tekib ruumi\, et saaksid vastu võtta uusi asju oma ellu ja olla kergus
 es.\nMeditatsiooni ajal liigud õrnalt ja kergelt iseenda sees. See on sin
 u aeg - lihtsalt vaikuses iseendaga\, aeg kus lubad oma kehal ja meelel l
 õdvestuda.\nSelles lubamise seisundis saab tulla kõik see\, milleks oled
  valmis\, Universum toetab sind ning asjad hakkavad juhtuma.\nKui saad sel
 lel õhtul enda jaoks kasvõi ühe mõtte või taipamise\, mis sind kõnet
 ab\, siis sinu hing on midagi ära tundnud\, miski käivitub sinus ja see 
 hakkab sind suunama.\nHing armastab tühjust\, aeglust\, avarust\, lihtsus
 t ja vaikust. Olles vaikuses on sul võimalus oma hinge kuulata. Kuulatade
 s oma hinge ja tehes valikuid selle põhjal\, märkad peagi\, kuidas Elu v
 oolab Loojaga ühes rütmis. Looja peab pidu Sinu sees.\n\nMeditatsiooni a
 jal võid kas istuda või lamada. Võta kaasa padi\, pleed ja matt\, kui s
 oovid lamada.\nKui sulle sobib mediteerimine väikeses grupis\, hubases ja
  hoitud ruumis\, siis varu endale aega\, et saaksid pärast meditatsiooni 
 olla veel mõnusalt selles uues kerges energias ja rahulikult teed juua.\n
 Osaluspanus 10 eurot.\nKuna osalejate arv on piiratud\, siis on kindlasti 
 vajalik eelregistreerimine.\nKui märgid Facebookis "osalen" või "huvitat
 ud"\, siis saada kindlasti kinnitus\, kui osaled.\nKirjuta kas e-post merl
 e.meitus@gmail.com\, FB sõnumisse või helista 511 7563.\nArvestan ainult
  nendega\, kes on mulle teatanud.\nToimumiskoht: Aasa tn 8\, Jõgeva.\nMed
 itatsiooniõhtut viib läbi Merle Meitus
END:VEVENT
END:VCALENDAR