BEGIN:VCALENDAR
VERSION:2.0
PRODID:-//wp-events-plugin.com//7.2.3.1//EN
TZID:Europe/Tallinn
X-WR-TIMEZONE:Europe/Tallinn
BEGIN:VEVENT
UID:256@merlemeitus.eu
DTSTART:20220917T170000Z
DTEND:20220917T200000Z
DTSTAMP:20220911T160326Z
URL:https://merlemeitus.eu/events/meeste-vaestavad-kohtumised/
SUMMARY:Meeste väestavad kohtumised Jõgeval
DESCRIPTION:Meeste väestavad kohtumised\n\nLaupäeval\, 17. septembril kel
 l 19.00 Aasa tn 8\, Jõgeval.\n\nRing on sümboolne kujund millesse on sis
 se kodeeritud võrdsus. Ringis olles ei seata ennast teistest kõrgemaks\,
  samas ka ei pisendata ennast. Olles ringis saab igaüks sõna ning teda k
 uulatakse.\n\nKui oled mõtisklenud soovist jagada ning kuulata teiste mee
 ste mõtteid sügavamatel teemadel\, siis võta kepp ning kaabu ja sea sam
 mud siia. Meeste väestavad kohtumised on neile\, kes soovivad teadlikuma
 lt oma teed edasi käia. See on koht kus me ringis jagame omi sügavamaid 
 kogemusi ja taipamisi.\n\nSiin ei pea ego tasandil ennast tõestama\, ei p
 ea kartma näidata enda haavatavust. Ka mehed nutavad. Tean\, sest olen se
 da ise teinud ning näinud seda teistes väeringides. See on tugevuse mär
 k mitte aga nõrkus\, mida meile läbi elu on kui mantrat korrutatud. Mehe
  tõeline vägi saab ilmuda\, kui ta julgeb end avada ning seega haavatava
 ks teha. Sellest saab tema tugevus ja vägi.\n\nRingis me langetame maskid
  ja ei näita ennast kellegi teisena. Tavarutiinis me kanname neid niigi j
 a see on teatud piirini isegi vajalik. Julgus sisemiselt avaneda ja seda 
 teiste meestega jagada loob meile pinnase sisemiselt korrastuda. Kuulates 
 teiste kogemusi tulevad taipamised\, mis meid elus edasi aitavad. \n\nMeh
 eks kasvamine toimub ajaga. Aegu on meie kasvamisel üsna erinevaid. On a
 eg avaneda. \n\nMeeste kohtumisele tulek ei eelda Sinult varasemaid ringi
 des osalemisi\, praktikate tegemisi ega ka vastava kirjandusega tutvumist.
  Osaleda võivad kõik mehed keda kirjutatu kõnetab. Vanuse alam ega ül
 empiiri ei ole.\n\nMeeste väestavat kohtumist ringis hoiab Ivar Kriis.\n\
 nOlen 55 aastane iseõppija-praktik. 10 aastat sellest käinud teadlikkuse
  rada. See teekond on toonud mind kohta kus ma olen saanud endaga sõbraks
 . Keha on kerguses ja mõtted valdavalt positiivsed. Iseennast hinnata on 
 keeruline. Kümme aastat on piisavalt pikk aeg\, et oma uue minaga kokku k
 asvada. Ise tunnen ennast sellisena üsna tavalisena.\n\nEttepaneku sellis
 t meeste kohtumist läbi viia tegi mulle inimene\, kes näeb mind kõrvalt
 . Samas ma ei kahelnud hetkekski ja nüüd ma kirjutan siin Sulle. Kunagis
 est introvertsest poisist on saanud ambivert. Kui aus olla kuulsin seda s
 õna alles sellel aastal. Ise arvasin end olevat introvertne ekstravert.\n
 \nAvaring on laupäeval\, 17. septembril kell 19.00. Kohtumine toimub orie
 nteeruvalt 2 tundi.\n\nPlaanis on kokku saada kaks korda kuus. Kui tuleb t
 eisi ettepanekuid seoses kohtumiste sageduse ning päevade ja kellaaegadeg
 a saame seda ringis arutada. Igal kohtumisel tuleb ka teema mille asetame
  ringi ning vaatleme seda nii endas\, kui endast väljaspool.\n\nEsimene v
 aatlusteema saab olema nimetusega: "Mis mind tõi täna siia\, kas mul po
 leks lihtsam olnud koju jääda?"\n\nOsaluspanus 20 eurot. Tasumine kohape
 al sularahas.\n\nGrupi suurus on piiratud\, seega on vajalik eelregistreer
 imine. Anna märku osalemisest: e-post: kriisivar@gmail.com\, tel 5815 02
 30 või kirjuta Facebooki: Ivar Kriis.\n\n&nbsp\;\n\n&nbsp\;\n\n&nbsp\;\n\
 n&nbsp\;
END:VEVENT
END:VCALENDAR