BEGIN:VCALENDAR
VERSION:2.0
PRODID:-//wp-events-plugin.com//7.2.3.1//EN
TZID:Europe/Tallinn
X-WR-TIMEZONE:Europe/Tallinn
BEGIN:VEVENT
UID:316@merlemeitus.eu
DTSTART:20230129T180000Z
DTEND:20230129T190000Z
DTSTAMP:20230127T151728Z
URL:https://merlemeitus.eu/events/teraapiline-meditatsioon-zoomis/
SUMMARY:Teraapiline meditatsioon\, Zoomis
DESCRIPTION:Teraapiline meditatsioon tervendab nii sinu keha kui hinge - ai
 tab leida sisemist tasakaalu ja rahu sinu sees. Meditatsiooni ajal salvest
 ub kehasse uus energia\, milles on ruumi ja kergust.\nMinu juhendatud medi
 tatsioonid aitavad sul leida üles sinu päris olemuse\, olla ühenduses i
 seendaga\, oma hingega.\nNiiviisi vaikselt liikudes tunned\, kuidas sinu s
 isemaailm avardub\, energia muutub sinu sees ja tekib ruumi\, et saaksid v
 astu võtta uusi asju oma ellu ja olla kerguses.\nMeditatsiooni ajal liigu
 d õrnalt ja kergelt iseenda sees. See on sinu aeg - lihtsalt vaikuses ise
 endaga\, aeg kus lubad oma kehal ja meelel lõdvestuda.\nSelles lubamise s
 eisundis saab tulla kõik see\, milleks oled valmis\, Universum toetab sin
 d ning asjad hakkavad juhtuma.\nKui saad sellel õhtul enda jaoks kasvõi 
 ühe mõtte või taipamise\, mis sind kõnetab\, siis sinu hing on midagi 
 ära tundnud\, miski käivitub sinus ja see hakkab sind suunama.\nHing arm
 astab tühjust\, aeglust\, avarust\, lihtsust ja vaikust. Olles vaikuses o
 n sul võimalus oma hinge kuulata. Kuulatades oma hinge ja tehes valikuid 
 selle põhjal\, märkad peagi\, kuidas Elu voolab Loojaga ühes rütmis. L
 ooja peab pidu Sinu sees.\n\nMeditatsiooni ajal võid kas istuda või lama
 da mugavalt Sulle sobivas kohas. Varu endale aega umbes üks tund.\nToimum
 iskoht Zoomis\, pühapäeval\, 29. jaanuaril kell 20.00.\nLogi sisse varem
 \, et saaksime ühenduse luua. Kindlasti on sul vajalik väga hea internet
 iühendus. Osale kaamera ja mikrofoniga.\nRegistreerimiseks kirjuta mulle 
 e-posti merle.meitus@gmail.com. Sinu e-postile saadan enne algust Zoomi li
 ngi.\nOsaluspanus 15 eurot.\nOsaluspanus kanda hiljemalt toimumispäeval k
 ella 19.00\,\nkonto: EE561010010306285017 MEITUS MERLE\,\nselgitusse märg
 i oma eesnimi ja kuupäev.\nMeditatsiooni õhtut viib läbi Merle Meitus\,
  tel 511 7563.
END:VEVENT
END:VCALENDAR